Back to the "Multiple platform build/check report"
| Package 74/234 | Hostname | OS | Arch | BUILD | CHECK | BUILD BIN | 
| gaggle 1.6.0 Paul Shannon Last Changed Date: 2007-10-02 17:41:09 -0700 Last Changed Rev: 27709  | lamb1 | Linux (SUSE 10.1) | x86_64 | OK | OK | |
| wellington | Linux (SUSE 9.2) | i686 | OK | OK | ||
| liverpool | Windows Server 2003 R2 (32-bit) | x64 | [ OK ] | OK | OK | |
| pitt | Mac OS X (10.4.10) | i386 | OK | OK | OK | 
| Package: gaggle | 
| Version: 1.6.0 | 
| Command: E:\biocbld\bbs-2.1-bioc\R\bin\R.exe CMD build gaggle | 
| RetCode: 0 | 
| Time: 19.1 seconds | 
| Status: OK | 
| PackageFile: gaggle_1.6.0.tar.gz | 
* checking for file 'gaggle/DESCRIPTION' ... OK
* preparing 'gaggle':
* checking DESCRIPTION meta-information ... OK
* installing the package to re-build vignettes
installing R.css in E:/biocbld/bbs-2.1-bioc/tmpdir/Rinst540463027
---------- Making package gaggle ------------
  adding build stamp to DESCRIPTION
  installing NAMESPACE file and metadata
  installing R files
  installing inst files
  installing man source files
  installing indices
  installing help
 >>> Building/Updating help pages for package 'gaggle'
     Formats: text html latex example chm 
  broadcast                         text    html    latex           chm
  gaggleInit                        text    html    latex           chm
  geese                             text    html    latex           chm
  getCluster                        text    html    latex           chm
  getHashMap                        text    html    latex           chm
  getMatrix                         text    html    latex           chm
  getNameList                       text    html    latex           chm
  getNetwork                        text    html    latex           chm
  getSpecies                        text    html    latex           chm
  getTargetGoose                    text    html    latex           chm
  hideGoose                         text    html    latex           chm
  setSpecies                        text    html    latex           chm
  setTargetGoose                    text    html    latex           chm
  showGoose                         text    html    latex           chm
  testGagglePackage                 text    html    latex           chm
Microsoft HTML Help Compiler 4.74.8702
Compiling e:\biocbld\bbs-2.1-bioc\meat\gaggle\chm\gaggle.chm
Compile time: 0 minutes, 0 seconds
16	Topics
72	Local links
0	Internet links
1	Graphic
Created e:\biocbld\bbs-2.1-bioc\meat\gaggle\chm\gaggle.chm, 24,949 bytes
Compression decreased file by 9,659 bytes.
  adding MD5 sums
* DONE (gaggle)
* creating vignettes ... OK
* removing junk files
* checking for LF line-endings in source and make files
* checking for empty or unneeded directories
* building 'gaggle_1.6.0.tar.gz'