Back to the "Multiple platform build/check report"
| Package 67/234 | Hostname | OS | Arch | BUILD | CHECK | BUILD BIN |
| exonmap 1.2.01 Michal Okoniewski Last Changed Date: 2007-10-05 12:38:25 -0700 Last Changed Rev: 27788 | lamb1 | Linux (SUSE 10.1) | x86_64 | OK | OK | |
| wellington | Linux (SUSE 9.2) | i686 | N O T S U P P O R T E D | |||
| liverpool | Windows Server 2003 R2 (32-bit) | x64 | OK | ERROR | [ ERROR ] | |
| pitt | Mac OS X (10.4.10) | i386 | OK | OK | OK | |
| Package: exonmap |
| Version: 1.2.01 |
| Command: E:\biocbld\bbs-2.1-bioc\R\bin\R.exe CMD INSTALL --build --library=exonmap.buildbin-libdir exonmap_1.2.01.tar.gz |
| RetCode: 1 |
| Time: 22.2 seconds |
| Status: ERROR |
| PackageFile: None |
installing R.css in E:/biocbld/bbs-2.1-bioc/meat/exonmap.buildbin-libdir
Using auto-selected zip options ' exonmap-HELP=ziponly'
---------- Making package exonmap ------------
adding build stamp to DESCRIPTION
installing R files
installing inst files
installing data files
installing man source files
installing indices
not zipping data
installing help
>>> Building/Updating help pages for package 'exonmap'
Formats: text html latex example chm
PC-class text html latex example chm
Splanova-class text html latex example chm
X.toY text html latex example chm
array.subset text html latex example chm
gene.details text html latex example chm
gene.legend text html latex example chm
gene.strip text html latex example chm
gene.to.exon.probeset text html latex example chm
group.indices text html latex example chm
pc text html latex example chm
plot.gene text html latex example chm
plot.gene.graph text html latex example chm
probeset.stats text html latex example chm
probesets.in.range text html latex example chm
read.exon text html latex example chm
select.probewise text html latex example chm
splanova text html latex example chm
splicing.index text html latex example chm
x.rma text html latex chm
xmapBridge text html latex example chm
xmapDatabase text html latex example chm
xmapGene text html latex example chm
zipping help files
Microsoft HTML Help Compiler 4.74.8702
Compiling e:\biocbld\bbs-2.1-bioc\meat\R.INSTALL.1800\exonmap\chm\exonmap.chm
Compile time: 0 minutes, 1 second
23 Topics
108 Local links
19 Internet links
1 Graphic
Created e:\biocbld\bbs-2.1-bioc\meat\R.INSTALL.1800\exonmap\chm\exonmap.chm, 48,238 bytes
Compression decreased file by 50,249 bytes.
preparing package exonmap for lazy loading
Loading required package: affy
Loading required package: Biobase
Loading required package: tools
Welcome to Bioconductor
Vignettes contain introductory material. To view, type
'openVignette()'. To cite Bioconductor, see
'citation("Biobase")' and for packages 'citation(pkgname)'.
Loading required package: affyio
Loading required package: preprocessCore
Loading required package: simpleaffy
Loading required package: genefilter
Loading required package: survival
Loading required package: splines
Loading required package: gcrma
Loading required package: matchprobes
Loading required package: RColorBrewer
Error: package 'RMySQL' 0.5-11 was found, but >= 0.6.0 is required by 'exonmap'
Execution halted
make: *** [lazyload] Error 1
*** Installation of exonmap failed ***
Removing 'E:/biocbld/bbs-2.1-bioc/meat/exonmap.buildbin-libdir/exonmap'