Back to the "Multiple platform build/check report"
| Package 156/234 | Hostname | OS | Arch | BUILD | CHECK | BUILD BIN |
| pathRender 1.6.0 Li Long Last Changed Date: 2007-10-02 17:41:09 -0700 Last Changed Rev: 27709 | lamb1 | Linux (SUSE 10.1) | x86_64 | OK | OK | |
| wellington | Linux (SUSE 9.2) | i686 | OK | OK | ||
| liverpool | Windows Server 2003 R2 (32-bit) | x64 | OK | WARNINGS | [ OK ] | |
| pitt | Mac OS X (10.4.10) | i386 | OK | OK | OK |
| Package: pathRender |
| Version: 1.6.0 |
| Command: E:\biocbld\bbs-2.1-bioc\R\bin\R.exe CMD INSTALL --build --library=pathRender.buildbin-libdir pathRender_1.6.0.tar.gz |
| RetCode: 0 |
| Time: 17.0 seconds |
| Status: OK |
| PackageFile: pathRender_1.6.0.zip |
installing R.css in E:/biocbld/bbs-2.1-bioc/meat/pathRender.buildbin-libdir
Using auto-selected zip options ''
---------- Making package pathRender ------------
adding build stamp to DESCRIPTION
installing NAMESPACE file and metadata
installing R files
installing inst files
preparing package pathRender for lazy loading
Loading required package: graph
Loading required package: Rgraphviz
Loading required package: cMAP
installing man source files
installing indices
installing help
>>> Building/Updating help pages for package 'pathRender'
Formats: text html latex example chm
graphcMAP text html latex example chm
pwayGraph-class text html latex example chm
missing link(s): graphNEL-class graph-class
rendercMAP text html latex example chm
Microsoft HTML Help Compiler 4.74.8702
Compiling e:\biocbld\bbs-2.1-bioc\meat\R.INSTALL.2532\pathRender\chm\pathRender.chm
Compile time: 0 minutes, 0 seconds
4 Topics
7 Local links
0 Internet links
1 Graphic
Created e:\biocbld\bbs-2.1-bioc\meat\R.INSTALL.2532\pathRender\chm\pathRender.chm, 19,007 bytes
Compression increased file by 5,882 bytes.
adding MD5 sums
packaged installation of package 'pathRender' as pathRender_1.6.0.zip
* DONE (pathRender)