Back to the "Multiple platform build/check report"
| Package 66/234 | Hostname | OS | Arch | BUILD | CHECK | BUILD BIN | 
| edd 1.16.0 Vince Carey Last Changed Date: 2007-10-02 17:41:09 -0700 Last Changed Rev: 27709  | lamb1 | Linux (SUSE 10.1) | x86_64 | OK | OK | |
| wellington | Linux (SUSE 9.2) | i686 | OK | OK | ||
| liverpool | Windows Server 2003 R2 (32-bit) | x64 | OK | OK | OK | |
| pitt | Mac OS X (10.4.10) | i386 | OK | OK | [ OK ] | 
| Package: edd | 
| Version: 1.16.0 | 
| Command: /Users/biocbuild/BBS/utils/build-universal.sh edd_1.16.0.tar.gz /Library/Frameworks/R.framework/Resources/bin/R edd.buildbin-libdir | 
| RetCode: 0 | 
| Time: 5.0 seconds | 
| Status: OK | 
| PackageFile: edd_1.16.0.tgz | 
                    INSTALLATION WITH 'R CMD INSTALL edd_1.16.0.tar.gz'
* Installing to library 'edd.buildbin-libdir'
* Installing *source* package 'edd' ...
** R
** inst
** preparing package for lazy loading
Loading required package: golubEsets
Loading required package: Biobase
Loading required package: tools
Welcome to Bioconductor
  Vignettes contain introductory material. To view, type
  'openVignette()'. To cite Bioconductor, see
  'citation("Biobase")' and for packages 'citation(pkgname)'.
Loading required package: class
Loading required package: nnet
Loading required package: xtable
** help
Note: unmatched right brace in 'eddObsolete' on or after line 54
 >>> Building/Updating help pages for package 'edd'
     Formats: text html latex example 
  centerScale                       text    html    latex   example
  edd                               text    html    latex   example
  eddDist-class                     text    html    latex   example
  eddObsolete                       text    html    latex   example
  flatQQNorm                        text    html    latex   example
  latEDtable                        text    html    latex   example
  makeCandmat.raw                   text    html    latex   example
  maxKSp                            text    html    latex   example
  plotED                            text    html    latex   example
** building package indices ...
* DONE (edd)