Back to the "Multiple platform build/check report"
| Package 63/234 | Hostname | OS | Arch | BUILD | CHECK | BUILD BIN | 
| EBarrays 2.2.0 Ming Yuan Last Changed Date: 2007-10-02 17:41:09 -0700 Last Changed Rev: 27709  | lamb1 | Linux (SUSE 10.1) | x86_64 | OK | OK | |
| wellington | Linux (SUSE 9.2) | i686 | OK | OK | ||
| liverpool | Windows Server 2003 R2 (32-bit) | x64 | OK | [ OK ] | OK | |
| pitt | Mac OS X (10.4.10) | i386 | OK | OK | OK | 
| Package: EBarrays | 
| Version: 2.2.0 | 
| Command: E:\biocbld\bbs-2.1-bioc\R\bin\R.exe CMD check EBarrays_2.2.0.tar.gz | 
| RetCode: 0 | 
| Time: 214.2 seconds | 
| Status: OK | 
| CheckDir: EBarrays.Rcheck | 
| Warnings: 0 | 
* checking for working latex ... OK * using log directory 'E:/biocbld/bbs-2.1-bioc/meat/EBarrays.Rcheck' * using R version 2.6.0 (2007-10-03) * checking for file 'EBarrays/DESCRIPTION' ... OK * this is package 'EBarrays' version '2.2.0' * checking package dependencies ... OK * checking if this is a source package ... OK * checking whether package 'EBarrays' can be installed ... OK * checking package directory ... OK * checking for portable file names ... OK * checking DESCRIPTION meta-information ... OK * checking top-level files ... OK * checking index information ... OK * checking package subdirectories ... OK * checking R files for non-ASCII characters ... OK * checking R files for syntax errors ... OK * checking whether the package can be loaded ... OK * checking whether the package can be loaded with stated dependencies ... OK * checking for unstated dependencies in R code ... OK * checking S3 generic/method consistency ... OK * checking replacement functions ... OK * checking foreign function calls ... OK * checking R code for possible problems ... OK * checking Rd files ... OK * checking Rd cross-references ... OK * checking for missing documentation entries ... OK * checking for code/documentation mismatches ... OK * checking Rd \usage sections ... OK * checking data for non-ASCII characters ... OK * checking line endings in C/C++/Fortran sources/headers ... OK * checking line endings in Makefiles ... OK * checking for portable use of $BLAS_LIBS ... OK * creating EBarrays-Ex.R ... OK * checking examples ... OK * checking tests ... make[1]: Entering directory `/cygdrive/e/biocbld/bbs-2.1-bioc/meat/EBarrays.Rcheck/tests' Running 'test.R' make[1]: Leaving directory `/cygdrive/e/biocbld/bbs-2.1-bioc/meat/EBarrays.Rcheck/tests' OK * checking package vignettes in 'inst/doc' ... OK * creating EBarrays-manual.tex ... OK * checking EBarrays-manual.tex ... OK
EBarrays.Rcheck/00install.out:
installing R.css in E:/biocbld/bbs-2.1-bioc/meat/EBarrays.Rcheck
---------- Making package EBarrays ------------
  adding build stamp to DESCRIPTION
  making DLL ...
making ebarrays.d from ebarrays.c
gcc-sjlj  -std=gnu99  -Ie:/biocbld/bbs-2.1-bioc/R/include    -Wall -O3  -c ebarrays.c -o ebarrays.o
windres --preprocessor="gcc-sjlj -E -xc -DRC_INVOKED" -I e:/biocbld/bbs-2.1-bioc/R/include  -i EBarrays_res.rc -o EBarrays_res.o
gcc-sjlj  -std=gnu99  -shared -s  -o EBarrays.dll EBarrays.def ebarrays.o EBarrays_res.o  -Le:/biocbld/bbs-2.1-bioc/R/bin    -lR
  ... DLL made
  installing DLL
  installing R files
  installing demos
  installing inst files
  installing data files
  installing man source files
  installing indices
  not zipping data
  installing help
Note: unmatched right brace in 'postprob' on or after line 66
Note: unmatched right brace in 'postprob.Rd' on or after line 66
 >>> Building/Updating help pages for package 'EBarrays'
     Formats: text html latex example chm 
  EBarrays-Internal                 text    html    latex           chm
  crit.fun                          text    html    latex   example chm
  ebarraysFamily-class              text    html    latex   example chm
  ebplots                           text    html    latex   example chm
  emfit                             text    html    latex   example chm
  gould                             text    html    latex   example chm
  postprob                          text    html    latex   example chm
  utilities                         text    html    latex   example chm
Microsoft HTML Help Compiler 4.74.8702
Compiling e:\biocbld\bbs-2.1-bioc\meat\EBarrays.Rcheck\00_pkg_src\EBarrays\chm\EBarrays.chm
Compile time: 0 minutes, 0 seconds
9	Topics
54	Local links
0	Internet links
1	Graphic
Created e:\biocbld\bbs-2.1-bioc\meat\EBarrays.Rcheck\00_pkg_src\EBarrays\chm\EBarrays.chm, 34,253 bytes
Compression decreased file by 17,031 bytes.
  preparing package EBarrays for lazy loading
Loading required package: Biobase
Loading required package: tools
Welcome to Bioconductor
  Vignettes contain introductory material. To view, type
  'openVignette()'. To cite Bioconductor, see
  'citation("Biobase")' and for packages 'citation(pkgname)'.
Loading required package: lattice
Loading required package: cluster
  adding MD5 sums
* DONE (EBarrays)