Back to the "Multiple platform build/check report"
| Package 98/234 | Hostname | OS | Arch | BUILD | CHECK | BUILD BIN |
| Harshlight 1.8.0 Maurizio Pellegrino Last Changed Date: 2007-10-02 17:41:09 -0700 Last Changed Rev: 27709 | lamb1 | Linux (SUSE 10.1) | x86_64 | OK | OK | |
| wellington | Linux (SUSE 9.2) | i686 | OK | OK | ||
| liverpool | Windows Server 2003 R2 (32-bit) | x64 | OK | OK | OK | |
| pitt | Mac OS X (10.4.10) | i386 | [ OK ] | OK | OK |
| Package: Harshlight |
| Version: 1.8.0 |
| Command: /Library/Frameworks/R.framework/Resources/bin/R CMD build Harshlight |
| RetCode: 0 |
| Time: 13.3 seconds |
| Status: OK |
| PackageFile: Harshlight_1.8.0.tar.gz |
* checking for file 'Harshlight/DESCRIPTION' ... OK
* preparing 'Harshlight':
* checking DESCRIPTION meta-information ... OK
* cleaning src
* installing the package to re-build vignettes
* Installing *source* package 'Harshlight' ...
** libs
** arch - i386
gcc-4.0 -arch i386 -isysroot /Developer/SDKs/MacOSX10.4u.sdk -std=gnu99 -no-cpp-precomp -I/Library/Frameworks/R.framework/Resources/include -I/Library/Frameworks/R.framework/Resources/include/i386 -msse3 -fPIC -g -O2 -Wall -march=nocona -c Harshlight.c -o Harshlight.o
Harshlight.c: In function 'norm':
Harshlight.c:1316: warning: unused variable 'sorted2'
Harshlight.c: In function 'report_overall_header':
Harshlight.c:1467: warning: unknown conversion type character ')' in format
Harshlight.c:1471: warning: unknown conversion type character ')' in format
Harshlight.c:1474: warning: unknown conversion type character ')' in format
Harshlight.c: In function 'chip_summary':
Harshlight.c:1532: warning: unknown conversion type character ')' in format
Harshlight.c:1542: warning: unknown conversion type character ')' in format
Harshlight.c:1543: warning: unknown conversion type character ')' in format
Harshlight.c: In function 'extended_stop':
Harshlight.c:1555: warning: unknown conversion type character ')' in format
gcc-4.0 -arch i386 -isysroot /Developer/SDKs/MacOSX10.4u.sdk -std=gnu99 -dynamiclib -Wl,-macosx_version_min -Wl,10.3 -undefined dynamic_lookup -single_module -multiply_defined suppress -L/usr/local/lib -o Harshlight.so Harshlight.o -F/Library/Frameworks/R.framework/.. -framework R
** arch - ppc
gcc-4.0 -arch ppc -isysroot /Developer/SDKs/MacOSX10.4u.sdk -std=gnu99 -no-cpp-precomp -I/Library/Frameworks/R.framework/Resources/include -I/Library/Frameworks/R.framework/Resources/include/ppc -I/usr/local/include -fPIC -g -O2 -Wall -c Harshlight.c -o Harshlight.o
Harshlight.c: In function 'norm':
Harshlight.c:1316: warning: unused variable 'sorted2'
Harshlight.c: In function 'report_overall_header':
Harshlight.c:1467: warning: unknown conversion type character ')' in format
Harshlight.c:1471: warning: unknown conversion type character ')' in format
Harshlight.c:1474: warning: unknown conversion type character ')' in format
Harshlight.c: In function 'chip_summary':
Harshlight.c:1532: warning: unknown conversion type character ')' in format
Harshlight.c:1542: warning: unknown conversion type character ')' in format
Harshlight.c:1543: warning: unknown conversion type character ')' in format
Harshlight.c: In function 'extended_stop':
Harshlight.c:1555: warning: unknown conversion type character ')' in format
gcc-4.0 -arch ppc -isysroot /Developer/SDKs/MacOSX10.4u.sdk -std=gnu99 -dynamiclib -Wl,-macosx_version_min -Wl,10.3 -undefined dynamic_lookup -single_module -multiply_defined suppress -L/usr/local/lib -o Harshlight.so Harshlight.o -F/Library/Frameworks/R.framework/.. -framework R
** R
** data
** inst
** preparing package for lazy loading
Loading required package: affy
Loading required package: Biobase
Loading required package: tools
Welcome to Bioconductor
Vignettes contain introductory material. To view, type
'openVignette()'. To cite Bioconductor, see
'citation("Biobase")' and for packages 'citation(pkgname)'.
Loading required package: affyio
Loading required package: preprocessCore
Loading required package: altcdfenvs
Loading required package: matchprobes
Loading required package: makecdfenv
** help
>>> Building/Updating help pages for package 'Harshlight'
Formats: text html latex example
HarshComp text html latex
HarshExt text html latex
Harshlight text html latex example
sim text html latex
** building package indices ...
* DONE (Harshlight)
* creating vignettes ... OK
* cleaning src
* removing junk files
* checking for LF line-endings in source and make files
file 'Harshlight/src/Harshlight.c' had non-LF line endings
* checking for empty or unneeded directories
* building 'Harshlight_1.8.0.tar.gz'