Back to the "Multiple platform build/check report"
| Package 195/234 | Hostname | OS | Arch | BUILD | CHECK | BUILD BIN |
| Ruuid 1.16.1 Biocore Team c/o BioC user list Last Changed Date: 2007-10-06 15:08:14 -0700 Last Changed Rev: 27821 | lamb1 | Linux (SUSE 10.1) | x86_64 | OK | OK | |
| wellington | Linux (SUSE 9.2) | i686 | OK | OK | ||
| liverpool | Windows Server 2003 R2 (32-bit) | x64 | OK | [ OK ] | OK | |
| pitt | Mac OS X (10.4.10) | i386 | OK | OK | OK |
| Package: Ruuid |
| Version: 1.16.1 |
| Command: E:\biocbld\bbs-2.1-bioc\R\bin\R.exe CMD check Ruuid_1.16.1.tar.gz |
| RetCode: 0 |
| Time: 39.9 seconds |
| Status: OK |
| CheckDir: Ruuid.Rcheck |
| Warnings: 0 |
* checking for working latex ... OK * using log directory 'E:/biocbld/bbs-2.1-bioc/meat/Ruuid.Rcheck' * using R version 2.6.0 (2007-10-03) * checking for file 'Ruuid/DESCRIPTION' ... OK * this is package 'Ruuid' version '1.16.1' * checking package name space information ... OK * checking package dependencies ... OK * checking if this is a source package ... OK * checking whether package 'Ruuid' can be installed ... OK * checking package directory ... OK * checking for portable file names ... OK * checking DESCRIPTION meta-information ... OK * checking top-level files ... OK * checking index information ... OK * checking package subdirectories ... OK * checking R files for non-ASCII characters ... OK * checking R files for syntax errors ... OK * checking whether the package can be loaded ... OK * checking whether the package can be loaded with stated dependencies ... OK * checking whether the name space can be loaded with stated dependencies ... OK * checking for unstated dependencies in R code ... OK * checking S3 generic/method consistency ... OK * checking replacement functions ... OK * checking foreign function calls ... OK * checking R code for possible problems ... OK * checking Rd files ... OK * checking Rd cross-references ... OK * checking for missing documentation entries ... OK * checking for code/documentation mismatches ... OK * checking Rd \usage sections ... OK * checking line endings in C/C++/Fortran sources/headers ... OK * checking line endings in Makefiles ... OK * checking for portable compilation flags in Makevars ... OK * checking for portable use of $BLAS_LIBS ... OK * creating Ruuid-Ex.R ... OK * checking examples ... OK * checking package vignettes in 'inst/doc' ... OK * creating Ruuid-manual.tex ... OK * checking Ruuid-manual.tex ... OK
Ruuid.Rcheck/00install.out:
installing R.css in E:/biocbld/bbs-2.1-bioc/meat/Ruuid.Rcheck
---------- Making package Ruuid ------------
**********************************************
WARNING: this package has a configure script
It probably needs manual configuration
**********************************************
adding build stamp to DESCRIPTION
installing NAMESPACE file and metadata
running src/Makefile.win ...
gcc-sjlj -std=gnu99 -Ie:/biocbld/bbs-2.1-bioc/R/src/include -O2 -DWin32 -c Ruuid.c -o Ruuid.o
gcc-sjlj -std=gnu99 -Ie:/biocbld/bbs-2.1-bioc/R/src/include -O2 -DWin32 -c pack.c -o pack.o
gcc-sjlj -std=gnu99 -Ie:/biocbld/bbs-2.1-bioc/R/src/include -O2 -DWin32 -c parse.c -o parse.o
gcc-sjlj -std=gnu99 -Ie:/biocbld/bbs-2.1-bioc/R/src/include -O2 -DWin32 -c Rinit.c -o Rinit.o
gcc-sjlj -std=gnu99 -Ie:/biocbld/bbs-2.1-bioc/R/src/include -O2 -DWin32 -c unpack.c -o unpack.o
gcc-sjlj -std=gnu99 -Ie:/biocbld/bbs-2.1-bioc/R/src/include -O2 -DWin32 -c unparse.c -o unparse.o
rm -f -f Ruuid.a
ar cr Ruuid.a *.o
ranlib Ruuid.a
gcc-sjlj -std=gnu99 -shared -o Ruuid.dll Ruuid.def Ruuid.a -Le:/biocbld/bbs-2.1-bioc/R/bin -lrpcrt4 -lR
... done
installing DLL
installing R files
installing inst files
preparing package Ruuid for lazy loading
installing man source files
installing indices
installing help
>>> Building/Updating help pages for package 'Ruuid'
Formats: text html latex example chm
Ruuid-class text html latex example chm
getuuid text html latex example chm
uuidt-class text html latex example chm
Microsoft HTML Help Compiler 4.74.8702
Compiling e:\biocbld\bbs-2.1-bioc\meat\Ruuid.Rcheck\00_pkg_src\Ruuid\chm\Ruuid.chm
Compile time: 0 minutes, 0 seconds
4 Topics
24 Local links
3 Internet links
1 Graphic
Created e:\biocbld\bbs-2.1-bioc\meat\Ruuid.Rcheck\00_pkg_src\Ruuid\chm\Ruuid.chm, 18,670 bytes
Compression increased file by 1,958 bytes.
adding MD5 sums
* DONE (Ruuid)