Back to the "Multiple platform build/check report"
| Package 163/234 | Hostname | OS | Arch | BUILD | CHECK | BUILD BIN |
| pickgene 1.10.0 Brian S. Yandell Last Changed Date: 2007-10-02 17:41:09 -0700 Last Changed Rev: 27709 | lamb1 | Linux (SUSE 10.1) | x86_64 | OK | OK | |
| wellington | Linux (SUSE 9.2) | i686 | OK | OK | ||
| liverpool | Windows Server 2003 R2 (32-bit) | x64 | [ OK ] | OK | OK | |
| pitt | Mac OS X (10.4.10) | i386 | OK | OK | OK |
| Package: pickgene |
| Version: 1.10.0 |
| Command: E:\biocbld\bbs-2.1-bioc\R\bin\R.exe CMD build pickgene |
| RetCode: 0 |
| Time: 36.4 seconds |
| Status: OK |
| PackageFile: pickgene_1.10.0.tar.gz |
* checking for file 'pickgene/DESCRIPTION' ... OK
* preparing 'pickgene':
* checking DESCRIPTION meta-information ... OK
* checking whether 'INDEX' is up-to-date ... NO
* use '--force' to overwrite the existing 'INDEX'
* installing the package to re-build vignettes
installing R.css in E:/biocbld/bbs-2.1-bioc/tmpdir/Rinst530091189
---------- Making package pickgene ------------
adding build stamp to DESCRIPTION
installing R files
installing inst files
installing man source files
installing indices
installing help
>>> Building/Updating help pages for package 'pickgene'
Formats: text html latex example chm
Simulation.pickgene text html latex example chm
em.ggb text html latex example chm
model.pickgene text html latex example chm
oddsplot text html latex example chm
pickgene-internal text html latex chm
pickgene text html latex example chm
robustscale text html latex example chm
Microsoft HTML Help Compiler 4.74.8702
Compiling e:\biocbld\bbs-2.1-bioc\meat\pickgene\chm\pickgene.chm
Compile time: 0 minutes, 1 second
8 Topics
16 Local links
0 Internet links
1 Graphic
Created e:\biocbld\bbs-2.1-bioc\meat\pickgene\chm\pickgene.chm, 30,659 bytes
Compression decreased file by 11,724 bytes.
preparing package pickgene for lazy loading
Loading required package: MASS
adding MD5 sums
* DONE (pickgene)
* creating vignettes ... OK
* removing junk files
* checking for LF line-endings in source and make files
* checking for empty or unneeded directories
* building 'pickgene_1.10.0.tar.gz'