Back to the "Multiple platform build/check report"
| Package 135/234 | Hostname | OS | Arch | BUILD | CHECK | BUILD BIN | 
| MergeMaid 2.10.0 Xiaogang Zhong Last Changed Date: 2007-10-02 17:41:09 -0700 Last Changed Rev: 27709  | lamb1 | Linux (SUSE 10.1) | x86_64 | OK | OK | |
| wellington | Linux (SUSE 9.2) | i686 | OK | OK | ||
| liverpool | Windows Server 2003 R2 (32-bit) | x64 | [ OK ] | OK | OK | |
| pitt | Mac OS X (10.4.10) | i386 | OK | OK | OK | 
| Package: MergeMaid | 
| Version: 2.10.0 | 
| Command: E:\biocbld\bbs-2.1-bioc\R\bin\R.exe CMD build MergeMaid | 
| RetCode: 0 | 
| Time: 24.6 seconds | 
| Status: OK | 
| PackageFile: MergeMaid_2.10.0.tar.gz | 
* checking for file 'MergeMaid/DESCRIPTION' ... OK
* preparing 'MergeMaid':
* checking DESCRIPTION meta-information ... OK
* checking whether 'INDEX' is up-to-date ... NO
* use '--force' to overwrite the existing 'INDEX'
* installing the package to re-build vignettes
installing R.css in E:/biocbld/bbs-2.1-bioc/tmpdir/Rinst577639508
---------- Making package MergeMaid ------------
  adding build stamp to DESCRIPTION
  installing NAMESPACE file and metadata
  installing R files
  installing inst files
  installing data files
  installing man source files
  installing indices
  not zipping data
  installing help
 >>> Building/Updating help pages for package 'MergeMaid'
     Formats: text html latex example chm 
  class.mergeCoeff                  text    html    latex   example chm
  class.mergeCor                    text    html    latex   example chm
  class.mergeExpressionSet          text    html    latex   example chm
  intCor                            text    html    latex   example chm
  intcorDens                        text    html    latex   example chm
  intersection                      text    html    latex   example chm
  mergeData                         text    html    latex           chm
  mergeExprs                        text    html    latex   example chm
  modelOutcome                      text    html    latex   example chm
Microsoft HTML Help Compiler 4.74.8702
Compiling e:\biocbld\bbs-2.1-bioc\meat\MergeMaid\chm\MergeMaid.chm
Compile time: 0 minutes, 1 second
10	Topics
93	Local links
0	Internet links
1	Graphic
Created e:\biocbld\bbs-2.1-bioc\meat\MergeMaid\chm\MergeMaid.chm, 29,626 bytes
Compression decreased file by 27,658 bytes.
  preparing package MergeMaid for lazy loading
Loading required package: survival
Loading required package: splines
Loading required package: Biobase
Loading required package: tools
Welcome to Bioconductor
  Vignettes contain introductory material. To view, type
  'openVignette()'. To cite Bioconductor, see
  'citation("Biobase")' and for packages 'citation(pkgname)'.
Loading required package: MASS
Creating a new generic function for "plot" in "MergeMaid"
Creating a new generic function for "hist" in "MergeMaid"
Creating a new generic function for "summary" in "MergeMaid"
  adding MD5 sums
* DONE (MergeMaid)
* creating vignettes ... OK
* removing junk files
* checking for LF line-endings in source and make files
* checking for empty or unneeded directories
* building 'MergeMaid_2.10.0.tar.gz'