Back to the "Multiple platform build/check report"
| Package 109/234 | Hostname | OS | Arch | BUILD | CHECK | BUILD BIN |
| keggorth 1.0.0 VJ Carey Last Changed Date: 2007-10-05 18:31:53 -0700 Last Changed Rev: 27814 | lamb1 | Linux (SUSE 10.1) | x86_64 | OK | OK | |
| wellington | Linux (SUSE 9.2) | i686 | OK | OK | ||
| liverpool | Windows Server 2003 R2 (32-bit) | x64 | [ OK ] | OK | OK | |
| pitt | Mac OS X (10.4.10) | i386 | OK | OK | OK |
| Package: keggorth |
| Version: 1.0.0 |
| Command: E:\biocbld\bbs-2.1-bioc\R\bin\R.exe CMD build keggorth |
| RetCode: 0 |
| Time: 21.3 seconds |
| Status: OK |
| PackageFile: keggorth_1.0.0.tar.gz |
* checking for file 'keggorth/DESCRIPTION' ... OK
* preparing 'keggorth':
* checking DESCRIPTION meta-information ... OK
* installing the package to re-build vignettes
installing R.css in E:/biocbld/bbs-2.1-bioc/tmpdir/Rinst479277325
---------- Making package keggorth ------------
adding build stamp to DESCRIPTION
installing R files
installing inst files
installing data files
installing man source files
installing indices
not zipping data
installing help
>>> Building/Updating help pages for package 'keggorth'
Formats: text html latex example chm
getKOprobes text html latex example chm
indRender text html latex example chm
keggDF2graph text html latex example chm
Microsoft HTML Help Compiler 4.74.8702
Compiling e:\biocbld\bbs-2.1-bioc\meat\keggorth\chm\keggorth.chm
Compile time: 0 minutes, 0 seconds
4 Topics
10 Local links
0 Internet links
1 Graphic
Created e:\biocbld\bbs-2.1-bioc\meat\keggorth\chm\keggorth.chm, 18,849 bytes
Compression increased file by 5,438 bytes.
adding MD5 sums
* DONE (keggorth)
* creating vignettes ... OK
* removing junk files
* checking for LF line-endings in source and make files
* checking for empty or unneeded directories
* building 'keggorth_1.0.0.tar.gz'