Back to the "Multiple platform build/check report"
| Package 22/234 | Hostname | OS | Arch | BUILD | CHECK | BUILD BIN |
| aroma.light 1.6.0 Henrik Bengtsson Last Changed Date: 2007-10-02 17:41:09 -0700 Last Changed Rev: 27709 | lamb1 | Linux (SUSE 10.1) | x86_64 | OK | OK | |
| wellington | Linux (SUSE 9.2) | i686 | OK | OK | ||
| liverpool | Windows Server 2003 R2 (32-bit) | x64 | [ OK ] | OK | OK | |
| pitt | Mac OS X (10.4.10) | i386 | OK | OK | OK |
| Package: aroma.light |
| Version: 1.6.0 |
| Command: E:\biocbld\bbs-2.1-bioc\R\bin\R.exe CMD build aroma.light |
| RetCode: 0 |
| Time: 3.8 seconds |
| Status: OK |
| PackageFile: aroma.light_1.6.0.tar.gz |
* checking for file 'aroma.light/DESCRIPTION' ... OK * preparing 'aroma.light': * checking DESCRIPTION meta-information ... OK * removing junk files * checking for LF line-endings in source and make files * checking for empty or unneeded directories * building 'aroma.light_1.6.0.tar.gz'