Back to the "Multiple platform build/check report"
| Package 231/234 | Hostname | OS | Arch | BUILD | CHECK | BUILD BIN | 
| webbioc 1.10.0 Colin A. Smith Last Changed Date: 2007-10-02 17:41:09 -0700 Last Changed Rev: 27709  | lamb1 | Linux (SUSE 10.1) | x86_64 | [ OK ] | OK | |
| wellington | Linux (SUSE 9.2) | i686 | OK | OK | ||
| liverpool | Windows Server 2003 R2 (32-bit) | x64 | OK | OK | OK | |
| pitt | Mac OS X (10.4.10) | i386 | OK | OK | OK | 
| Package: webbioc | 
| Version: 1.10.0 | 
| Command: /home/biocbuild/bbs-2.1-bioc/R/bin/R CMD build webbioc | 
| RetCode: 0 | 
| Time: 5.5 seconds | 
| Status: OK | 
| PackageFile: webbioc_1.10.0.tar.gz | 
* checking for file 'webbioc/DESCRIPTION' ... OK
* preparing 'webbioc':
* checking DESCRIPTION meta-information ... OK
* installing the package to re-build vignettes
* Installing *source* package 'webbioc' ...
** R
** inst
** preparing package for lazy loading
Loading required package: Biobase
Loading required package: tools
Welcome to Bioconductor
  Vignettes contain introductory material. To view, type
  'openVignette()'. To cite Bioconductor, see
  'citation("Biobase")' and for packages 'citation(pkgname)'.
Loading required package: affy
Loading required package: affyio
Loading required package: preprocessCore
Loading required package: multtest
Loading required package: survival
Loading required package: splines
Loading required package: annaffy
Loading required package: GO
Loading required package: KEGG
Loading required package: vsn
Loading required package: limma
Loading required package: gcrma
Loading required package: matchprobes
Loading required package: qvalue
Loading required package: tcltk
Loading Tcl/Tk interface ... done
** help
Note: unmatched right brace in 'mt.wrapper' on or after line 84
 >>> Building/Updating help pages for package 'webbioc'
     Formats: text html latex example 
  installReps                       text    html    latex
  mt.wrapper                        text    html    latex
** building package indices ...
* DONE (webbioc)
* creating vignettes ... OK
* removing junk files
* checking for LF line-endings in source and make files
* checking for empty or unneeded directories
* building 'webbioc_1.10.0.tar.gz'