This page was generated on 2025-10-30 14:25 -0400 (Thu, 30 Oct 2025).
| 
 | |
| See this page for all the Bioconductor builds and their schedule. | 
| Hostname | OS | Arch (*) | R version | Installed pkgs | 
|---|---|---|---|---|
| teran2 | Linux (Ubuntu 24.04.3 LTS) | x86_64 | 4.5.1 (2025-06-13) -- "Great Square Root" | 896 | 
| Click on any hostname to see more info about the system (e.g. compilers) (*) as reported by 'uname -p', except on Windows and Mac OS X | ||||
| QUICK STATS | OS / Arch | INSTALL | BUILD | CHECK | |||||||||||||
| teran2 | Linux (Ubuntu 24.04.3 LTS) / x86_64 | 
 | 
 | 
 | |||||||||||||
| Package | Maintainer | INSTALL | BUILD | CHECK | |||||||||||||
| 1/229 | affxparser 1.83.0 (landing page) | Kasper Daniel Hansen | OK | OK | WARNINGS | ||||||||||||
| 2/229 | affy 1.89.0 (landing page) | Robert D. Shear | OK | OK | WARNINGS | ||||||||||||
| 3/229 | affyio 1.81.0 (landing page) | Ben Bolstad | OK | OK | WARNINGS | ||||||||||||
| 4/229 | affyPLM 1.87.0 (landing page) | Ben Bolstad | OK | OK | WARNINGS | ||||||||||||
| 5/229 | alabaster.base 1.11.0 (landing page) | Aaron Lun | OK | OK | WARNINGS | ||||||||||||
| 6/229 | alabaster.matrix 1.11.0 (landing page) | Aaron Lun | OK | OK | OK | ||||||||||||
| 7/229 | alabaster.ranges 1.11.0 (landing page) | Aaron Lun | OK | OK | OK | ||||||||||||
| 8/229 | alabaster.sce 1.11.0 (landing page) | Aaron Lun | OK | OK | OK | ||||||||||||
| 9/229 | alabaster.schemas 1.11.0 (landing page) | Aaron Lun | OK | OK | OK | ||||||||||||
| 10/229 | alabaster.se 1.11.0 (landing page) | Aaron Lun | OK | OK | OK | ||||||||||||
| 11/229 | annotate 1.89.0 (landing page) | Bioconductor Package Maintainer | OK | OK | OK | ||||||||||||
| 12/229 | AnnotationDbi 1.73.0 (landing page) | Bioconductor Package Maintainer | OK | ERROR | skipped | ||||||||||||
| 13/229 | AnnotationFilter 1.35.0 (landing page) | Bioconductor Package Maintainer | OK | OK | OK | ||||||||||||
| 14/229 | AnnotationForge 1.53.0 (landing page) | Bioconductor Package Maintainer | OK | ERROR | skipped | ||||||||||||
| 15/229 | AnnotationHub 4.1.0 (landing page) | Bioconductor Package Maintainer | ERROR | ERROR | skipped | ||||||||||||
| 16/229 | AnnotationHubData 1.41.0 (landing page) | Bioconductor Package Maintainer | ERROR | ERROR | skipped | ||||||||||||
| 17/229 | apeglm 1.33.0 (landing page) | Anqi Zhu | OK | OK | OK | ||||||||||||
| 18/229 | aroma.light 3.41.0 (landing page) | Henrik Bengtsson | OK | OK | OK | ||||||||||||
| 19/229 | assorthead 1.5.0 (landing page) | Aaron Lun | OK | OK | OK | ||||||||||||
| 20/229 | bamsignals 1.43.0 (landing page) | Johannes Helmuth | OK | OK | OK | ||||||||||||
| 21/229 | basilisk 1.23.0 (landing page) | Aaron Lun | OK | OK | OK | ||||||||||||
| 22/229 | basilisk.utils 1.23.0 (landing page) | Aaron Lun | OK | OK | OK | ||||||||||||
| 23/229 | batchelor 1.27.0 (landing page) | Aaron Lun | OK | ERROR | skipped | ||||||||||||
| 24/229 | beachmat 2.27.0 (landing page) | Aaron Lun | OK | OK | OK | ||||||||||||
| 25/229 | beachmat.hdf5 1.9.0 (landing page) | Aaron Lun | OK | OK | WARNINGS | ||||||||||||
| 26/229 | Biobase 2.71.0 (landing page) | Bioconductor Package Maintainer | OK | OK | OK | ||||||||||||
| 27/229 | BiocBaseUtils 1.13.0 (landing page) | Marcel Ramos | OK | OK | OK | ||||||||||||
| 28/229 | BiocCheck 1.47.0 (landing page) | Marcel Ramos | OK | OK | OK | ||||||||||||
| 29/229 | BiocFileCache 3.1.0 (landing page) | Lori Shepherd | OK | ERROR | skipped | ||||||||||||
| 30/229 | BiocGenerics 0.57.0 (landing page) | Hervé Pagès | OK | OK | WARNINGS | ||||||||||||
| 31/229 | BiocIO 1.21.0 (landing page) | Marcel Ramos | OK | OK | OK | ||||||||||||
| 32/229 | biocmake 1.3.0 (landing page) | Aaron Lun | OK | OK | OK | ||||||||||||
| 33/229 | BiocNeighbors 2.5.0 (landing page) | Aaron Lun | OK | OK | OK | ||||||||||||
| 34/229 | BiocParallel 1.45.0 (landing page) | Jiefei Wang | OK | ERROR | skipped | ||||||||||||
| 35/229 | BiocPkgTools 1.29.0 (landing page) | Sean Davis | OK | ERROR | skipped | ||||||||||||
| 36/229 | BiocSingular 1.27.0 (landing page) | Aaron Lun | OK | OK | WARNINGS | ||||||||||||
| 37/229 | BiocStyle 2.39.0 (landing page) | Bioconductor Package Maintainer | OK | OK | OK | ||||||||||||
| 38/229 | biocthis 1.21.0 (landing page) | Leonardo Collado-Torres | OK | OK | OK | ||||||||||||
| 39/229 | BiocVersion 3.23.1 (landing page) | Bioconductor Package Maintainer | ERROR | OK | ERROR | ||||||||||||
| 40/229 | biocViews 1.79.0 (landing page) | Bioconductor Package Maintainer | OK | OK | OK | ||||||||||||
| 41/229 | biomaRt 2.67.0 (landing page) | Hugo Gruson | OK | OK | OK | ||||||||||||
| 42/229 | biomformat 1.39.0 (landing page) | Paul J. McMurdie | OK | OK | OK | ||||||||||||
| 43/229 | Biostrings 2.79.0 (landing page) | Hervé Pagès | OK | OK | ERROR | ||||||||||||
| 44/229 | biovizBase 1.59.0 (landing page) | Michael Lawrence | ERROR | ERROR | skipped | ||||||||||||
| 45/229 | bluster 1.21.0 (landing page) | Aaron Lun | OK | ERROR | skipped | ||||||||||||
| 46/229 | BSgenome 1.79.0 (landing page) | Hervé Pagès | ERROR | ERROR | skipped | ||||||||||||
| 47/229 | BSgenomeForge 1.11.0 (landing page) | Hervé Pagès | ERROR | ERROR | skipped | ||||||||||||
| 48/229 | bsseq 1.47.0 (landing page) | Kasper Daniel Hansen | ERROR | ERROR | skipped | ||||||||||||
| 49/229 | bumphunter 1.53.0 (landing page) | Tamilselvi Guharaj | ERROR | ERROR | skipped | ||||||||||||
| 50/229 | BumpyMatrix 1.19.0 (landing page) | Aaron Lun | OK | OK | OK | ||||||||||||
| 51/229 | Category 2.77.0 (landing page) | Bioconductor Package Maintainer | OK | ERROR | skipped | ||||||||||||
| 52/229 | ChemmineOB 1.49.0 (landing page) | Thomas Girke | OK | OK | WARNINGS | ||||||||||||
| 53/229 | ChemmineR 3.63.0 (landing page) | Thomas Girke | OK | OK | WARNINGS | ||||||||||||
| 54/229 | chihaya 1.11.0 (landing page) | Aaron Lun | OK | OK | WARNINGS | ||||||||||||
| 55/229 | clusterProfiler 4.19.0 (landing page) | Guangchuang Yu | OK | OK | ERROR | ||||||||||||
| 56/229 | CNEr 1.47.0 (landing page) | Boris Lenhard | ERROR | ERROR | skipped | ||||||||||||
| 57/229 | ComplexHeatmap 2.27.0 (landing page) | Zuguang Gu | OK | OK | OK | ||||||||||||
| 58/229 | CompoundDb 1.15.0 (landing page) | Johannes Rainer | OK | OK | OK | ||||||||||||
| 59/229 | ConsensusClusterPlus 1.75.0 (landing page) | Matt Wilkerson | OK | OK | OK | ||||||||||||
| 60/229 | csaw 1.45.0 (landing page) | Aaron Lun | OK | OK | ERROR | ||||||||||||
| 61/229 | cytolib 2.23.0 (landing page) | Mike Jiang | OK | OK | WARNINGS | ||||||||||||
| 62/229 | CytoML 2.23.0 (landing page) | Mike Jiang | OK | OK | WARNINGS | ||||||||||||
| 63/229 | DECIPHER 3.7.0 (landing page) | Erik Wright | OK | OK | OK | ||||||||||||
| 64/229 | DelayedArray 0.37.0 (landing page) | Hervé Pagès | OK | OK | WARNINGS | ||||||||||||
| 65/229 | DelayedMatrixStats 1.33.0 (landing page) | Peter Hickey | OK | OK | OK | ||||||||||||
| 66/229 | densvis 1.21.0 (landing page) | Alan O'Callaghan | OK | OK | OK | ||||||||||||
| 67/229 | DESeq2 1.51.0 (landing page) | Michael Love | OK | ERROR | skipped | ||||||||||||
| 68/229 | DEXSeq 1.57.0 (landing page) | Alejandro Reyes | OK | ERROR | skipped | ||||||||||||
| 69/229 | dir.expiry 1.19.0 (landing page) | Aaron Lun | OK | OK | OK | ||||||||||||
| 70/229 | DirichletMultinomial 1.53.0 (landing page) | Martin Morgan | OK | OK | WARNINGS | ||||||||||||
| 71/229 | DNAcopy 1.85.0 (landing page) | Venkatraman E. Seshan | OK | OK | OK | ||||||||||||
| 72/229 | DOSE 4.5.0 (landing page) | Guangchuang Yu | OK | OK | OK | ||||||||||||
| 73/229 | DropletUtils 1.31.0 (landing page) | Jonathan Griffiths | OK | OK | WARNINGS | ||||||||||||
| 74/229 | DynDoc 1.89.0 (landing page) | Bioconductor Package Maintainer | OK | OK | WARNINGS | ||||||||||||
| 75/229 | EBarrays 2.75.0 (landing page) | Ming Yuan | OK | OK | OK | ||||||||||||
| 76/229 | EBImage 4.53.0 (landing page) | Andrzej Oleś | OK | OK | OK | ||||||||||||
| 77/229 | EDASeq 2.45.0 (landing page) | Davide Risso | ERROR | ERROR | skipped | ||||||||||||
| 78/229 | edgeR 4.9.0 (landing page) | Yunshun Chen | OK | OK | OK | ||||||||||||
| 79/229 | eds 1.13.0 (landing page) | Avi Srivastava | OK | OK | OK | ||||||||||||
| 80/229 | EnhancedVolcano 1.29.0 (landing page) | Kevin Blighe | OK | OK | OK | ||||||||||||
| 81/229 | EnrichedHeatmap 1.41.0 (landing page) | Zuguang Gu | OK | OK | OK | ||||||||||||
| 82/229 | enrichplot 1.31.0 (landing page) | Guangchuang Yu | OK | OK | OK | ||||||||||||
| 83/229 | ensembldb 2.35.0 (landing page) | Johannes Rainer | ERROR | ERROR | skipped | ||||||||||||
| 84/229 | ExperimentHub 3.1.0 (landing page) | Bioconductor Package Maintainer | ERROR | ERROR | skipped | ||||||||||||
| 85/229 | ExperimentHubData 1.37.0 (landing page) | Bioconductor Package Maintainer | ERROR | ERROR | skipped | ||||||||||||
| 86/229 | fgsea 1.37.0 (landing page) | Alexey Sergushichev | OK | OK | OK | ||||||||||||
| 87/229 | fishpond 2.17.0 (landing page) | Michael Love | OK | ERROR | skipped | ||||||||||||
| 88/229 | flowClust 3.49.0 (landing page) | Greg Finak | OK | OK | WARNINGS | ||||||||||||
| 89/229 | flowCore 2.23.0 (landing page) | Mike Jiang | OK | OK | WARNINGS | ||||||||||||
| 90/229 | flowStats 4.23.0 (landing page) | Greg Finak | OK | OK | WARNINGS | ||||||||||||
| 91/229 | flowViz 1.75.0 (landing page) | Mike Jiang | OK | OK | OK | ||||||||||||
| 92/229 | flowWorkspace 4.23.0 (landing page) | Greg Finak | OK | OK | WARNINGS | ||||||||||||
| 93/229 | fmcsR 1.53.0 (landing page) | Thomas Girke | OK | OK | WARNINGS | ||||||||||||
| 94/229 | gage 2.61.0 (landing page) | Weijun Luo | OK | OK | ERROR | ||||||||||||
| 95/229 | gcrma 2.83.0 (landing page) | Z. Wu | OK | OK | OK | ||||||||||||
| 96/229 | gdsfmt 1.47.0 (landing page) | Xiuwen Zheng | OK | OK | OK | ||||||||||||
| 97/229 | genefilter 1.93.0 (landing page) | Bioconductor Package Maintainer | OK | OK | WARNINGS | ||||||||||||
| 98/229 | geneplotter 1.89.0 (landing page) | Bioconductor Package Maintainer | OK | OK | OK | ||||||||||||
| 99/229 | GenomeInfoDb 1.47.0 (landing page) | Hervé Pagès | OK | ERROR | skipped | ||||||||||||
| 100/229 | GenomicAlignments 1.47.0 (landing page) | Hervé Pagès | ERROR | ERROR | skipped | ||||||||||||
| 101/229 | GenomicFeatures 1.63.1 (landing page) | H. Pagès | ERROR | ERROR | skipped | ||||||||||||
| 102/229 | GenomicRanges 1.63.0 (landing page) | Hervé Pagès | OK | ERROR | skipped | ||||||||||||
| 103/229 | GEOquery 2.79.0 (landing page) | Sean Davis | OK | OK | WARNINGS | ||||||||||||
| 104/229 | ggbio 1.59.0 (landing page) | Michael Lawrence | ERROR | ERROR | skipped | ||||||||||||
| 105/229 | ggcyto 1.39.0 (landing page) | Mike Jiang | OK | OK | WARNINGS | ||||||||||||
| 106/229 | ggtree 4.1.1 (landing page) | Guangchuang Yu | OK | OK | OK | ||||||||||||
| 107/229 | ggtreeExtra 1.21.0 (landing page) | Shuangbin Xu | OK | OK | OK | ||||||||||||
| 108/229 | glmGamPoi 1.23.0 (landing page) | Constantin Ahlmann-Eltze | OK | ERROR | skipped | ||||||||||||
| 109/229 | GOSemSim 2.37.0 (landing page) | Guangchuang Yu | OK | OK | ERROR | ||||||||||||
| 110/229 | GOstats 2.77.0 (landing page) | Bioconductor Package Maintainer | OK | OK | OK | ||||||||||||
| 111/229 | gpls 1.83.0 (landing page) | Bioconductor Package Maintainer | OK | OK | WARNINGS | ||||||||||||
| 112/229 | graph 1.89.0 (landing page) | Bioconductor Package Maintainer | OK | OK | OK | ||||||||||||
| 113/229 | GSEABase 1.73.0 (landing page) | Bioconductor Package Maintainer | OK | ERROR | skipped | ||||||||||||
| 114/229 | GSVA 2.5.0 (landing page) | Robert Castelo | OK | ERROR | skipped | ||||||||||||
| 115/229 | Gviz 1.55.0 (landing page) | Robert Ivanek | ERROR | ERROR | skipped | ||||||||||||
| 116/229 | gwascat 2.43.0 (landing page) | VJ Carey | ERROR | ERROR | skipped | ||||||||||||
| 117/229 | gypsum 1.7.0 (landing page) | Aaron Lun | OK | OK | OK | ||||||||||||
| 118/229 | h5mread 1.3.0 (landing page) | Hervé Pagès | OK | OK | ERROR | ||||||||||||
| 119/229 | HDF5Array 1.39.0 (landing page) | Hervé Pagès | OK | ERROR | skipped | ||||||||||||
| 120/229 | hpar 1.53.0 (landing page) | Laurent Gatto | ERROR | ERROR | skipped | ||||||||||||
| 121/229 | HubPub 1.19.0 (landing page) | Kayla Interdonato | OK | ERROR | skipped | ||||||||||||
| 122/229 | IHW 1.39.0 (landing page) | Nikos Ignatiadis | OK | OK | OK | ||||||||||||
| 123/229 | illuminaio 0.53.0 (landing page) | Kasper Daniel Hansen | OK | OK | OK | ||||||||||||
| 124/229 | impute 1.85.0 (landing page) | Balasubramanian Narasimhan | OK | OK | WARNINGS | ||||||||||||
| 125/229 | Bioconductor Package Maintainer | OK | OK | ERROR | |||||||||||||
| 126/229 | Bioconductor Package Maintainer | OK | OK | OK | |||||||||||||
| 127/229 | IRanges 2.45.0 (landing page) | Hervé Pagès | OK | OK | ERROR | ||||||||||||
| 128/229 | karyoploteR 1.37.0 (landing page) | Bernat Gel | ERROR | ERROR | skipped | ||||||||||||
| 129/229 | KEGGgraph 1.71.0 (landing page) | Jitao David Zhang | OK | OK | OK | ||||||||||||
| 130/229 | keggorthology 2.63.0 (landing page) | VJ Carey | OK | OK | OK | ||||||||||||
| 131/229 | KEGGREST 1.51.0 (landing page) | Bioconductor Package Maintainer | OK | OK | OK | ||||||||||||
| 132/229 | limma 3.67.0 (landing page) | Gordon Smyth | OK | OK | OK | ||||||||||||
| 133/229 | LoomExperiment 1.29.0 (landing page) | Bioconductor Package Maintainer | OK | OK | OK | ||||||||||||
| 134/229 | lpsymphony 1.39.0 (landing page) | Vladislav Kim | OK | OK | WARNINGS | ||||||||||||
| 135/229 | maftools 2.27.0 (landing page) | Anand Mayakonda | OK | ERROR | skipped | ||||||||||||
| 136/229 | MassSpecWavelet 1.77.0 (landing page) | Sergio Oller Moreno | OK | OK | OK | ||||||||||||
| 137/229 | MatrixGenerics 1.23.0 (landing page) | Peter Hickey | OK | OK | OK | ||||||||||||
| 138/229 | mbkmeans 1.27.0 (landing page) | Davide Risso | OK | ERROR | skipped | ||||||||||||
| 139/229 | MetaboCoreUtils 1.19.0 (landing page) | Johannes Rainer | OK | OK | OK | ||||||||||||
| 140/229 | metagenomeSeq 1.53.0 (landing page) | Joseph N. Paulson | OK | OK | OK | ||||||||||||
| 141/229 | metapod 1.19.0 (landing page) | Aaron Lun | OK | OK | OK | ||||||||||||
| 142/229 | microRNA 1.69.0 (landing page) | "Michael Lawrence" | OK | OK | OK | ||||||||||||
| 143/229 | minet 3.69.0 (landing page) | Patrick E. Meyer | OK | OK | OK | ||||||||||||
| 144/229 | minfi 1.57.0 (landing page) | Kasper Daniel Hansen | ERROR | ERROR | skipped | ||||||||||||
| 145/229 | MLInterfaces 1.91.0 (landing page) | Vincent Carey | OK | OK | WARNINGS | ||||||||||||
| 146/229 | MsBackendMgf 1.19.0 (landing page) | RforMassSpectrometry Package Maintainer | OK | OK | OK | ||||||||||||
| 147/229 | MsBackendSql 1.11.0 (landing page) | Johannes Rainer | OK | OK | OK | ||||||||||||
| 148/229 | MsCoreUtils 1.23.0 (landing page) | RforMassSpectrometry Package Maintainer | OK | OK | ERROR | ||||||||||||
| 149/229 | MsDataHub 1.11.0 (landing page) | Laurent Gatto | ERROR | ERROR | skipped | ||||||||||||
| 150/229 | MsExperiment 1.13.0 (landing page) | Laurent Gatto | OK | OK | OK | ||||||||||||
| 151/229 | MsFeatures 1.19.0 (landing page) | Johannes Rainer | OK | OK | OK | ||||||||||||
| 152/229 | MSnbase 2.37.0 (landing page) | Laurent Gatto | OK | OK | ERROR | ||||||||||||
| 153/229 | MultiAssayExperiment 1.37.0 (landing page) | Marcel Ramos | OK | OK | OK | ||||||||||||
| 154/229 | multtest 2.67.0 (landing page) | Katherine S. Pollard | OK | OK | WARNINGS | ||||||||||||
| 155/229 | mzID 1.49.0 (landing page) | Laurent Gatto | OK | OK | OK | ||||||||||||
| 156/229 | mzR 2.45.0 (landing page) | Steffen Neumann | OK | OK | WARNINGS | ||||||||||||
| 157/229 | ncdfFlow 2.57.0 (landing page) | Mike Jiang | OK | OK | WARNINGS | ||||||||||||
| 158/229 | openCyto 2.23.0 (landing page) | Mike Jiang | OK | OK | WARNINGS | ||||||||||||
| 159/229 | OrganismDbi 1.53.0 (landing page) | Bioconductor Package Maintainer | ERROR | ERROR | skipped | ||||||||||||
| 160/229 | pathview 1.51.0 (landing page) | Weijun Luo | OK | OK | WARNINGS | ||||||||||||
| 161/229 | pcaMethods 2.3.0 (landing page) | Henning Redestig | OK | OK | OK | ||||||||||||
| 162/229 | phyloseq 1.55.0 (landing page) | Paul J. McMurdie | OK | OK | WARNINGS | ||||||||||||
| 163/229 | preprocessCore 1.73.0 (landing page) | Ben Bolstad | OK | OK | WARNINGS | ||||||||||||
| 164/229 | pRoloc 1.51.0 (landing page) | Lisa Breckels | OK | OK | ERROR | ||||||||||||
| 165/229 | ProtGenerics 1.43.0 (landing page) | Laurent Gatto | OK | OK | OK | ||||||||||||
| 166/229 | PSMatch 1.15.0 (landing page) | Laurent Gatto | OK | OK | OK | ||||||||||||
| 167/229 | pwalign 1.7.0 (landing page) | Hervé Pagès | OK | OK | OK | ||||||||||||
| 168/229 | QFeatures 1.21.0 (landing page) | Laurent Gatto | OK | OK | ERROR | ||||||||||||
| 169/229 | qvalue 2.43.0 (landing page) | John D. Storey | OK | OK | OK | ||||||||||||
| 170/229 | RaggedExperiment 1.35.0 (landing page) | Marcel Ramos | OK | OK | OK | ||||||||||||
| 171/229 | RBGL 1.87.0 (landing page) | Bioconductor Package Maintainer | OK | OK | WARNINGS | ||||||||||||
| 172/229 | rBiopaxParser 2.51.0 (landing page) | Frank Kramer | OK | OK | OK | ||||||||||||
| 173/229 | Rdisop 1.71.0 (landing page) | Steffen Neumann | OK | OK | OK | ||||||||||||
| 174/229 | regioneR 1.43.0 (landing page) | Bernat Gel | ERROR | ERROR | skipped | ||||||||||||
| 175/229 | ReportingTools 2.51.0 (landing page) | Jason A. Hackney | ERROR | ERROR | skipped | ||||||||||||
| 176/229 | ResidualMatrix 1.21.0 (landing page) | Aaron Lun | OK | OK | OK | ||||||||||||
| 177/229 | Rgraphviz 2.55.0 (landing page) | Kasper Daniel Hansen | OK | OK | WARNINGS | ||||||||||||
| 178/229 | rhdf5 2.55.0 (landing page) | Hugo Gruson | OK | OK | WARNINGS | ||||||||||||
| 179/229 | rhdf5filters 1.23.0 (landing page) | Hugo Gruson | OK | OK | OK | ||||||||||||
| 180/229 | Rhdf5lib 1.33.0 (landing page) | Hugo Gruson | OK | OK | WARNINGS | ||||||||||||
| 181/229 | Rhtslib 3.7.0 (landing page) | Hervé Pagès | OK | OK | OK | ||||||||||||
| 182/229 | Rigraphlib 1.3.0 (landing page) | Aaron Lun | OK | OK | WARNINGS | ||||||||||||
| 183/229 | ROC 1.87.0 (landing page) | Vince Carey | OK | OK | OK | ||||||||||||
| 184/229 | rols 3.7.0 (landing page) | Laurent Gatto | OK | ERROR | skipped | ||||||||||||
| 185/229 | RProtoBufLib 2.23.0 (landing page) | Mike Jiang | OK | OK | WARNINGS | ||||||||||||
| 186/229 | rpx 2.19.0 (landing page) | Laurent Gatto | OK | OK | OK | ||||||||||||
| 187/229 | Rsamtools 2.27.0 (landing page) | Bioconductor Package Maintainer | OK | ERROR | skipped | ||||||||||||
| 188/229 | Rsubread 2.25.0 (landing page) | Wei Shi | OK | OK | OK | ||||||||||||
| 189/229 | rtracklayer 1.71.0 (landing page) | Michael Lawrence | ERROR | ERROR | skipped | ||||||||||||
| 190/229 | S4Arrays 1.11.0 (landing page) | Hervé Pagès | OK | OK | OK | ||||||||||||
| 191/229 | S4Vectors 0.49.0 (landing page) | Hervé Pagès | OK | ERROR | skipped | ||||||||||||
| 192/229 | ScaledMatrix 1.19.0 (landing page) | Aaron Lun | OK | OK | OK | ||||||||||||
| 193/229 | scater 1.39.0 (landing page) | Alan O'Callaghan | OK | ERROR | skipped | ||||||||||||
| 194/229 | scran 1.39.0 (landing page) | Aaron Lun | OK | ERROR | skipped | ||||||||||||
| 195/229 | scrapper 1.5.0 (landing page) | Aaron Lun | OK | ERROR | skipped | ||||||||||||
| 196/229 | scuttle 1.21.0 (landing page) | Aaron Lun | OK | ERROR | skipped | ||||||||||||
| 197/229 | Seqinfo 1.1.0 (landing page) | Hervé Pagès | OK | ERROR | skipped | ||||||||||||
| 198/229 | seqLogo 1.77.0 (landing page) | Robert Ivanek | OK | OK | OK | ||||||||||||
| 199/229 | sesame 1.29.0 (landing page) | Wanding Zhou | ERROR | ERROR | skipped | ||||||||||||
| 200/229 | ShortRead 1.69.0 (landing page) | Bioconductor Package Maintainer | ERROR | ERROR | skipped | ||||||||||||
| 201/229 | siggenes 1.85.0 (landing page) | Holger Schwender | OK | OK | OK | ||||||||||||
| 202/229 | SingleCellExperiment 1.33.0 (landing page) | Davide Risso | OK | ERROR | skipped | ||||||||||||
| 203/229 | SingleR 2.13.0 (landing page) | Aaron Lun | OK | ERROR | skipped | ||||||||||||
| 204/229 | snifter 1.21.0 (landing page) | Alan O'Callaghan | OK | OK | OK | ||||||||||||
| 205/229 | snpStats 1.61.0 (landing page) | David Clayton | OK | OK | WARNINGS | ||||||||||||
| 206/229 | SparseArray 1.11.0 (landing page) | Hervé Pagès | OK | ERROR | skipped | ||||||||||||
| 207/229 | sparseMatrixStats 1.23.0 (landing page) | Constantin Ahlmann-Eltze | OK | OK | OK | ||||||||||||
| 208/229 | SpatialExperiment 1.21.0 (landing page) | Dario Righelli | OK | OK | OK | ||||||||||||
| 209/229 | Spectra 1.21.0 (landing page) | RforMassSpectrometry Package Maintainer | OK | OK | OK | ||||||||||||
| 210/229 | SPIA 2.63.0 (landing page) | Adi Laurentiu Tarca | OK | OK | OK | ||||||||||||
| 211/229 | SummarizedExperiment 1.41.0 (landing page) | Hervé Pagès | OK | OK | ERROR | ||||||||||||
| 212/229 | sva 3.59.0 (landing page) | Jeffrey T. Leek | OK | OK | OK | ||||||||||||
| 213/229 | TCGAbiolinks 2.39.0 (landing page) | Tiago Chedraoui Silva | OK | ERROR | skipped | ||||||||||||
| 214/229 | TENxIO 1.13.0 (landing page) | Marcel Ramos | OK | ERROR | skipped | ||||||||||||
| 215/229 | TFBSTools 1.49.0 (landing page) | Ge Tan | ERROR | ERROR | skipped | ||||||||||||
| 216/229 | tkWidgets 1.89.0 (landing page) | J. Zhang | OK | OK | OK | ||||||||||||
| 217/229 | treeio 1.35.0 (landing page) | Guangchuang Yu | OK | OK | OK | ||||||||||||
| 218/229 | txdbmaker 1.7.0 (landing page) | H. Pagès | ERROR | ERROR | skipped | ||||||||||||
| 219/229 | tximeta 1.29.0 (landing page) | Michael Love | ERROR | ERROR | skipped | ||||||||||||
| 220/229 | tximport 1.39.0 (landing page) | Michael Love | OK | ERROR | skipped | ||||||||||||
| 221/229 | UCSC.utils 1.7.0 (landing page) | Hervé Pagès | OK | OK | OK | ||||||||||||
| 222/229 | VariantAnnotation 1.57.0 (landing page) | Bioconductor Package Maintainer | ERROR | ERROR | skipped | ||||||||||||
| 223/229 | VisiumIO 1.7.0 (landing page) | Marcel Ramos | OK | OK | OK | ||||||||||||
| 224/229 | vsn 3.79.0 (landing page) | Wolfgang Huber | OK | OK | OK | ||||||||||||
| 225/229 | widgetTools 1.89.0 (landing page) | Jianhua Zhang | OK | OK | OK | ||||||||||||
| 226/229 | Wrench 1.29.0 (landing page) | Hector Corrada Bravo | OK | OK | OK | ||||||||||||
| 227/229 | xcms 4.9.0 (landing page) | Steffen Neumann | OK | OK | OK | ||||||||||||
| 228/229 | XVector 0.51.0 (landing page) | Hervé Pagès | OK | OK | WARNINGS | ||||||||||||
| 229/229 | zellkonverter 1.21.0 (landing page) | Luke Zappia | OK | ERROR | skipped | ||||||||||||