| Back to Rapid builds (Linux only) of a subset of BioC 3.22 Report updated every 6 hours | 
This page was generated on 2025-10-30 14:25 -0400 (Thu, 30 Oct 2025).
| Hostname | OS | Arch (*) | R version | Installed pkgs | 
|---|---|---|---|---|
| teran2 | Linux (Ubuntu 24.04.3 LTS) | x86_64 | 4.5.1 (2025-06-13) -- "Great Square Root" | 896 | 
| Click on any hostname to see more info about the system (e.g. compilers) (*) as reported by 'uname -p', except on Windows and Mac OS X | ||||
| Package 60/229 | Hostname | OS / Arch | INSTALL | BUILD | CHECK | |||||||
| csaw 1.45.0  (landing page) Aaron Lun 
 | teran2 | Linux (Ubuntu 24.04.3 LTS) / x86_64 | OK | OK | ERROR | |||||||
| To the developers/maintainers of the csaw package: - Use the following Renviron settings to reproduce errors and warnings. - If 'R CMD check' started to fail recently on the Linux builder(s) over a missing dependency, add the missing dependency to 'Suggests:' in your DESCRIPTION file. See Renviron.bioc for more information. | 
| Package: csaw | 
| Version: 1.45.0 | 
| Command: /home/rapidbuild/bbs-3.22-bioc-rapid/R/bin/R CMD build --keep-empty-dirs --no-resave-data csaw | 
| StartedAt: 2025-10-30 12:30:27 -0400 (Thu, 30 Oct 2025) | 
| EndedAt: 2025-10-30 12:31:34 -0400 (Thu, 30 Oct 2025) | 
| EllapsedTime: 66.9 seconds | 
| RetCode: 0 | 
| Status: OK | 
| PackageFile: csaw_1.45.0.tar.gz | 
| PackageFileSize: 389.2 KiB | 
##############################################################################
##############################################################################
###
### Running command:
###
###   /home/rapidbuild/bbs-3.22-bioc-rapid/R/bin/R CMD build --keep-empty-dirs --no-resave-data csaw
###
##############################################################################
##############################################################################
* checking for file ‘csaw/DESCRIPTION’ ... OK
* preparing ‘csaw’:
* checking DESCRIPTION meta-information ... OK
* cleaning src
* installing the package to build vignettes
* creating vignettes ... OK
* cleaning src
* checking for LF line-endings in source and make files and shell scripts
* checking for empty or unneeded directories
  NB: this package now depends on R (>= 3.5.0)
  WARNING: Added dependency on R >= 3.5.0 because serialized objects in
  serialize/load version 3 cannot be read in older versions of R.
  File(s) containing such objects:
    ‘csaw/inst/exdata/exrange.rds’
* building ‘csaw_1.45.0.tar.gz’