| Back to Rapid builds (Linux only) of a subset of BioC 3.23 Report updated every 6 hours | 
This page was generated on 2025-10-31 09:43 -0400 (Fri, 31 Oct 2025).
| Hostname | OS | Arch (*) | R version | Installed pkgs | 
|---|---|---|---|---|
| teran2 | Linux (Ubuntu 24.04.3 LTS) | x86_64 | R Under development (unstable) (2025-10-28 r88973) -- "Unsuffered Consequences" | 917 | 
| Click on any hostname to see more info about the system (e.g. compilers) (*) as reported by 'uname -p', except on Windows and Mac OS X | ||||
| Package 61/230 | Hostname | OS / Arch | INSTALL | BUILD | CHECK | |||||||
| csaw 1.45.0  (landing page) Aaron Lun 
 | teran2 | Linux (Ubuntu 24.04.3 LTS) / x86_64 | OK | OK | OK | |||||||
| To the developers/maintainers of the csaw package: - Use the following Renviron settings to reproduce errors and warnings. - If 'R CMD check' started to fail recently on the Linux builder(s) over a missing dependency, add the missing dependency to 'Suggests:' in your DESCRIPTION file. See Renviron.bioc for more information. | 
| Package: csaw | 
| Version: 1.45.0 | 
| Command: /home/rapidbuild/bbs-3.23-bioc-rapid/R/bin/R CMD INSTALL csaw | 
| StartedAt: 2025-10-31 06:19:20 -0400 (Fri, 31 Oct 2025) | 
| EndedAt: 2025-10-31 06:20:17 -0400 (Fri, 31 Oct 2025) | 
| EllapsedTime: 56.5 seconds | 
| RetCode: 0 | 
| Status: OK | 
##############################################################################
##############################################################################
###
### Running command:
###
###   /home/rapidbuild/bbs-3.23-bioc-rapid/R/bin/R CMD INSTALL csaw
###
##############################################################################
##############################################################################
* installing to library ‘/media/volume/teran2_disk/rapidbuild/bbs-3.23-bioc-rapid/R/site-library’
* installing *source* package ‘csaw’ ...
** this is package ‘csaw’ version ‘1.45.0’
** using staged installation
** libs
using C++ compiler: ‘g++ (Ubuntu 13.3.0-6ubuntu2~24.04) 13.3.0’
using C++11
g++ -std=gnu++11 -I"/home/rapidbuild/bbs-3.23-bioc-rapid/R/include" -DNDEBUG -D_FILE_OFFSET_BITS=64 -I'/media/volume/teran2_disk/rapidbuild/bbs-3.23-bioc-rapid/R/site-library/Rhtslib/include' -I'/media/volume/teran2_disk/rapidbuild/bbs-3.23-bioc-rapid/R/site-library/Rcpp/include' -I/usr/local/include    -fpic  -g -O2  -Wall -Werror=format-security  -c annotator.cpp -o annotator.o
annotator.cpp: In function ‘SEXPREC* annotate_overlaps(SEXP, SEXP, SEXP, SEXP, SEXP, SEXP, SEXP, SEXP)’:
annotator.cpp:47:24: warning: comparison of integer expressions of different signedness: ‘size_t’ {aka ‘long unsigned int’} and ‘const int’ [-Wsign-compare]
   47 |         while (counter < nolaps && query[counter]==curreg) {
      |                ~~~~~~~~^~~~~~~~
g++ -std=gnu++11 -I"/home/rapidbuild/bbs-3.23-bioc-rapid/R/include" -DNDEBUG -D_FILE_OFFSET_BITS=64 -I'/media/volume/teran2_disk/rapidbuild/bbs-3.23-bioc-rapid/R/site-library/Rhtslib/include' -I'/media/volume/teran2_disk/rapidbuild/bbs-3.23-bioc-rapid/R/site-library/Rcpp/include' -I/usr/local/include    -fpic  -g -O2  -Wall -Werror=format-security  -c bam_utils.cpp -o bam_utils.o
g++ -std=gnu++11 -I"/home/rapidbuild/bbs-3.23-bioc-rapid/R/include" -DNDEBUG -D_FILE_OFFSET_BITS=64 -I'/media/volume/teran2_disk/rapidbuild/bbs-3.23-bioc-rapid/R/site-library/Rhtslib/include' -I'/media/volume/teran2_disk/rapidbuild/bbs-3.23-bioc-rapid/R/site-library/Rcpp/include' -I/usr/local/include    -fpic  -g -O2  -Wall -Werror=format-security  -c best_in_cluster.cpp -o best_in_cluster.o
best_in_cluster.cpp: In function ‘SEXPREC* best_in_cluster(SEXP, SEXP, SEXP)’:
best_in_cluster.cpp:11:17: warning: comparison of integer expressions of different signedness: ‘const size_t’ {aka ‘const long unsigned int’} and ‘R_xlen_t’ {aka ‘long int’} [-Wsign-compare]
   11 |         if (nwin!=clustids.size() || nwin!=winweight.size()) {
      |             ~~~~^~~~~~~~~~~~~~~~~
best_in_cluster.cpp:11:42: warning: comparison of integer expressions of different signedness: ‘const size_t’ {aka ‘const long unsigned int’} and ‘R_xlen_t’ {aka ‘long int’} [-Wsign-compare]
   11 |         if (nwin!=clustids.size() || nwin!=winweight.size()) {
      |                                      ~~~~^~~~~~~~~~~~~~~~~~
g++ -std=gnu++11 -I"/home/rapidbuild/bbs-3.23-bioc-rapid/R/include" -DNDEBUG -D_FILE_OFFSET_BITS=64 -I'/media/volume/teran2_disk/rapidbuild/bbs-3.23-bioc-rapid/R/site-library/Rhtslib/include' -I'/media/volume/teran2_disk/rapidbuild/bbs-3.23-bioc-rapid/R/site-library/Rcpp/include' -I/usr/local/include    -fpic  -g -O2  -Wall -Werror=format-security  -c check_bimodality.cpp -o check_bimodality.o
g++ -std=gnu++11 -I"/home/rapidbuild/bbs-3.23-bioc-rapid/R/include" -DNDEBUG -D_FILE_OFFSET_BITS=64 -I'/media/volume/teran2_disk/rapidbuild/bbs-3.23-bioc-rapid/R/site-library/Rhtslib/include' -I'/media/volume/teran2_disk/rapidbuild/bbs-3.23-bioc-rapid/R/site-library/Rcpp/include' -I/usr/local/include    -fpic  -g -O2  -Wall -Werror=format-security  -c correlate_reads.cpp -o correlate_reads.o
g++ -std=gnu++11 -I"/home/rapidbuild/bbs-3.23-bioc-rapid/R/include" -DNDEBUG -D_FILE_OFFSET_BITS=64 -I'/media/volume/teran2_disk/rapidbuild/bbs-3.23-bioc-rapid/R/site-library/Rhtslib/include' -I'/media/volume/teran2_disk/rapidbuild/bbs-3.23-bioc-rapid/R/site-library/Rcpp/include' -I/usr/local/include    -fpic  -g -O2  -Wall -Werror=format-security  -c find_maxima.cpp -o find_maxima.o
g++ -std=gnu++11 -I"/home/rapidbuild/bbs-3.23-bioc-rapid/R/include" -DNDEBUG -D_FILE_OFFSET_BITS=64 -I'/media/volume/teran2_disk/rapidbuild/bbs-3.23-bioc-rapid/R/site-library/Rhtslib/include' -I'/media/volume/teran2_disk/rapidbuild/bbs-3.23-bioc-rapid/R/site-library/Rcpp/include' -I/usr/local/include    -fpic  -g -O2  -Wall -Werror=format-security  -c get_profile.cpp -o get_profile.o
g++ -std=gnu++11 -I"/home/rapidbuild/bbs-3.23-bioc-rapid/R/include" -DNDEBUG -D_FILE_OFFSET_BITS=64 -I'/media/volume/teran2_disk/rapidbuild/bbs-3.23-bioc-rapid/R/site-library/Rhtslib/include' -I'/media/volume/teran2_disk/rapidbuild/bbs-3.23-bioc-rapid/R/site-library/Rcpp/include' -I/usr/local/include    -fpic  -g -O2  -Wall -Werror=format-security  -c get_rle_counts.cpp -o get_rle_counts.o
g++ -std=gnu++11 -I"/home/rapidbuild/bbs-3.23-bioc-rapid/R/include" -DNDEBUG -D_FILE_OFFSET_BITS=64 -I'/media/volume/teran2_disk/rapidbuild/bbs-3.23-bioc-rapid/R/site-library/Rhtslib/include' -I'/media/volume/teran2_disk/rapidbuild/bbs-3.23-bioc-rapid/R/site-library/Rcpp/include' -I/usr/local/include    -fpic  -g -O2  -Wall -Werror=format-security  -c init.cpp -o init.o
g++ -std=gnu++11 -I"/home/rapidbuild/bbs-3.23-bioc-rapid/R/include" -DNDEBUG -D_FILE_OFFSET_BITS=64 -I'/media/volume/teran2_disk/rapidbuild/bbs-3.23-bioc-rapid/R/site-library/Rhtslib/include' -I'/media/volume/teran2_disk/rapidbuild/bbs-3.23-bioc-rapid/R/site-library/Rcpp/include' -I/usr/local/include    -fpic  -g -O2  -Wall -Werror=format-security  -c intersector.cpp -o intersector.o
intersector.cpp: In constructor ‘intersector::intersector(SEXP, SEXP)’:
intersector.cpp:8:10: warning: comparison of integer expressions of different signedness: ‘const size_t’ {aka ‘const long unsigned int’} and ‘R_xlen_t’ {aka ‘long int’} [-Wsign-compare]
    8 |     if (N!=elements.size()) {
      |         ~^~~~~~~~~~~~~~~~~
intersector.cpp:32:36: warning: comparison of integer expressions of different signedness: ‘int’ and ‘const size_t’ {aka ‘const long unsigned int’} [-Wsign-compare]
   32 |         if (current < 0 || current >= nelements) {
      |                            ~~~~~~~~^~~~~~~~~~~~
g++ -std=gnu++11 -I"/home/rapidbuild/bbs-3.23-bioc-rapid/R/include" -DNDEBUG -D_FILE_OFFSET_BITS=64 -I'/media/volume/teran2_disk/rapidbuild/bbs-3.23-bioc-rapid/R/site-library/Rhtslib/include' -I'/media/volume/teran2_disk/rapidbuild/bbs-3.23-bioc-rapid/R/site-library/Rcpp/include' -I/usr/local/include    -fpic  -g -O2  -Wall -Werror=format-security  -c merge_windows.cpp -o merge_windows.o
g++ -std=gnu++11 -I"/home/rapidbuild/bbs-3.23-bioc-rapid/R/include" -DNDEBUG -D_FILE_OFFSET_BITS=64 -I'/media/volume/teran2_disk/rapidbuild/bbs-3.23-bioc-rapid/R/site-library/Rhtslib/include' -I'/media/volume/teran2_disk/rapidbuild/bbs-3.23-bioc-rapid/R/site-library/Rcpp/include' -I/usr/local/include    -fpic  -g -O2  -Wall -Werror=format-security  -c pair_reads.cpp -o pair_reads.o
g++ -std=gnu++11 -I"/home/rapidbuild/bbs-3.23-bioc-rapid/R/include" -DNDEBUG -D_FILE_OFFSET_BITS=64 -I'/media/volume/teran2_disk/rapidbuild/bbs-3.23-bioc-rapid/R/site-library/Rhtslib/include' -I'/media/volume/teran2_disk/rapidbuild/bbs-3.23-bioc-rapid/R/site-library/Rcpp/include' -I/usr/local/include    -fpic  -g -O2  -Wall -Werror=format-security  -c single_reads.cpp -o single_reads.o
g++ -std=gnu++11 -I"/home/rapidbuild/bbs-3.23-bioc-rapid/R/include" -DNDEBUG -D_FILE_OFFSET_BITS=64 -I'/media/volume/teran2_disk/rapidbuild/bbs-3.23-bioc-rapid/R/site-library/Rhtslib/include' -I'/media/volume/teran2_disk/rapidbuild/bbs-3.23-bioc-rapid/R/site-library/Rcpp/include' -I/usr/local/include    -fpic  -g -O2  -Wall -Werror=format-security  -c utils.cpp -o utils.o
g++ -std=gnu++11 -shared -L/usr/local/lib -o csaw.so annotator.o bam_utils.o best_in_cluster.o check_bimodality.o correlate_reads.o find_maxima.o get_profile.o get_rle_counts.o init.o intersector.o merge_windows.o pair_reads.o single_reads.o utils.o /media/volume/teran2_disk/rapidbuild/bbs-3.23-bioc-rapid/R/site-library/Rhtslib/usrlib/libhts.a -lcurl -lbz2 -llzma -lz
installing to /media/volume/teran2_disk/rapidbuild/bbs-3.23-bioc-rapid/R/site-library/00LOCK-csaw/00new/csaw/libs
** R
** inst
** byte-compile and prepare package for lazy loading
** help
*** installing help indices
** building package indices
** installing vignettes
** testing if installed package can be loaded from temporary location
** checking absolute paths in shared objects and dynamic libraries
** testing if installed package can be loaded from final location
** testing if installed package keeps a record of temporary installation path
* DONE (csaw)