| Back to Rapid builds (Linux only) of a subset of BioC 3.22 Report updated every 6 hours | 
This page was generated on 2025-10-30 14:25 -0400 (Thu, 30 Oct 2025).
| Hostname | OS | Arch (*) | R version | Installed pkgs | 
|---|---|---|---|---|
| teran2 | Linux (Ubuntu 24.04.3 LTS) | x86_64 | 4.5.1 (2025-06-13) -- "Great Square Root" | 896 | 
| Click on any hostname to see more info about the system (e.g. compilers) (*) as reported by 'uname -p', except on Windows and Mac OS X | ||||
| Package 104/229 | Hostname | OS / Arch | INSTALL | BUILD | CHECK | |||||||
| ggbio 1.59.0  (landing page) Michael Lawrence 
 | teran2 | Linux (Ubuntu 24.04.3 LTS) / x86_64 | ERROR | ERROR | skipped | |||||||
| To the developers/maintainers of the ggbio package: - Use the following Renviron settings to reproduce errors and warnings. - If 'R CMD check' started to fail recently on the Linux builder(s) over a missing dependency, add the missing dependency to 'Suggests:' in your DESCRIPTION file. See Renviron.bioc for more information. | 
| Package: ggbio | 
| Version: 1.59.0 | 
| Command: /home/rapidbuild/bbs-3.22-bioc-rapid/R/bin/R CMD INSTALL ggbio | 
| StartedAt: 2025-10-30 12:24:04 -0400 (Thu, 30 Oct 2025) | 
| EndedAt: 2025-10-30 12:24:05 -0400 (Thu, 30 Oct 2025) | 
| EllapsedTime: 0.2 seconds | 
| RetCode: 1 | 
| Status: ERROR | 
##############################################################################
##############################################################################
###
### Running command:
###
###   /home/rapidbuild/bbs-3.22-bioc-rapid/R/bin/R CMD INSTALL ggbio
###
##############################################################################
##############################################################################
* installing to library ‘/media/volume/teran2_disk/rapidbuild/bbs-3.22-bioc-rapid/R/site-library’
ERROR: dependencies ‘biovizBase’, ‘GenomicAlignments’, ‘BSgenome’, ‘VariantAnnotation’, ‘rtracklayer’, ‘GenomicFeatures’, ‘OrganismDbi’, ‘ensembldb’ are not available for package ‘ggbio’
Perhaps try a variation of:
install.packages(c('biovizBase', 'GenomicAlignments', 'BSgenome', 'VariantAnnotation', 'rtracklayer', 'GenomicFeatures', 'OrganismDbi', 'ensembldb'))
* removing ‘/media/volume/teran2_disk/rapidbuild/bbs-3.22-bioc-rapid/R/site-library/ggbio’