| Back to Rapid builds (Linux only) of a subset of BioC 3.22 Report updated every 6 hours | 
This page was generated on 2025-10-30 14:25 -0400 (Thu, 30 Oct 2025).
| Hostname | OS | Arch (*) | R version | Installed pkgs | 
|---|---|---|---|---|
| teran2 | Linux (Ubuntu 24.04.3 LTS) | x86_64 | 4.5.1 (2025-06-13) -- "Great Square Root" | 896 | 
| Click on any hostname to see more info about the system (e.g. compilers) (*) as reported by 'uname -p', except on Windows and Mac OS X | ||||
| Package 70/229 | Hostname | OS / Arch | INSTALL | BUILD | CHECK | |||||||
| DirichletMultinomial 1.53.0  (landing page) Martin Morgan 
 | teran2 | Linux (Ubuntu 24.04.3 LTS) / x86_64 | OK | OK | WARNINGS | |||||||
| To the developers/maintainers of the DirichletMultinomial package: - Use the following Renviron settings to reproduce errors and warnings. - If 'R CMD check' started to fail recently on the Linux builder(s) over a missing dependency, add the missing dependency to 'Suggests:' in your DESCRIPTION file. See Renviron.bioc for more information. | 
| Package: DirichletMultinomial | 
| Version: 1.53.0 | 
| Command: /home/rapidbuild/bbs-3.22-bioc-rapid/R/bin/R CMD build --keep-empty-dirs --no-resave-data DirichletMultinomial | 
| StartedAt: 2025-10-30 12:33:33 -0400 (Thu, 30 Oct 2025) | 
| EndedAt: 2025-10-30 12:33:45 -0400 (Thu, 30 Oct 2025) | 
| EllapsedTime: 12.0 seconds | 
| RetCode: 0 | 
| Status: OK | 
| PackageFile: DirichletMultinomial_1.53.0.tar.gz | 
| PackageFileSize: 1.06 MiB | 
############################################################################## ############################################################################## ### ### Running command: ### ### /home/rapidbuild/bbs-3.22-bioc-rapid/R/bin/R CMD build --keep-empty-dirs --no-resave-data DirichletMultinomial ### ############################################################################## ############################################################################## * checking for file ‘DirichletMultinomial/DESCRIPTION’ ... OK * preparing ‘DirichletMultinomial’: * checking DESCRIPTION meta-information ... OK * cleaning src * installing the package to build vignettes * creating vignettes ... OK * cleaning src * checking for LF line-endings in source and make files and shell scripts * checking for empty or unneeded directories * looking to see if a ‘data/datalist’ file should be added * building ‘DirichletMultinomial_1.53.0.tar.gz’