| Back to Rapid builds (Linux only) of a subset of BioC 3.23 Report updated every 6 hours |
This page was generated on 2025-11-20 10:16 -0500 (Thu, 20 Nov 2025).
| Hostname | OS | Arch (*) | R version | Installed pkgs |
|---|---|---|---|---|
| teran2 | Linux (Ubuntu 24.04.3 LTS) | x86_64 | R Under development (unstable) (2025-10-28 r88973) -- "Unsuffered Consequences" | 917 |
| Click on any hostname to see more info about the system (e.g. compilers) (*) as reported by 'uname -p', except on Windows and Mac OS X | ||||
| Package 200/230 | Hostname | OS / Arch | INSTALL | BUILD | CHECK | |||||||
| sesame 1.29.0 (landing page) Wanding Zhou
| teran2 | Linux (Ubuntu 24.04.3 LTS) / x86_64 | OK | OK | OK | |||||||
|
To the developers/maintainers of the sesame package: - Use the following Renviron settings to reproduce errors and warnings. - If 'R CMD check' started to fail recently on the Linux builder(s) over a missing dependency, add the missing dependency to 'Suggests:' in your DESCRIPTION file. See Renviron.bioc for more information. |
| Package: sesame |
| Version: 1.29.0 |
| Command: /home/rapidbuild/bbs-3.23-bioc-rapid/R/bin/R CMD check --install=check:sesame.install-out.txt --library=/home/rapidbuild/bbs-3.23-bioc-rapid/R/site-library --timings sesame_1.29.0.tar.gz |
| StartedAt: 2025-11-20 09:33:18 -0500 (Thu, 20 Nov 2025) |
| EndedAt: 2025-11-20 09:45:57 -0500 (Thu, 20 Nov 2025) |
| EllapsedTime: 758.5 seconds |
| RetCode: 0 |
| Status: OK |
| CheckDir: sesame.Rcheck |
| Warnings: 0 |
##############################################################################
##############################################################################
###
### Running command:
###
### /home/rapidbuild/bbs-3.23-bioc-rapid/R/bin/R CMD check --install=check:sesame.install-out.txt --library=/home/rapidbuild/bbs-3.23-bioc-rapid/R/site-library --timings sesame_1.29.0.tar.gz
###
##############################################################################
##############################################################################
* using log directory ‘/media/volume/teran2_disk/rapidbuild/bbs-3.23-bioc-rapid/meat/sesame.Rcheck’
* using R Under development (unstable) (2025-10-28 r88973)
* using platform: x86_64-pc-linux-gnu
* R was compiled by
gcc (Ubuntu 13.3.0-6ubuntu2~24.04) 13.3.0
GNU Fortran (Ubuntu 13.3.0-6ubuntu2~24.04) 13.3.0
* running under: Ubuntu 24.04.3 LTS
* using session charset: UTF-8
* checking for file ‘sesame/DESCRIPTION’ ... OK
* checking extension type ... Package
* this is package ‘sesame’ version ‘1.29.0’
* package encoding: UTF-8
* checking CRAN incoming feasibility ... NOTE
Maintainer: ‘Wanding Zhou <zhouwanding@gmail.com>’
Unknown, possibly misspelled, fields in DESCRIPTION:
‘git_url’ ‘git_branch’ ‘git_last_commit’ ‘git_last_commit_date’
The Title field should be in title case. Current version is:
‘SEnsible Step-wise Analysis of DNA MEthylation BeadChips’
In title case that is:
‘SEnsible Step-Wise Analysis of DNA MEthylation BeadChips’
Size of tarball: 17019299 bytes
* checking package namespace information ... OK
* checking package dependencies ... OK
* checking if this is a source package ... OK
* checking if there is a namespace ... OK
* checking for hidden files and directories ... OK
* checking for portable file names ... OK
* checking for sufficient/correct file permissions ... OK
* checking whether package ‘sesame’ can be installed ... OK
* checking installed package size ... OK
* checking package directory ... OK
* checking ‘build’ directory ... OK
* checking DESCRIPTION meta-information ... OK
* checking top-level files ... OK
* checking for left-over files ... OK
* checking index information ... OK
* checking package subdirectories ... OK
* checking code files for non-ASCII characters ... OK
* checking R files for syntax errors ... OK
* checking whether the package can be loaded ... OK
* checking whether the package can be loaded with stated dependencies ... OK
* checking whether the package can be unloaded cleanly ... OK
* checking whether the namespace can be loaded with stated dependencies ... OK
* checking whether the namespace can be unloaded cleanly ... OK
* checking loading without being on the library search path ... OK
* checking whether startup messages can be suppressed ... OK
* checking use of S3 registration ... OK
* checking dependencies in R code ... OK
* checking S3 generic/method consistency ... OK
* checking replacement functions ... OK
* checking foreign function calls ... OK
* checking R code for possible problems ... OK
* checking Rd files ... OK
* checking Rd metadata ... OK
* checking Rd cross-references ... OK
* checking for missing documentation entries ... OK
* checking for code/documentation mismatches ... OK
* checking Rd \usage sections ... OK
* checking Rd contents ... OK
* checking for unstated dependencies in examples ... OK
* checking files in ‘vignettes’ ... OK
* checking examples ... NOTE
Examples with CPU (user + system) or elapsed time > 5s
user system elapsed
imputeBetasByGenomicNeighbors 25.200 0.722 25.991
inferSex 16.090 0.281 16.383
inferSpecies 12.940 0.565 13.516
sesameQC_plotHeatSNPs 13.215 0.036 13.254
sesameQC_calcStats 13.142 0.013 13.160
imputeBetas 12.668 0.444 13.697
ELBAR 10.475 0.134 10.614
getRefSet 9.617 0.064 9.685
sesameQC_plotBar 9.116 0.093 9.240
diffRefSet 8.965 0.133 9.108
compareMouseStrainReference 8.658 0.055 8.720
compareReference 8.099 0.140 8.245
matchDesign 7.412 0.036 7.451
inferStrain 6.369 0.548 6.920
DMR 6.373 0.140 6.516
sesameQC_plotBetaByDesign 6.392 0.004 6.396
visualizeGene 5.528 0.094 5.635
dyeBiasCorrMostBalanced 5.212 0.107 5.348
DML 4.992 0.254 5.251
getMask 3.708 0.115 5.782
* checking for unstated dependencies in ‘tests’ ... OK
* checking tests ...
Running ‘testthat.R’
OK
* checking for unstated dependencies in vignettes ... OK
* checking package vignettes ... OK
* checking re-building of vignette outputs ... OK
* checking PDF version of manual ... OK
* DONE
Status: 2 NOTEs
See
‘/media/volume/teran2_disk/rapidbuild/bbs-3.23-bioc-rapid/meat/sesame.Rcheck/00check.log’
for details.
sesame.Rcheck/00install.out
############################################################################## ############################################################################## ### ### Running command: ### ### /home/rapidbuild/bbs-3.23-bioc-rapid/R/bin/R CMD INSTALL sesame ### ############################################################################## ############################################################################## * installing to library ‘/media/volume/teran2_disk/rapidbuild/bbs-3.23-bioc-rapid/R/site-library’ * installing *source* package ‘sesame’ ... ** this is package ‘sesame’ version ‘1.29.0’ ** using staged installation ** R ** inst ** byte-compile and prepare package for lazy loading ** help *** installing help indices ** building package indices ** installing vignettes ** testing if installed package can be loaded from temporary location ** testing if installed package can be loaded from final location ** testing if installed package keeps a record of temporary installation path * DONE (sesame)
sesame.Rcheck/tests/testthat.Rout
R Under development (unstable) (2025-10-28 r88973) -- "Unsuffered Consequences"
Copyright (C) 2025 The R Foundation for Statistical Computing
Platform: x86_64-pc-linux-gnu
R is free software and comes with ABSOLUTELY NO WARRANTY.
You are welcome to redistribute it under certain conditions.
Type 'license()' or 'licence()' for distribution details.
R is a collaborative project with many contributors.
Type 'contributors()' for more information and
'citation()' on how to cite R or R packages in publications.
Type 'demo()' for some demos, 'help()' for on-line help, or
'help.start()' for an HTML browser interface to help.
Type 'q()' to quit R.
> library(testthat)
> library(sesame)
Loading required package: sesameData
Loading required package: ExperimentHub
Loading required package: BiocGenerics
Loading required package: generics
Attaching package: 'generics'
The following objects are masked from 'package:base':
as.difftime, as.factor, as.ordered, intersect, is.element, setdiff,
setequal, union
Attaching package: 'BiocGenerics'
The following objects are masked from 'package:stats':
IQR, mad, sd, var, xtabs
The following objects are masked from 'package:base':
Filter, Find, Map, Position, Reduce, anyDuplicated, aperm, append,
as.data.frame, basename, cbind, colnames, dirname, do.call,
duplicated, eval, evalq, get, grep, grepl, is.unsorted, lapply,
mapply, match, mget, order, paste, pmax, pmax.int, pmin, pmin.int,
rank, rbind, rownames, sapply, saveRDS, table, tapply, unique,
unsplit, which.max, which.min
Loading required package: AnnotationHub
Loading required package: BiocFileCache
Loading required package: dbplyr
Loading sesameData.
----------------------------------------------------------
| SEnsible Step-wise Analysis of DNA MEthylation (SeSAMe)
| --------------------------------------------------------
| Please cache auxiliary data by "sesameDataCache()".
| This needs to be done only once per SeSAMe installation.
----------------------------------------------------------
>
> test_check("sesame")
[ FAIL 0 | WARN 0 | SKIP 0 | PASS 5 ]
>
> proc.time()
user system elapsed
14.744 0.774 15.506
sesame.Rcheck/sesame-Ex.timings
| name | user | system | elapsed | |
| BetaValueToMValue | 0 | 0 | 0 | |
| DML | 4.992 | 0.254 | 5.251 | |
| DMLpredict | 0.745 | 0.036 | 0.781 | |
| DMR | 6.373 | 0.140 | 6.516 | |
| ELBAR | 10.475 | 0.134 | 10.614 | |
| MValueToBetaValue | 0 | 0 | 0 | |
| SigDF | 0.221 | 0.020 | 0.241 | |
| addMask | 0.048 | 0.000 | 0.048 | |
| betasCollapseToPfx | 0.009 | 0.000 | 0.009 | |
| bisConversionControl | 2.935 | 0.062 | 3.000 | |
| calcEffectSize | 0.599 | 0.026 | 0.626 | |
| checkLevels | 2.308 | 0.047 | 2.383 | |
| cnSegmentation | 0.162 | 0.017 | 0.180 | |
| compareMouseStrainReference | 8.658 | 0.055 | 8.720 | |
| compareMouseTissueReference | 0.000 | 0.000 | 0.001 | |
| compareReference | 8.099 | 0.140 | 8.245 | |
| controls | 1.136 | 0.047 | 1.183 | |
| createUCSCtrack | 3.136 | 0.127 | 3.282 | |
| deIdentify | 3.500 | 0.055 | 3.559 | |
| detectionPnegEcdf | 0.561 | 0.001 | 0.562 | |
| diffRefSet | 8.965 | 0.133 | 9.108 | |
| dmContrasts | 1.292 | 0.032 | 1.325 | |
| dyeBiasCorr | 1.529 | 0.115 | 1.644 | |
| dyeBiasCorrMostBalanced | 5.212 | 0.107 | 5.348 | |
| dyeBiasL | 0.733 | 0.074 | 0.807 | |
| dyeBiasNL | 4.053 | 0.059 | 4.114 | |
| estimateLeukocyte | 4.120 | 0.150 | 4.319 | |
| formatVCF | 1.278 | 0.036 | 1.315 | |
| getAFTypeIbySumAlleles | 0.933 | 0.037 | 0.979 | |
| getAFs | 0.662 | 0.016 | 0.679 | |
| getBetas | 0.499 | 0.013 | 0.512 | |
| getMask | 3.708 | 0.115 | 5.782 | |
| getRefSet | 9.617 | 0.064 | 9.685 | |
| imputeBetas | 12.668 | 0.444 | 13.697 | |
| imputeBetasByGenomicNeighbors | 25.200 | 0.722 | 25.991 | |
| imputeBetasMatrixByMean | 0.002 | 0.000 | 0.001 | |
| inferEthnicity | 0.001 | 0.000 | 0.001 | |
| inferInfiniumIChannel | 0.157 | 0.136 | 0.294 | |
| inferSex | 16.090 | 0.281 | 16.383 | |
| inferSpecies | 12.940 | 0.565 | 13.516 | |
| inferStrain | 6.369 | 0.548 | 6.920 | |
| inferTissue | 4.448 | 0.163 | 4.612 | |
| initFileSet | 0.588 | 0.032 | 0.620 | |
| listAvailableMasks | 0.661 | 0.029 | 0.690 | |
| mLiftOver | 0 | 0 | 0 | |
| mapFileSet | 0.023 | 0.001 | 0.024 | |
| mapToMammal40 | 1.439 | 0.050 | 1.492 | |
| matchDesign | 7.412 | 0.036 | 7.451 | |
| meanIntensity | 1.491 | 0.033 | 1.524 | |
| medianTotalIntensity | 0.465 | 0.017 | 0.482 | |
| noMasked | 2.004 | 0.040 | 2.045 | |
| noob | 1.26 | 0.01 | 1.27 | |
| openSesame | 2.942 | 0.070 | 3.046 | |
| openSesameToFile | 0.841 | 0.002 | 0.843 | |
| pOOBAH | 0.838 | 0.000 | 0.837 | |
| palgen | 0.026 | 0.001 | 0.031 | |
| parseGEOsignalMU | 1.774 | 0.039 | 1.824 | |
| predictAge | 1.321 | 0.023 | 1.344 | |
| predictAgeHorvath353 | 0 | 0 | 0 | |
| predictAgeSkinBlood | 0 | 0 | 0 | |
| predictMouseAgeInMonth | 0 | 0 | 0 | |
| prefixMask | 0.301 | 0.000 | 0.302 | |
| prefixMaskButC | 0.084 | 0.000 | 0.084 | |
| prefixMaskButCG | 0.033 | 0.000 | 0.033 | |
| prepSesame | 2.078 | 0.021 | 2.099 | |
| prepSesameList | 0.002 | 0.000 | 0.001 | |
| print.DMLSummary | 2.190 | 0.037 | 2.227 | |
| print.fileSet | 0.587 | 0.028 | 0.616 | |
| probeID_designType | 0.000 | 0.000 | 0.001 | |
| probeSuccessRate | 2.874 | 0.069 | 2.944 | |
| qualityMask | 1.082 | 0.041 | 1.124 | |
| reIdentify | 2.715 | 0.038 | 2.753 | |
| readFileSet | 0.039 | 0.000 | 0.040 | |
| readIDATpair | 0.058 | 0.001 | 0.059 | |
| recommendedMaskNames | 0.000 | 0.000 | 0.001 | |
| resetMask | 0.208 | 0.015 | 0.223 | |
| scrub | 1.413 | 0.000 | 1.414 | |
| scrubSoft | 2.444 | 0.002 | 2.448 | |
| sdfPlatform | 0.175 | 0.008 | 0.183 | |
| sdf_read_table | 4.631 | 0.090 | 4.722 | |
| sdf_write_table | 1.078 | 0.077 | 1.169 | |
| searchIDATprefixes | 0.005 | 0.000 | 0.007 | |
| sesame-package | 1.016 | 0.030 | 1.048 | |
| sesameAnno_attachManifest | 0 | 0 | 0 | |
| sesameAnno_buildAddressFile | 0.001 | 0.000 | 0.001 | |
| sesameAnno_buildManifestGRanges | 0 | 0 | 0 | |
| sesameAnno_download | 0 | 0 | 0 | |
| sesameAnno_readManifestTSV | 0 | 0 | 0 | |
| sesameQC_calcStats | 13.142 | 0.013 | 13.160 | |
| sesameQC_getStats | 1.510 | 0.000 | 1.511 | |
| sesameQC_plotBar | 9.116 | 0.093 | 9.240 | |
| sesameQC_plotBetaByDesign | 6.392 | 0.004 | 6.396 | |
| sesameQC_plotHeatSNPs | 13.215 | 0.036 | 13.254 | |
| sesameQC_plotIntensVsBetas | 1.176 | 0.021 | 1.198 | |
| sesameQC_plotRedGrnQQ | 0.819 | 0.040 | 0.858 | |
| sesameQC_rankStats | 2.024 | 0.045 | 2.074 | |
| sesameQCtoDF | 1.246 | 0.001 | 1.248 | |
| sesame_checkVersion | 0.004 | 0.000 | 0.003 | |
| sesamize | 0.001 | 0.000 | 0.001 | |
| setMask | 0.054 | 0.000 | 0.054 | |
| signalMU | 0.479 | 0.010 | 0.489 | |
| sliceFileSet | 0.022 | 0.002 | 0.024 | |
| summaryExtractTest | 2.220 | 0.049 | 2.269 | |
| totalIntensities | 1.408 | 0.038 | 1.445 | |
| updateSigDF | 1.681 | 0.059 | 1.743 | |
| visualizeGene | 5.528 | 0.094 | 5.635 | |
| visualizeProbes | 0.805 | 0.000 | 0.805 | |
| visualizeRegion | 0.215 | 0.000 | 0.215 | |
| visualizeSegments | 1.754 | 0.014 | 1.768 | |