| Back to Rapid builds (Linux only) of a subset of BioC 3.22 Report updated every 6 hours | 
This page was generated on 2025-10-30 14:25 -0400 (Thu, 30 Oct 2025).
| Hostname | OS | Arch (*) | R version | Installed pkgs | 
|---|---|---|---|---|
| teran2 | Linux (Ubuntu 24.04.3 LTS) | x86_64 | 4.5.1 (2025-06-13) -- "Great Square Root" | 896 | 
| Click on any hostname to see more info about the system (e.g. compilers) (*) as reported by 'uname -p', except on Windows and Mac OS X | ||||
| Package 199/229 | Hostname | OS / Arch | INSTALL | BUILD | CHECK | |||||||
| sesame 1.29.0  (landing page) Wanding Zhou 
 | teran2 | Linux (Ubuntu 24.04.3 LTS) / x86_64 | ERROR | ERROR | skipped | |||||||
| To the developers/maintainers of the sesame package: - Use the following Renviron settings to reproduce errors and warnings. - If 'R CMD check' started to fail recently on the Linux builder(s) over a missing dependency, add the missing dependency to 'Suggests:' in your DESCRIPTION file. See Renviron.bioc for more information. | 
| Package: sesame | 
| Version: 1.29.0 | 
| Command: /home/rapidbuild/bbs-3.22-bioc-rapid/R/bin/R CMD build --keep-empty-dirs --no-resave-data sesame | 
| StartedAt: 2025-10-30 13:04:43 -0400 (Thu, 30 Oct 2025) | 
| EndedAt: 2025-10-30 13:04:44 -0400 (Thu, 30 Oct 2025) | 
| EllapsedTime: 1.0 seconds | 
| RetCode: 1 | 
| Status: ERROR | 
| PackageFile: None | 
| PackageFileSize: NA | 
##############################################################################
##############################################################################
###
### Running command:
###
###   /home/rapidbuild/bbs-3.22-bioc-rapid/R/bin/R CMD build --keep-empty-dirs --no-resave-data sesame
###
##############################################################################
##############################################################################
* checking for file ‘sesame/DESCRIPTION’ ... OK
* preparing ‘sesame’:
* checking DESCRIPTION meta-information ... OK
* installing the package to build vignettes
      -----------------------------------
* installing *source* package ‘sesame’ ...
** this is package ‘sesame’ version ‘1.29.0’
** using staged installation
** R
** inst
** byte-compile and prepare package for lazy loading
Error: package ‘ExperimentHub’ required by ‘sesameData’ could not be found
Execution halted
ERROR: lazy loading failed for package ‘sesame’
* removing ‘/tmp/RtmpLz3FYx/Rinst2220604350442f/sesame’
      -----------------------------------
ERROR: package installation failed