| Back to Rapid builds (Linux only) of a subset of BioC 3.22 Report updated every 6 hours | 
This page was generated on 2025-10-30 14:25 -0400 (Thu, 30 Oct 2025).
| Hostname | OS | Arch (*) | R version | Installed pkgs | 
|---|---|---|---|---|
| teran2 | Linux (Ubuntu 24.04.3 LTS) | x86_64 | 4.5.1 (2025-06-13) -- "Great Square Root" | 896 | 
| Click on any hostname to see more info about the system (e.g. compilers) (*) as reported by 'uname -p', except on Windows and Mac OS X | ||||
| Package 84/229 | Hostname | OS / Arch | INSTALL | BUILD | CHECK | |||||||
| ExperimentHub 3.1.0  (landing page) Bioconductor Package Maintainer 
 | teran2 | Linux (Ubuntu 24.04.3 LTS) / x86_64 | ERROR | ERROR | skipped | |||||||
| To the developers/maintainers of the ExperimentHub package: - Use the following Renviron settings to reproduce errors and warnings. - If 'R CMD check' started to fail recently on the Linux builder(s) over a missing dependency, add the missing dependency to 'Suggests:' in your DESCRIPTION file. See Renviron.bioc for more information. | 
| Package: ExperimentHub | 
| Version: 3.1.0 | 
| Command: /home/rapidbuild/bbs-3.22-bioc-rapid/R/bin/R CMD build --keep-empty-dirs --no-resave-data ExperimentHub | 
| StartedAt: 2025-10-30 12:35:41 -0400 (Thu, 30 Oct 2025) | 
| EndedAt: 2025-10-30 12:35:42 -0400 (Thu, 30 Oct 2025) | 
| EllapsedTime: 1.0 seconds | 
| RetCode: 1 | 
| Status: ERROR | 
| PackageFile: None | 
| PackageFileSize: NA | 
##############################################################################
##############################################################################
###
### Running command:
###
###   /home/rapidbuild/bbs-3.22-bioc-rapid/R/bin/R CMD build --keep-empty-dirs --no-resave-data ExperimentHub
###
##############################################################################
##############################################################################
* checking for file ‘ExperimentHub/DESCRIPTION’ ... OK
* preparing ‘ExperimentHub’:
* checking DESCRIPTION meta-information ... OK
* installing the package to build vignettes
      -----------------------------------
ERROR: dependency ‘AnnotationHub’ is not available for package ‘ExperimentHub’
Perhaps try a variation of:
install.packages('AnnotationHub')
* removing ‘/tmp/Rtmph5bqdv/Rinst1f47af7e7bc325/ExperimentHub’
      -----------------------------------
ERROR: package installation failed