Back to Rapid builds (Linux only) of a subset of BioC 3.22
Report updated every 6 hours

This page was generated on 2025-10-30 14:25 -0400 (Thu, 30 Oct 2025).

HostnameOSArch (*)R versionInstalled pkgs
teran2Linux (Ubuntu 24.04.3 LTS)x86_644.5.1 (2025-06-13) -- "Great Square Root" 896
Click on any hostname to see more info about the system (e.g. compilers)      (*) as reported by 'uname -p', except on Windows and Mac OS X

Package 149/229HostnameOS / ArchINSTALLBUILDCHECK
MsDataHub 1.11.0  (landing page)
Laurent Gatto
Snapshot Date: 2025-10-30 12:00 -0400 (Thu, 30 Oct 2025)
git_url: https://git.bioconductor.org/packages/MsDataHub
git_branch: devel
git_last_commit: e83d0e7
git_last_commit_date: 2025-10-29 11:21:50 -0400 (Wed, 29 Oct 2025)
teran2Linux (Ubuntu 24.04.3 LTS) / x86_64  ERROR    ERROR  skipped


BUILD results for MsDataHub on teran2

To the developers/maintainers of the MsDataHub package:
- Use the following Renviron settings to reproduce errors and warnings.
- If 'R CMD check' started to fail recently on the Linux builder(s) over a missing dependency, add the missing dependency to 'Suggests:' in your DESCRIPTION file. See Renviron.bioc for more information.

raw results


Summary

Package: MsDataHub
Version: 1.11.0
Command: /home/rapidbuild/bbs-3.22-bioc-rapid/R/bin/R CMD build --keep-empty-dirs --no-resave-data MsDataHub
StartedAt: 2025-10-30 12:50:14 -0400 (Thu, 30 Oct 2025)
EndedAt: 2025-10-30 12:50:15 -0400 (Thu, 30 Oct 2025)
EllapsedTime: 1.0 seconds
RetCode: 1
Status:   ERROR  
PackageFile: None
PackageFileSize: NA

Command output

##############################################################################
##############################################################################
###
### Running command:
###
###   /home/rapidbuild/bbs-3.22-bioc-rapid/R/bin/R CMD build --keep-empty-dirs --no-resave-data MsDataHub
###
##############################################################################
##############################################################################


* checking for file ‘MsDataHub/DESCRIPTION’ ... OK
* preparing ‘MsDataHub’:
* checking DESCRIPTION meta-information ... OK
* installing the package to build vignettes
      -----------------------------------
ERROR: dependency ‘ExperimentHub’ is not available for package ‘MsDataHub’
Perhaps try a variation of:
install.packages('ExperimentHub')
* removing ‘/tmp/RtmpG2eWqB/Rinst2053904300b764/MsDataHub’
      -----------------------------------
ERROR: package installation failed