| Back to Rapid builds (Linux only) of a subset of BioC 3.23 Report updated every 6 hours | 
This page was generated on 2025-10-31 09:43 -0400 (Fri, 31 Oct 2025).
| Hostname | OS | Arch (*) | R version | Installed pkgs | 
|---|---|---|---|---|
| teran2 | Linux (Ubuntu 24.04.3 LTS) | x86_64 | R Under development (unstable) (2025-10-28 r88973) -- "Unsuffered Consequences" | 917 | 
| Click on any hostname to see more info about the system (e.g. compilers) (*) as reported by 'uname -p', except on Windows and Mac OS X | ||||
| Package 176/230 | Hostname | OS / Arch | INSTALL | BUILD | CHECK | |||||||
| ReportingTools 2.51.0  (landing page) Jason A. Hackney 
 | teran2 | Linux (Ubuntu 24.04.3 LTS) / x86_64 | OK | OK | WARNINGS | |||||||
| To the developers/maintainers of the ReportingTools package: - Use the following Renviron settings to reproduce errors and warnings. - If 'R CMD check' started to fail recently on the Linux builder(s) over a missing dependency, add the missing dependency to 'Suggests:' in your DESCRIPTION file. See Renviron.bioc for more information. | 
| Package: ReportingTools | 
| Version: 2.51.0 | 
| Command: /home/rapidbuild/bbs-3.23-bioc-rapid/R/bin/R CMD INSTALL ReportingTools | 
| StartedAt: 2025-10-31 06:26:59 -0400 (Fri, 31 Oct 2025) | 
| EndedAt: 2025-10-31 06:27:47 -0400 (Fri, 31 Oct 2025) | 
| EllapsedTime: 47.6 seconds | 
| RetCode: 0 | 
| Status: OK | 
############################################################################## ############################################################################## ### ### Running command: ### ### /home/rapidbuild/bbs-3.23-bioc-rapid/R/bin/R CMD INSTALL ReportingTools ### ############################################################################## ############################################################################## * installing to library ‘/media/volume/teran2_disk/rapidbuild/bbs-3.23-bioc-rapid/R/site-library’ * installing *source* package ‘ReportingTools’ ... ** this is package ‘ReportingTools’ version ‘2.51.0’ ** using staged installation ** R ** data ** inst ** byte-compile and prepare package for lazy loading in method for 'objectToHTML' with signature 'object="ggbio"': no definition for class "ggbio" ** help *** installing help indices ** building package indices ** installing vignettes ** testing if installed package can be loaded from temporary location ** testing if installed package can be loaded from final location ** testing if installed package keeps a record of temporary installation path * DONE (ReportingTools)