| Back to Rapid builds (Linux only) of a subset of BioC 3.23 Report updated every 6 hours |
This page was generated on 2025-10-31 09:43 -0400 (Fri, 31 Oct 2025).
| Hostname | OS | Arch (*) | R version | Installed pkgs |
|---|---|---|---|---|
| teran2 | Linux (Ubuntu 24.04.3 LTS) | x86_64 | R Under development (unstable) (2025-10-28 r88973) -- "Unsuffered Consequences" | 917 |
| Click on any hostname to see more info about the system (e.g. compilers) (*) as reported by 'uname -p', except on Windows and Mac OS X | ||||
| Package 60/230 | Hostname | OS / Arch | INSTALL | BUILD | CHECK | |||||||
| ConsensusClusterPlus 1.75.0 (landing page) Matt Wilkerson
| teran2 | Linux (Ubuntu 24.04.3 LTS) / x86_64 | OK | OK | OK | |||||||
|
To the developers/maintainers of the ConsensusClusterPlus package: - Use the following Renviron settings to reproduce errors and warnings. - If 'R CMD check' started to fail recently on the Linux builder(s) over a missing dependency, add the missing dependency to 'Suggests:' in your DESCRIPTION file. See Renviron.bioc for more information. |
| Package: ConsensusClusterPlus |
| Version: 1.75.0 |
| Command: /home/rapidbuild/bbs-3.23-bioc-rapid/R/bin/R CMD check --install=check:ConsensusClusterPlus.install-out.txt --library=/home/rapidbuild/bbs-3.23-bioc-rapid/R/site-library --timings ConsensusClusterPlus_1.75.0.tar.gz |
| StartedAt: 2025-10-31 07:54:45 -0400 (Fri, 31 Oct 2025) |
| EndedAt: 2025-10-31 07:55:08 -0400 (Fri, 31 Oct 2025) |
| EllapsedTime: 23.0 seconds |
| RetCode: 0 |
| Status: OK |
| CheckDir: ConsensusClusterPlus.Rcheck |
| Warnings: 0 |
##############################################################################
##############################################################################
###
### Running command:
###
### /home/rapidbuild/bbs-3.23-bioc-rapid/R/bin/R CMD check --install=check:ConsensusClusterPlus.install-out.txt --library=/home/rapidbuild/bbs-3.23-bioc-rapid/R/site-library --timings ConsensusClusterPlus_1.75.0.tar.gz
###
##############################################################################
##############################################################################
* using log directory ‘/media/volume/teran2_disk/rapidbuild/bbs-3.23-bioc-rapid/meat/ConsensusClusterPlus.Rcheck’
* using R Under development (unstable) (2025-10-28 r88973)
* using platform: x86_64-pc-linux-gnu
* R was compiled by
gcc (Ubuntu 13.3.0-6ubuntu2~24.04) 13.3.0
GNU Fortran (Ubuntu 13.3.0-6ubuntu2~24.04) 13.3.0
* running under: Ubuntu 24.04.3 LTS
* using session charset: UTF-8
* checking for file ‘ConsensusClusterPlus/DESCRIPTION’ ... OK
* checking extension type ... Package
* this is package ‘ConsensusClusterPlus’ version ‘1.75.0’
* checking CRAN incoming feasibility ... NOTE
Maintainer: ‘Matt Wilkerson <mdwilkerson@outlook.com>’
Unknown, possibly misspelled, fields in DESCRIPTION:
‘git_url’ ‘git_branch’ ‘git_last_commit’ ‘git_last_commit_date’
No Authors@R field in DESCRIPTION.
Please add one, modifying
Authors@R: c(person(given = "Matt",
family = "Wilkerson",
role = c("aut", "cre"),
email = "mdwilkerson@outlook.com"),
person(given = "Peter",
family = "Waltman",
role = "aut",
email = "waltman@soe.ucsc.edu"))
as necessary.
Package CITATION file contains call(s) to old-style citEntry(). Please
use bibentry() instead.
The Title field is just the package name: provide a real title.
The Description field should start with a capital letter.
The Date field is over a month old.
* checking package namespace information ... OK
* checking package dependencies ... OK
* checking if this is a source package ... OK
* checking if there is a namespace ... OK
* checking for hidden files and directories ... OK
* checking for portable file names ... OK
* checking for sufficient/correct file permissions ... OK
* checking whether package ‘ConsensusClusterPlus’ can be installed ... OK
* checking installed package size ... OK
* checking package directory ... OK
* checking ‘build’ directory ... OK
* checking DESCRIPTION meta-information ... NOTE
Malformed Description field: should contain one or more complete sentences.
Non-standard license specification:
GPL version 2
Standardizable: TRUE
Standardized license specification:
GPL-2
* checking top-level files ... OK
* checking for left-over files ... OK
* checking index information ... OK
* checking package subdirectories ... OK
* checking code files for non-ASCII characters ... OK
* checking R files for syntax errors ... OK
* checking whether the package can be loaded ... OK
* checking whether the package can be loaded with stated dependencies ... OK
* checking whether the package can be unloaded cleanly ... OK
* checking whether the namespace can be loaded with stated dependencies ... OK
* checking whether the namespace can be unloaded cleanly ... OK
* checking loading without being on the library search path ... OK
* checking use of S3 registration ... OK
* checking dependencies in R code ... NOTE
Namespace in Imports field not imported from: ‘ALL’
All declared Imports should be used.
* checking S3 generic/method consistency ... OK
* checking replacement functions ... OK
* checking foreign function calls ... OK
* checking R code for possible problems ... NOTE
ConsensusClusterPlus: warning in heatmap(pc, Colv = NA, Rowv = NA, symm
= FALSE, scale = "none", col = tmyPal, na.rm = TRUE, labRow = F,
labCol = F, mar = c(5, 5), main = paste("consensus matrix k=", tk,
sep = ""), ColSideCol = oc): partial argument match of 'mar' to
'margins'
ConsensusClusterPlus: warning in heatmap(pc, Colv = NA, Rowv = NA, symm
= FALSE, scale = "none", col = tmyPal, na.rm = TRUE, labRow = F,
labCol = F, mar = c(5, 5), main = paste("consensus matrix k=", tk,
sep = ""), ColSideCol = oc): partial argument match of 'ColSideCol'
to 'ColSideColors'
ConsensusClusterPlus: warning in heatmap(pc, Colv = as.dendrogram(hc),
Rowv = NA, symm = FALSE, scale = "none", col = tmyPal, na.rm = TRUE,
labRow = F, labCol = F, mar = c(5, 5), main = paste("consensus matrix
k=", tk, sep = ""), ColSideCol = colorList[[1]]): partial argument
match of 'mar' to 'margins'
ConsensusClusterPlus: warning in heatmap(pc, Colv = as.dendrogram(hc),
Rowv = NA, symm = FALSE, scale = "none", col = tmyPal, na.rm = TRUE,
labRow = F, labCol = F, mar = c(5, 5), main = paste("consensus matrix
k=", tk, sep = ""), ColSideCol = colorList[[1]]): partial argument
match of 'ColSideCol' to 'ColSideColors'
ConsensusClusterPlus: no visible global function definition for
‘bitmap’
ConsensusClusterPlus: no visible global function definition for
‘postscript’
calcICL: no visible global function definition for ‘postscript’
calcICL: no visible global function definition for ‘bitmap’
Undefined global functions or variables:
bitmap postscript
Consider adding
importFrom("grDevices", "bitmap", "postscript")
to your NAMESPACE file.
* checking Rd files ... OK
* checking Rd metadata ... OK
* checking Rd cross-references ... OK
* checking for missing documentation entries ... OK
* checking for code/documentation mismatches ... OK
* checking Rd \usage sections ... OK
* checking Rd contents ... OK
* checking for unstated dependencies in examples ... OK
* checking sizes of PDF files under ‘inst/doc’ ...* checking files in ‘vignettes’ ... OK
* checking examples ... OK
* checking for unstated dependencies in vignettes ... OK
* checking package vignettes ... OK
* checking re-building of vignette outputs ... OK
* checking PDF version of manual ... OK
* DONE
Status: 4 NOTEs
See
‘/media/volume/teran2_disk/rapidbuild/bbs-3.23-bioc-rapid/meat/ConsensusClusterPlus.Rcheck/00check.log’
for details.
ConsensusClusterPlus.Rcheck/00install.out
############################################################################## ############################################################################## ### ### Running command: ### ### /home/rapidbuild/bbs-3.23-bioc-rapid/R/bin/R CMD INSTALL ConsensusClusterPlus ### ############################################################################## ############################################################################## * installing to library ‘/media/volume/teran2_disk/rapidbuild/bbs-3.23-bioc-rapid/R/site-library’ * installing *source* package ‘ConsensusClusterPlus’ ... ** this is package ‘ConsensusClusterPlus’ version ‘1.75.0’ ** using staged installation ** R ** inst ** byte-compile and prepare package for lazy loading ** help *** installing help indices ** building package indices ** installing vignettes ** testing if installed package can be loaded from temporary location ** testing if installed package can be loaded from final location ** testing if installed package keeps a record of temporary installation path * DONE (ConsensusClusterPlus)
ConsensusClusterPlus.Rcheck/ConsensusClusterPlus-Ex.timings
| name | user | system | elapsed | |
| ConsensusClusterPlus | 0.731 | 0.068 | 0.799 | |