Back to Rapid builds (Linux only) of a subset of BioC 3.22
Report updated every 6 hours

This page was generated on 2025-10-30 14:25 -0400 (Thu, 30 Oct 2025).

HostnameOSArch (*)R versionInstalled pkgs
teran2Linux (Ubuntu 24.04.3 LTS)x86_644.5.1 (2025-06-13) -- "Great Square Root" 896
Click on any hostname to see more info about the system (e.g. compilers)      (*) as reported by 'uname -p', except on Windows and Mac OS X

Package 24/229HostnameOS / ArchINSTALLBUILDCHECK
beachmat 2.27.0  (landing page)
Aaron Lun
Snapshot Date: 2025-10-30 12:00 -0400 (Thu, 30 Oct 2025)
git_url: https://git.bioconductor.org/packages/beachmat
git_branch: devel
git_last_commit: 06edf7e
git_last_commit_date: 2025-10-29 10:39:35 -0400 (Wed, 29 Oct 2025)
teran2Linux (Ubuntu 24.04.3 LTS) / x86_64  OK    OK    OK  


BUILD results for beachmat on teran2

To the developers/maintainers of the beachmat package:
- Use the following Renviron settings to reproduce errors and warnings.
- If 'R CMD check' started to fail recently on the Linux builder(s) over a missing dependency, add the missing dependency to 'Suggests:' in your DESCRIPTION file. See Renviron.bioc for more information.

raw results


Summary

Package: beachmat
Version: 2.27.0
Command: /home/rapidbuild/bbs-3.22-bioc-rapid/R/bin/R CMD build --keep-empty-dirs --no-resave-data beachmat
StartedAt: 2025-10-30 12:26:49 -0400 (Thu, 30 Oct 2025)
EndedAt: 2025-10-30 12:28:36 -0400 (Thu, 30 Oct 2025)
EllapsedTime: 107.0 seconds
RetCode: 0
Status:   OK  
PackageFile: beachmat_2.27.0.tar.gz
PackageFileSize: 370.4 KiB

Command output

##############################################################################
##############################################################################
###
### Running command:
###
###   /home/rapidbuild/bbs-3.22-bioc-rapid/R/bin/R CMD build --keep-empty-dirs --no-resave-data beachmat
###
##############################################################################
##############################################################################


* checking for file ‘beachmat/DESCRIPTION’ ... OK
* preparing ‘beachmat’:
* checking DESCRIPTION meta-information ... OK
* cleaning src
* installing the package to build vignettes
* creating vignettes ... OK
* cleaning src
* checking for LF line-endings in source and make files and shell scripts
* checking for empty or unneeded directories
* building ‘beachmat_2.27.0.tar.gz’