| Back to Rapid builds (Linux only) of a subset of BioC 3.22 Report updated every 6 hours | 
This page was generated on 2025-10-25 21:49 -0400 (Sat, 25 Oct 2025).
| Hostname | OS | Arch (*) | R version | Installed pkgs | 
|---|---|---|---|---|
| teran2 | Linux (Ubuntu 24.04.3 LTS) | x86_64 | 4.5.1 (2025-06-13) -- "Great Square Root" | 926 | 
| Click on any hostname to see more info about the system (e.g. compilers) (*) as reported by 'uname -p', except on Windows and Mac OS X | ||||
| Package 196/229 | Hostname | OS / Arch | INSTALL | BUILD | CHECK | |||||||
| scuttle 1.19.0  (landing page) Aaron Lun 
 | teran2 | Linux (Ubuntu 24.04.3 LTS) / x86_64 | OK | OK | OK | |||||||
| To the developers/maintainers of the scuttle package: - Use the following Renviron settings to reproduce errors and warnings. - If 'R CMD check' started to fail recently on the Linux builder(s) over a missing dependency, add the missing dependency to 'Suggests:' in your DESCRIPTION file. See Renviron.bioc for more information. | 
| Package: scuttle | 
| Version: 1.19.0 | 
| Command: /home/rapidbuild/bbs-3.22-bioc-rapid/R/bin/R CMD check --install=check:scuttle.install-out.txt --library=/home/rapidbuild/bbs-3.22-bioc-rapid/R/site-library --timings scuttle_1.19.0.tar.gz | 
| StartedAt: 2025-10-25 21:10:16 -0400 (Sat, 25 Oct 2025) | 
| EndedAt: 2025-10-25 21:15:52 -0400 (Sat, 25 Oct 2025) | 
| EllapsedTime: 335.3 seconds | 
| RetCode: 0 | 
| Status: OK | 
| CheckDir: scuttle.Rcheck | 
| Warnings: 0 | 
##############################################################################
##############################################################################
###
### Running command:
###
###   /home/rapidbuild/bbs-3.22-bioc-rapid/R/bin/R CMD check --install=check:scuttle.install-out.txt --library=/home/rapidbuild/bbs-3.22-bioc-rapid/R/site-library --timings scuttle_1.19.0.tar.gz
###
##############################################################################
##############################################################################
* using log directory ‘/media/volume/teran2_disk/rapidbuild/bbs-3.22-bioc-rapid/meat/scuttle.Rcheck’
* using R version 4.5.1 (2025-06-13)
* using platform: x86_64-pc-linux-gnu
* R was compiled by
    gcc (Ubuntu 13.3.0-6ubuntu2~24.04) 13.3.0
    GNU Fortran (Ubuntu 13.3.0-6ubuntu2~24.04) 13.3.0
* running under: Ubuntu 24.04.3 LTS
* using session charset: UTF-8
* checking for file ‘scuttle/DESCRIPTION’ ... OK
* checking extension type ... Package
* this is package ‘scuttle’ version ‘1.19.0’
* package encoding: UTF-8
* checking package namespace information ... OK
* checking package dependencies ... OK
* checking if this is a source package ... OK
* checking if there is a namespace ... OK
* checking for hidden files and directories ... OK
* checking for portable file names ... OK
* checking for sufficient/correct file permissions ... OK
* checking whether package ‘scuttle’ can be installed ... OK
* used C++ compiler: ‘g++ (Ubuntu 13.3.0-6ubuntu2~24.04) 13.3.0’
* checking C++ specification ... NOTE
  Specified C++11: please drop specification unless essential
* checking installed package size ... INFO
  installed size is  8.6Mb
  sub-directories of 1Mb or more:
    libs   8.1Mb
* checking package directory ... OK
* checking ‘build’ directory ... OK
* checking DESCRIPTION meta-information ... OK
* checking top-level files ... OK
* checking for left-over files ... OK
* checking index information ... OK
* checking package subdirectories ... OK
* checking code files for non-ASCII characters ... OK
* checking R files for syntax errors ... OK
* checking whether the package can be loaded ... OK
* checking whether the package can be loaded with stated dependencies ... OK
* checking whether the package can be unloaded cleanly ... OK
* checking whether the namespace can be loaded with stated dependencies ... OK
* checking whether the namespace can be unloaded cleanly ... OK
* checking loading without being on the library search path ... OK
* checking dependencies in R code ... OK
* checking S3 generic/method consistency ... OK
* checking replacement functions ... OK
* checking foreign function calls ... OK
* checking R code for possible problems ... OK
* checking Rd files ... OK
* checking Rd metadata ... OK
* checking Rd cross-references ... NOTE
Found the following Rd file(s) with Rd \link{} targets missing package
anchors:
  addPerCellQCMetrics.Rd: SummarizedExperiment-class, rowData, colData
  aggregateAcrossCells.Rd: colData, SingleCellExperiment-class,
    SummarizedExperiment-class, reducedDims, altExps, DataFrame-class,
    applySCE
  aggregateAcrossFeatures.Rd: SummarizedExperiment-class
  calculateAverage.Rd: SummarizedExperiment-class,
    SingleCellExperiment-class, BiocParallelParam-class,
    DelayedMatrix-class, sizeFactors
  calculateCPM.Rd: SummarizedExperiment-class,
    SingleCellExperiment-class
  calculateFPKM.Rd: SummarizedExperiment-class,
    SingleCellExperiment-class
  calculateTPM.Rd: SummarizedExperiment-class,
    SingleCellExperiment-class
  computePooledFactors.Rd: SummarizedExperiment-class,
    SingleCellExperiment-class, sizeFactors
  computeSpikeFactors.Rd: SingleCellExperiment-class, altExps, altExp,
    sizeFactors
  downsampleBatches.Rd: SummarizedExperiment-class, List-class
  downsampleMatrix.Rd: RealizationSink-class, dgCMatrix-class,
    DelayedMatrix-class
  fitLinearModel.Rd: BiocParallelParam-class
  geometricSizeFactors.Rd: SummarizedExperiment-class,
    SingleCellExperiment-class, BiocParallelParam-class,
    DelayedArray-class, sizeFactors
  librarySizeFactors.Rd: SummarizedExperiment-class,
    SingleCellExperiment-class, BiocParallelParam-class,
    DelayedArray-class, sizeFactors
  logNormCounts.Rd: SingleCellExperiment-class,
    SummarizedExperiment-class, BiocParallelParam-class, applySCE,
    sizeFactors
  makePerCellDF.Rd: SingleCellExperiment-class, altExp, rowData
  makePerFeatureDF.Rd: SingleCellExperiment-class
  medianSizeFactors.Rd: SummarizedExperiment-class,
    SingleCellExperiment-class, sizeFactors
  mockSCE.Rd: SingleCellExperiment-class, colData, altExps,
    SingleCellExperiment
  normalizeCounts.Rd: SingleCellExperiment-class,
    SummarizedExperiment-class, DelayedMatrix-class,
    BiocParallelParam-class, sizeFactors
  numDetectedAcrossCells.Rd: SummarizedExperiment-class,
    DataFrame-class, SingleCellExperiment-class, colData,
    BiocParallelParam-class
  numDetectedAcrossFeatures.Rd: SummarizedExperiment-class,
    BiocParallelParam-class
  perCellQCFilters.Rd: DataFrame-class
  perCellQCMetrics.Rd: SingleCellExperiment-class,
    SummarizedExperiment-class, BiocParallelParam-class,
    DataFrame-class
  perFeatureQCMetrics.Rd: SummarizedExperiment-class,
    SingleCellExperiment-class, BiocParallelParam-class,
    DataFrame-class
  quickPerCellQC.Rd: DataFrame-class, SummarizedExperiment-class,
    colData
  readSparseCounts.Rd: readMM
  sumCountsAcrossCells.Rd: SummarizedExperiment-class, DataFrame-class,
    SingleCellExperiment-class, colData, BiocParallelParam-class,
    colsum
  sumCountsAcrossFeatures.Rd: SummarizedExperiment-class,
    BiocParallelParam-class
  summarizeAssayByGroup.Rd: SummarizedExperiment-class,
    DataFrame-class, colData, BiocParallelParam-class
  uniquifyDataFrameByGroup.Rd: DataFrame-class, colData, DFrame-class
Please provide package anchors for all Rd \link{} targets not in the
package itself and the base packages.
* checking for missing documentation entries ... OK
* checking for code/documentation mismatches ... OK
* checking Rd \usage sections ... OK
* checking Rd contents ... OK
* checking for unstated dependencies in examples ... OK
* checking line endings in C/C++/Fortran sources/headers ... OK
* checking line endings in Makefiles ... OK
* checking compilation flags in Makevars ... OK
* checking for GNU extensions in Makefiles ... OK
* checking for portable use of $(BLAS_LIBS) and $(LAPACK_LIBS) ... OK
* checking use of PKG_*FLAGS in Makefiles ... OK
* checking compiled code ... NOTE
Note: information on .o files is not available
* checking files in ‘vignettes’ ... OK
* checking examples ... OK
* checking for unstated dependencies in ‘tests’ ... OK
* checking tests ...
  Running ‘testthat.R’
 OK
* checking for unstated dependencies in vignettes ... OK
* checking package vignettes ... OK
* checking re-building of vignette outputs ... OK
* checking PDF version of manual ... OK
* DONE
Status: 3 NOTEs
See
  ‘/media/volume/teran2_disk/rapidbuild/bbs-3.22-bioc-rapid/meat/scuttle.Rcheck/00check.log’
for details.
scuttle.Rcheck/00install.out
##############################################################################
##############################################################################
###
### Running command:
###
###   /home/rapidbuild/bbs-3.22-bioc-rapid/R/bin/R CMD INSTALL scuttle
###
##############################################################################
##############################################################################
* installing to library ‘/media/volume/teran2_disk/rapidbuild/bbs-3.22-bioc-rapid/R/site-library’
* installing *source* package ‘scuttle’ ...
** this is package ‘scuttle’ version ‘1.19.0’
** using staged installation
** libs
using C++ compiler: ‘g++ (Ubuntu 13.3.0-6ubuntu2~24.04) 13.3.0’
using C++11
g++ -std=gnu++11 -I"/home/rapidbuild/bbs-3.22-bioc-rapid/R/include" -DNDEBUG -I../inst/include/ -I'/media/volume/teran2_disk/rapidbuild/bbs-3.22-bioc-rapid/R/site-library/Rcpp/include' -I'/media/volume/teran2_disk/rapidbuild/bbs-3.22-bioc-rapid/R/site-library/beachmat/include' -I/usr/local/include    -fpic  -g -O2  -Wall -Werror=format-security  -c RcppExports.cpp -o RcppExports.o
g++ -std=gnu++11 -I"/home/rapidbuild/bbs-3.22-bioc-rapid/R/include" -DNDEBUG -I../inst/include/ -I'/media/volume/teran2_disk/rapidbuild/bbs-3.22-bioc-rapid/R/site-library/Rcpp/include' -I'/media/volume/teran2_disk/rapidbuild/bbs-3.22-bioc-rapid/R/site-library/beachmat/include' -I/usr/local/include    -fpic  -g -O2  -Wall -Werror=format-security  -c cumulative_prop.cpp -o cumulative_prop.o
In file included from /media/volume/teran2_disk/rapidbuild/bbs-3.22-bioc-rapid/R/site-library/beachmat/include/beachmat3/lin_matrix.h:12,
                 from /media/volume/teran2_disk/rapidbuild/bbs-3.22-bioc-rapid/R/site-library/beachmat/include/beachmat3/read_lin_block.h:11,
                 from /media/volume/teran2_disk/rapidbuild/bbs-3.22-bioc-rapid/R/site-library/beachmat/include/beachmat3/beachmat.h:24,
                 from cumulative_prop.cpp:2:
/media/volume/teran2_disk/rapidbuild/bbs-3.22-bioc-rapid/R/site-library/beachmat/include/beachmat3/Csparse_reader.h: In instantiation of ‘beachmat::SparseArraySeed_reader<V, TIT>::SparseArraySeed_reader(Rcpp::RObject) [with V = Rcpp::Vector<13>; TIT = const int*; Rcpp::RObject = Rcpp::RObject_Impl<Rcpp::PreserveStorage>]’:
/media/volume/teran2_disk/rapidbuild/bbs-3.22-bioc-rapid/R/site-library/beachmat/include/beachmat3/lin_matrix.h:561:46:   required from ‘beachmat::lin_SparseArraySeed<V, TIT>::lin_SparseArraySeed(Rcpp::RObject) [with V = Rcpp::Vector<13>; TIT = const int*; Rcpp::RObject = Rcpp::RObject_Impl<Rcpp::PreserveStorage>]’
/media/volume/teran2_disk/rapidbuild/bbs-3.22-bioc-rapid/R/site-library/beachmat/include/beachmat3/read_lin_block.h:36:39:   required from ‘std::unique_ptr<M> beachmat::read_lin_sparse_block_raw(Rcpp::RObject) [with M = lin_matrix; Rcpp::RObject = Rcpp::RObject_Impl<Rcpp::PreserveStorage>]’
/media/volume/teran2_disk/rapidbuild/bbs-3.22-bioc-rapid/R/site-library/beachmat/include/beachmat3/read_lin_block.h:65:57:   required from here
/media/volume/teran2_disk/rapidbuild/bbs-3.22-bioc-rapid/R/site-library/beachmat/include/beachmat3/Csparse_reader.h:535:17: warning: comparison of integer expressions of different signedness: ‘const size_t’ {aka ‘const long unsigned int’} and ‘R_xlen_t’ {aka ‘long int’} [-Wsign-compare]
  535 |         if (nnz != x.size()) {
      |             ~~~~^~~~~~~~~~~
/media/volume/teran2_disk/rapidbuild/bbs-3.22-bioc-rapid/R/site-library/beachmat/include/beachmat3/Csparse_reader.h:551:45: warning: comparison of integer expressions of different signedness: ‘int’ and ‘const size_t’ {aka ‘const long unsigned int’} [-Wsign-compare]
  551 |                     if (lastR <= 0 || lastR > NR || lastC <= 0 || lastC > NC) {
      |                                       ~~~~~~^~~~
/media/volume/teran2_disk/rapidbuild/bbs-3.22-bioc-rapid/R/site-library/beachmat/include/beachmat3/Csparse_reader.h:551:73: warning: comparison of integer expressions of different signedness: ‘int’ and ‘const size_t’ {aka ‘const long unsigned int’} [-Wsign-compare]
  551 |                     if (lastR <= 0 || lastR > NR || lastC <= 0 || lastC > NC) {
      |                                                                   ~~~~~~^~~~
/media/volume/teran2_disk/rapidbuild/bbs-3.22-bioc-rapid/R/site-library/beachmat/include/beachmat3/Csparse_reader.h:593:35: warning: comparison of integer expressions of different signedness: ‘int’ and ‘const size_t’ {aka ‘const long unsigned int’} [-Wsign-compare]
  593 |                 for (int v = 0; v < nnz; ++v, ++rowIt, ++colIt, ++xIt) {
      |                                 ~~^~~~~
/media/volume/teran2_disk/rapidbuild/bbs-3.22-bioc-rapid/R/site-library/beachmat/include/beachmat3/Csparse_reader.h: In instantiation of ‘beachmat::SparseArraySeed_reader<V, TIT>::SparseArraySeed_reader(Rcpp::RObject) [with V = Rcpp::Vector<14, Rcpp::PreserveStorage>; TIT = const double*; Rcpp::RObject = Rcpp::RObject_Impl<Rcpp::PreserveStorage>]’:
/media/volume/teran2_disk/rapidbuild/bbs-3.22-bioc-rapid/R/site-library/beachmat/include/beachmat3/lin_matrix.h:561:46:   required from ‘beachmat::lin_SparseArraySeed<V, TIT>::lin_SparseArraySeed(Rcpp::RObject) [with V = Rcpp::Vector<14, Rcpp::PreserveStorage>; TIT = const double*; Rcpp::RObject = Rcpp::RObject_Impl<Rcpp::PreserveStorage>]’
/media/volume/teran2_disk/rapidbuild/bbs-3.22-bioc-rapid/R/site-library/beachmat/include/beachmat3/read_lin_block.h:38:39:   required from ‘std::unique_ptr<M> beachmat::read_lin_sparse_block_raw(Rcpp::RObject) [with M = lin_matrix; Rcpp::RObject = Rcpp::RObject_Impl<Rcpp::PreserveStorage>]’
/media/volume/teran2_disk/rapidbuild/bbs-3.22-bioc-rapid/R/site-library/beachmat/include/beachmat3/read_lin_block.h:65:57:   required from here
/media/volume/teran2_disk/rapidbuild/bbs-3.22-bioc-rapid/R/site-library/beachmat/include/beachmat3/Csparse_reader.h:535:17: warning: comparison of integer expressions of different signedness: ‘const size_t’ {aka ‘const long unsigned int’} and ‘R_xlen_t’ {aka ‘long int’} [-Wsign-compare]
  535 |         if (nnz != x.size()) {
      |             ~~~~^~~~~~~~~~~
/media/volume/teran2_disk/rapidbuild/bbs-3.22-bioc-rapid/R/site-library/beachmat/include/beachmat3/Csparse_reader.h:551:45: warning: comparison of integer expressions of different signedness: ‘int’ and ‘const size_t’ {aka ‘const long unsigned int’} [-Wsign-compare]
  551 |                     if (lastR <= 0 || lastR > NR || lastC <= 0 || lastC > NC) {
      |                                       ~~~~~~^~~~
/media/volume/teran2_disk/rapidbuild/bbs-3.22-bioc-rapid/R/site-library/beachmat/include/beachmat3/Csparse_reader.h:551:73: warning: comparison of integer expressions of different signedness: ‘int’ and ‘const size_t’ {aka ‘const long unsigned int’} [-Wsign-compare]
  551 |                     if (lastR <= 0 || lastR > NR || lastC <= 0 || lastC > NC) {
      |                                                                   ~~~~~~^~~~
/media/volume/teran2_disk/rapidbuild/bbs-3.22-bioc-rapid/R/site-library/beachmat/include/beachmat3/Csparse_reader.h:593:35: warning: comparison of integer expressions of different signedness: ‘int’ and ‘const size_t’ {aka ‘const long unsigned int’} [-Wsign-compare]
  593 |                 for (int v = 0; v < nnz; ++v, ++rowIt, ++colIt, ++xIt) {
      |                                 ~~^~~~~
/media/volume/teran2_disk/rapidbuild/bbs-3.22-bioc-rapid/R/site-library/beachmat/include/beachmat3/Csparse_reader.h: In instantiation of ‘beachmat::SparseArraySeed_reader<V, TIT>::SparseArraySeed_reader(Rcpp::RObject) [with V = Rcpp::Vector<10, Rcpp::PreserveStorage>; TIT = const int*; Rcpp::RObject = Rcpp::RObject_Impl<Rcpp::PreserveStorage>]’:
/media/volume/teran2_disk/rapidbuild/bbs-3.22-bioc-rapid/R/site-library/beachmat/include/beachmat3/lin_matrix.h:561:46:   required from ‘beachmat::lin_SparseArraySeed<V, TIT>::lin_SparseArraySeed(Rcpp::RObject) [with V = Rcpp::Vector<10, Rcpp::PreserveStorage>; TIT = const int*; Rcpp::RObject = Rcpp::RObject_Impl<Rcpp::PreserveStorage>]’
/media/volume/teran2_disk/rapidbuild/bbs-3.22-bioc-rapid/R/site-library/beachmat/include/beachmat3/read_lin_block.h:40:39:   required from ‘std::unique_ptr<M> beachmat::read_lin_sparse_block_raw(Rcpp::RObject) [with M = lin_matrix; Rcpp::RObject = Rcpp::RObject_Impl<Rcpp::PreserveStorage>]’
/media/volume/teran2_disk/rapidbuild/bbs-3.22-bioc-rapid/R/site-library/beachmat/include/beachmat3/read_lin_block.h:65:57:   required from here
/media/volume/teran2_disk/rapidbuild/bbs-3.22-bioc-rapid/R/site-library/beachmat/include/beachmat3/Csparse_reader.h:535:17: warning: comparison of integer expressions of different signedness: ‘const size_t’ {aka ‘const long unsigned int’} and ‘R_xlen_t’ {aka ‘long int’} [-Wsign-compare]
  535 |         if (nnz != x.size()) {
      |             ~~~~^~~~~~~~~~~
/media/volume/teran2_disk/rapidbuild/bbs-3.22-bioc-rapid/R/site-library/beachmat/include/beachmat3/Csparse_reader.h:551:45: warning: comparison of integer expressions of different signedness: ‘int’ and ‘const size_t’ {aka ‘const long unsigned int’} [-Wsign-compare]
  551 |                     if (lastR <= 0 || lastR > NR || lastC <= 0 || lastC > NC) {
      |                                       ~~~~~~^~~~
/media/volume/teran2_disk/rapidbuild/bbs-3.22-bioc-rapid/R/site-library/beachmat/include/beachmat3/Csparse_reader.h:551:73: warning: comparison of integer expressions of different signedness: ‘int’ and ‘const size_t’ {aka ‘const long unsigned int’} [-Wsign-compare]
  551 |                     if (lastR <= 0 || lastR > NR || lastC <= 0 || lastC > NC) {
      |                                                                   ~~~~~~^~~~
/media/volume/teran2_disk/rapidbuild/bbs-3.22-bioc-rapid/R/site-library/beachmat/include/beachmat3/Csparse_reader.h:593:35: warning: comparison of integer expressions of different signedness: ‘int’ and ‘const size_t’ {aka ‘const long unsigned int’} [-Wsign-compare]
  593 |                 for (int v = 0; v < nnz; ++v, ++rowIt, ++colIt, ++xIt) {
      |                                 ~~^~~~~
/media/volume/teran2_disk/rapidbuild/bbs-3.22-bioc-rapid/R/site-library/beachmat/include/beachmat3/Csparse_reader.h: In instantiation of ‘beachmat::sparse_index<OUT, I> beachmat::Csparse_core<TIT, I, P>::get_row(size_t, ALT, I*, size_t, size_t) [with OUT = const int*; ALT = int*; TIT = const double*; I = int; P = long unsigned int; size_t = long unsigned int]’:
/media/volume/teran2_disk/rapidbuild/bbs-3.22-bioc-rapid/R/site-library/beachmat/include/beachmat3/Csparse_reader.h:650:42:   required from ‘beachmat::sparse_index<OUT, int> beachmat::SparseArraySeed_reader<V, TIT>::get_row(size_t, ALT, int*, size_t, size_t) [with OUT = const int*; ALT = int*; V = Rcpp::Vector<14, Rcpp::PreserveStorage>; TIT = const double*; size_t = long unsigned int]’
/media/volume/teran2_disk/rapidbuild/bbs-3.22-bioc-rapid/R/site-library/beachmat/include/beachmat3/lin_matrix.h:596:51:   required from ‘beachmat::sparse_index<const int*, int> beachmat::lin_SparseArraySeed<V, TIT>::get_row(size_t, int*, int*, size_t, size_t) [with V = Rcpp::Vector<14, Rcpp::PreserveStorage>; TIT = const double*; size_t = long unsigned int]’
/media/volume/teran2_disk/rapidbuild/bbs-3.22-bioc-rapid/R/site-library/beachmat/include/beachmat3/lin_matrix.h:595:35:   required from here
/media/volume/teran2_disk/rapidbuild/bbs-3.22-bioc-rapid/R/site-library/beachmat/include/beachmat3/Csparse_reader.h:250:22: warning: comparison of integer expressions of different signedness: ‘const int’ and ‘const long unsigned int’ [-Wsign-compare]
  250 |             if (idex != *pIt && static_cast<size_t>(i[idex]) == r) {
      |                 ~~~~~^~~~~~~
/media/volume/teran2_disk/rapidbuild/bbs-3.22-bioc-rapid/R/site-library/beachmat/include/beachmat3/Csparse_reader.h: In instantiation of ‘beachmat::sparse_index<OUT, I> beachmat::Csparse_core<TIT, I, P>::get_row(size_t, ALT, I*, size_t, size_t) [with OUT = const double*; ALT = double*; TIT = const double*; I = int; P = long unsigned int; size_t = long unsigned int]’:
/media/volume/teran2_disk/rapidbuild/bbs-3.22-bioc-rapid/R/site-library/beachmat/include/beachmat3/Csparse_reader.h:650:42:   required from ‘beachmat::sparse_index<OUT, int> beachmat::SparseArraySeed_reader<V, TIT>::get_row(size_t, ALT, int*, size_t, size_t) [with OUT = const double*; ALT = double*; V = Rcpp::Vector<14, Rcpp::PreserveStorage>; TIT = const double*; size_t = long unsigned int]’
/media/volume/teran2_disk/rapidbuild/bbs-3.22-bioc-rapid/R/site-library/beachmat/include/beachmat3/lin_matrix.h:602:54:   required from ‘beachmat::sparse_index<const double*, int> beachmat::lin_SparseArraySeed<V, TIT>::get_row(size_t, double*, int*, size_t, size_t) [with V = Rcpp::Vector<14, Rcpp::PreserveStorage>; TIT = const double*; size_t = long unsigned int]’
/media/volume/teran2_disk/rapidbuild/bbs-3.22-bioc-rapid/R/site-library/beachmat/include/beachmat3/lin_matrix.h:601:38:   required from here
/media/volume/teran2_disk/rapidbuild/bbs-3.22-bioc-rapid/R/site-library/beachmat/include/beachmat3/Csparse_reader.h:250:22: warning: comparison of integer expressions of different signedness: ‘const int’ and ‘const long unsigned int’ [-Wsign-compare]
/media/volume/teran2_disk/rapidbuild/bbs-3.22-bioc-rapid/R/site-library/beachmat/include/beachmat3/Csparse_reader.h: In instantiation of ‘beachmat::sparse_index<OUT, I> beachmat::Csparse_core<TIT, I, P>::get_row(size_t, ALT, I*, size_t, size_t) [with OUT = const int*; ALT = int*; TIT = const int*; I = int; P = long unsigned int; size_t = long unsigned int]’:
/media/volume/teran2_disk/rapidbuild/bbs-3.22-bioc-rapid/R/site-library/beachmat/include/beachmat3/Csparse_reader.h:650:42:   required from ‘beachmat::sparse_index<OUT, int> beachmat::SparseArraySeed_reader<V, TIT>::get_row(size_t, ALT, int*, size_t, size_t) [with OUT = const int*; ALT = int*; V = Rcpp::Vector<10, Rcpp::PreserveStorage>; TIT = const int*; size_t = long unsigned int]’
/media/volume/teran2_disk/rapidbuild/bbs-3.22-bioc-rapid/R/site-library/beachmat/include/beachmat3/lin_matrix.h:596:51:   required from ‘beachmat::sparse_index<const int*, int> beachmat::lin_SparseArraySeed<V, TIT>::get_row(size_t, int*, int*, size_t, size_t) [with V = Rcpp::Vector<10, Rcpp::PreserveStorage>; TIT = const int*; size_t = long unsigned int]’
/media/volume/teran2_disk/rapidbuild/bbs-3.22-bioc-rapid/R/site-library/beachmat/include/beachmat3/lin_matrix.h:595:35:   required from here
/media/volume/teran2_disk/rapidbuild/bbs-3.22-bioc-rapid/R/site-library/beachmat/include/beachmat3/Csparse_reader.h:250:22: warning: comparison of integer expressions of different signedness: ‘const int’ and ‘const long unsigned int’ [-Wsign-compare]
/media/volume/teran2_disk/rapidbuild/bbs-3.22-bioc-rapid/R/site-library/beachmat/include/beachmat3/Csparse_reader.h: In instantiation of ‘beachmat::sparse_index<OUT, I> beachmat::Csparse_core<TIT, I, P>::get_row(size_t, ALT, I*, size_t, size_t) [with OUT = const double*; ALT = double*; TIT = const int*; I = int; P = long unsigned int; size_t = long unsigned int]’:
/media/volume/teran2_disk/rapidbuild/bbs-3.22-bioc-rapid/R/site-library/beachmat/include/beachmat3/Csparse_reader.h:650:42:   required from ‘beachmat::sparse_index<OUT, int> beachmat::SparseArraySeed_reader<V, TIT>::get_row(size_t, ALT, int*, size_t, size_t) [with OUT = const double*; ALT = double*; V = Rcpp::Vector<10, Rcpp::PreserveStorage>; TIT = const int*; size_t = long unsigned int]’
/media/volume/teran2_disk/rapidbuild/bbs-3.22-bioc-rapid/R/site-library/beachmat/include/beachmat3/lin_matrix.h:602:54:   required from ‘beachmat::sparse_index<const double*, int> beachmat::lin_SparseArraySeed<V, TIT>::get_row(size_t, double*, int*, size_t, size_t) [with V = Rcpp::Vector<10, Rcpp::PreserveStorage>; TIT = const int*; size_t = long unsigned int]’
/media/volume/teran2_disk/rapidbuild/bbs-3.22-bioc-rapid/R/site-library/beachmat/include/beachmat3/lin_matrix.h:601:38:   required from here
/media/volume/teran2_disk/rapidbuild/bbs-3.22-bioc-rapid/R/site-library/beachmat/include/beachmat3/Csparse_reader.h:250:22: warning: comparison of integer expressions of different signedness: ‘const int’ and ‘const long unsigned int’ [-Wsign-compare]
g++ -std=gnu++11 -I"/home/rapidbuild/bbs-3.22-bioc-rapid/R/include" -DNDEBUG -I../inst/include/ -I'/media/volume/teran2_disk/rapidbuild/bbs-3.22-bioc-rapid/R/site-library/Rcpp/include' -I'/media/volume/teran2_disk/rapidbuild/bbs-3.22-bioc-rapid/R/site-library/beachmat/include' -I/usr/local/include    -fpic  -g -O2  -Wall -Werror=format-security  -c downsample_counts.cpp -o downsample_counts.o
In file included from /media/volume/teran2_disk/rapidbuild/bbs-3.22-bioc-rapid/R/site-library/beachmat/include/beachmat3/lin_matrix.h:12,
                 from /media/volume/teran2_disk/rapidbuild/bbs-3.22-bioc-rapid/R/site-library/beachmat/include/beachmat3/read_lin_block.h:11,
                 from /media/volume/teran2_disk/rapidbuild/bbs-3.22-bioc-rapid/R/site-library/beachmat/include/beachmat3/beachmat.h:24,
                 from downsample_counts.cpp:2:
/media/volume/teran2_disk/rapidbuild/bbs-3.22-bioc-rapid/R/site-library/beachmat/include/beachmat3/Csparse_reader.h: In instantiation of ‘beachmat::SparseArraySeed_reader<V, TIT>::SparseArraySeed_reader(Rcpp::RObject) [with V = Rcpp::Vector<13>; TIT = const int*; Rcpp::RObject = Rcpp::RObject_Impl<Rcpp::PreserveStorage>]’:
/media/volume/teran2_disk/rapidbuild/bbs-3.22-bioc-rapid/R/site-library/beachmat/include/beachmat3/lin_matrix.h:561:46:   required from ‘beachmat::lin_SparseArraySeed<V, TIT>::lin_SparseArraySeed(Rcpp::RObject) [with V = Rcpp::Vector<13>; TIT = const int*; Rcpp::RObject = Rcpp::RObject_Impl<Rcpp::PreserveStorage>]’
/media/volume/teran2_disk/rapidbuild/bbs-3.22-bioc-rapid/R/site-library/beachmat/include/beachmat3/read_lin_block.h:36:39:   required from ‘std::unique_ptr<M> beachmat::read_lin_sparse_block_raw(Rcpp::RObject) [with M = lin_matrix; Rcpp::RObject = Rcpp::RObject_Impl<Rcpp::PreserveStorage>]’
/media/volume/teran2_disk/rapidbuild/bbs-3.22-bioc-rapid/R/site-library/beachmat/include/beachmat3/read_lin_block.h:65:57:   required from here
/media/volume/teran2_disk/rapidbuild/bbs-3.22-bioc-rapid/R/site-library/beachmat/include/beachmat3/Csparse_reader.h:535:17: warning: comparison of integer expressions of different signedness: ‘const size_t’ {aka ‘const long unsigned int’} and ‘R_xlen_t’ {aka ‘long int’} [-Wsign-compare]
  535 |         if (nnz != x.size()) {
      |             ~~~~^~~~~~~~~~~
/media/volume/teran2_disk/rapidbuild/bbs-3.22-bioc-rapid/R/site-library/beachmat/include/beachmat3/Csparse_reader.h:551:45: warning: comparison of integer expressions of different signedness: ‘int’ and ‘const size_t’ {aka ‘const long unsigned int’} [-Wsign-compare]
  551 |                     if (lastR <= 0 || lastR > NR || lastC <= 0 || lastC > NC) {
      |                                       ~~~~~~^~~~
/media/volume/teran2_disk/rapidbuild/bbs-3.22-bioc-rapid/R/site-library/beachmat/include/beachmat3/Csparse_reader.h:551:73: warning: comparison of integer expressions of different signedness: ‘int’ and ‘const size_t’ {aka ‘const long unsigned int’} [-Wsign-compare]
  551 |                     if (lastR <= 0 || lastR > NR || lastC <= 0 || lastC > NC) {
      |                                                                   ~~~~~~^~~~
/media/volume/teran2_disk/rapidbuild/bbs-3.22-bioc-rapid/R/site-library/beachmat/include/beachmat3/Csparse_reader.h:593:35: warning: comparison of integer expressions of different signedness: ‘int’ and ‘const size_t’ {aka ‘const long unsigned int’} [-Wsign-compare]
  593 |                 for (int v = 0; v < nnz; ++v, ++rowIt, ++colIt, ++xIt) {
      |                                 ~~^~~~~
/media/volume/teran2_disk/rapidbuild/bbs-3.22-bioc-rapid/R/site-library/beachmat/include/beachmat3/Csparse_reader.h: In instantiation of ‘beachmat::SparseArraySeed_reader<V, TIT>::SparseArraySeed_reader(Rcpp::RObject) [with V = Rcpp::Vector<14, Rcpp::PreserveStorage>; TIT = const double*; Rcpp::RObject = Rcpp::RObject_Impl<Rcpp::PreserveStorage>]’:
/media/volume/teran2_disk/rapidbuild/bbs-3.22-bioc-rapid/R/site-library/beachmat/include/beachmat3/lin_matrix.h:561:46:   required from ‘beachmat::lin_SparseArraySeed<V, TIT>::lin_SparseArraySeed(Rcpp::RObject) [with V = Rcpp::Vector<14, Rcpp::PreserveStorage>; TIT = const double*; Rcpp::RObject = Rcpp::RObject_Impl<Rcpp::PreserveStorage>]’
/media/volume/teran2_disk/rapidbuild/bbs-3.22-bioc-rapid/R/site-library/beachmat/include/beachmat3/read_lin_block.h:38:39:   required from ‘std::unique_ptr<M> beachmat::read_lin_sparse_block_raw(Rcpp::RObject) [with M = lin_matrix; Rcpp::RObject = Rcpp::RObject_Impl<Rcpp::PreserveStorage>]’
/media/volume/teran2_disk/rapidbuild/bbs-3.22-bioc-rapid/R/site-library/beachmat/include/beachmat3/read_lin_block.h:65:57:   required from here
/media/volume/teran2_disk/rapidbuild/bbs-3.22-bioc-rapid/R/site-library/beachmat/include/beachmat3/Csparse_reader.h:535:17: warning: comparison of integer expressions of different signedness: ‘const size_t’ {aka ‘const long unsigned int’} and ‘R_xlen_t’ {aka ‘long int’} [-Wsign-compare]
  535 |         if (nnz != x.size()) {
      |             ~~~~^~~~~~~~~~~
/media/volume/teran2_disk/rapidbuild/bbs-3.22-bioc-rapid/R/site-library/beachmat/include/beachmat3/Csparse_reader.h:551:45: warning: comparison of integer expressions of different signedness: ‘int’ and ‘const size_t’ {aka ‘const long unsigned int’} [-Wsign-compare]
  551 |                     if (lastR <= 0 || lastR > NR || lastC <= 0 || lastC > NC) {
      |                                       ~~~~~~^~~~
/media/volume/teran2_disk/rapidbuild/bbs-3.22-bioc-rapid/R/site-library/beachmat/include/beachmat3/Csparse_reader.h:551:73: warning: comparison of integer expressions of different signedness: ‘int’ and ‘const size_t’ {aka ‘const long unsigned int’} [-Wsign-compare]
  551 |                     if (lastR <= 0 || lastR > NR || lastC <= 0 || lastC > NC) {
      |                                                                   ~~~~~~^~~~
/media/volume/teran2_disk/rapidbuild/bbs-3.22-bioc-rapid/R/site-library/beachmat/include/beachmat3/Csparse_reader.h:593:35: warning: comparison of integer expressions of different signedness: ‘int’ and ‘const size_t’ {aka ‘const long unsigned int’} [-Wsign-compare]
  593 |                 for (int v = 0; v < nnz; ++v, ++rowIt, ++colIt, ++xIt) {
      |                                 ~~^~~~~
/media/volume/teran2_disk/rapidbuild/bbs-3.22-bioc-rapid/R/site-library/beachmat/include/beachmat3/Csparse_reader.h: In instantiation of ‘beachmat::SparseArraySeed_reader<V, TIT>::SparseArraySeed_reader(Rcpp::RObject) [with V = Rcpp::Vector<10, Rcpp::PreserveStorage>; TIT = const int*; Rcpp::RObject = Rcpp::RObject_Impl<Rcpp::PreserveStorage>]’:
/media/volume/teran2_disk/rapidbuild/bbs-3.22-bioc-rapid/R/site-library/beachmat/include/beachmat3/lin_matrix.h:561:46:   required from ‘beachmat::lin_SparseArraySeed<V, TIT>::lin_SparseArraySeed(Rcpp::RObject) [with V = Rcpp::Vector<10, Rcpp::PreserveStorage>; TIT = const int*; Rcpp::RObject = Rcpp::RObject_Impl<Rcpp::PreserveStorage>]’
/media/volume/teran2_disk/rapidbuild/bbs-3.22-bioc-rapid/R/site-library/beachmat/include/beachmat3/read_lin_block.h:40:39:   required from ‘std::unique_ptr<M> beachmat::read_lin_sparse_block_raw(Rcpp::RObject) [with M = lin_matrix; Rcpp::RObject = Rcpp::RObject_Impl<Rcpp::PreserveStorage>]’
/media/volume/teran2_disk/rapidbuild/bbs-3.22-bioc-rapid/R/site-library/beachmat/include/beachmat3/read_lin_block.h:65:57:   required from here
/media/volume/teran2_disk/rapidbuild/bbs-3.22-bioc-rapid/R/site-library/beachmat/include/beachmat3/Csparse_reader.h:535:17: warning: comparison of integer expressions of different signedness: ‘const size_t’ {aka ‘const long unsigned int’} and ‘R_xlen_t’ {aka ‘long int’} [-Wsign-compare]
  535 |         if (nnz != x.size()) {
      |             ~~~~^~~~~~~~~~~
/media/volume/teran2_disk/rapidbuild/bbs-3.22-bioc-rapid/R/site-library/beachmat/include/beachmat3/Csparse_reader.h:551:45: warning: comparison of integer expressions of different signedness: ‘int’ and ‘const size_t’ {aka ‘const long unsigned int’} [-Wsign-compare]
  551 |                     if (lastR <= 0 || lastR > NR || lastC <= 0 || lastC > NC) {
      |                                       ~~~~~~^~~~
/media/volume/teran2_disk/rapidbuild/bbs-3.22-bioc-rapid/R/site-library/beachmat/include/beachmat3/Csparse_reader.h:551:73: warning: comparison of integer expressions of different signedness: ‘int’ and ‘const size_t’ {aka ‘const long unsigned int’} [-Wsign-compare]
  551 |                     if (lastR <= 0 || lastR > NR || lastC <= 0 || lastC > NC) {
      |                                                                   ~~~~~~^~~~
/media/volume/teran2_disk/rapidbuild/bbs-3.22-bioc-rapid/R/site-library/beachmat/include/beachmat3/Csparse_reader.h:593:35: warning: comparison of integer expressions of different signedness: ‘int’ and ‘const size_t’ {aka ‘const long unsigned int’} [-Wsign-compare]
  593 |                 for (int v = 0; v < nnz; ++v, ++rowIt, ++colIt, ++xIt) {
      |                                 ~~^~~~~
/media/volume/teran2_disk/rapidbuild/bbs-3.22-bioc-rapid/R/site-library/beachmat/include/beachmat3/Csparse_reader.h: In instantiation of ‘beachmat::sparse_index<OUT, I> beachmat::Csparse_core<TIT, I, P>::get_row(size_t, ALT, I*, size_t, size_t) [with OUT = const int*; ALT = int*; TIT = const double*; I = int; P = long unsigned int; size_t = long unsigned int]’:
/media/volume/teran2_disk/rapidbuild/bbs-3.22-bioc-rapid/R/site-library/beachmat/include/beachmat3/Csparse_reader.h:650:42:   required from ‘beachmat::sparse_index<OUT, int> beachmat::SparseArraySeed_reader<V, TIT>::get_row(size_t, ALT, int*, size_t, size_t) [with OUT = const int*; ALT = int*; V = Rcpp::Vector<14, Rcpp::PreserveStorage>; TIT = const double*; size_t = long unsigned int]’
/media/volume/teran2_disk/rapidbuild/bbs-3.22-bioc-rapid/R/site-library/beachmat/include/beachmat3/lin_matrix.h:596:51:   required from ‘beachmat::sparse_index<const int*, int> beachmat::lin_SparseArraySeed<V, TIT>::get_row(size_t, int*, int*, size_t, size_t) [with V = Rcpp::Vector<14, Rcpp::PreserveStorage>; TIT = const double*; size_t = long unsigned int]’
/media/volume/teran2_disk/rapidbuild/bbs-3.22-bioc-rapid/R/site-library/beachmat/include/beachmat3/lin_matrix.h:595:35:   required from here
/media/volume/teran2_disk/rapidbuild/bbs-3.22-bioc-rapid/R/site-library/beachmat/include/beachmat3/Csparse_reader.h:250:22: warning: comparison of integer expressions of different signedness: ‘const int’ and ‘const long unsigned int’ [-Wsign-compare]
  250 |             if (idex != *pIt && static_cast<size_t>(i[idex]) == r) {
      |                 ~~~~~^~~~~~~
/media/volume/teran2_disk/rapidbuild/bbs-3.22-bioc-rapid/R/site-library/beachmat/include/beachmat3/Csparse_reader.h: In instantiation of ‘beachmat::sparse_index<OUT, I> beachmat::Csparse_core<TIT, I, P>::get_row(size_t, ALT, I*, size_t, size_t) [with OUT = const double*; ALT = double*; TIT = const double*; I = int; P = long unsigned int; size_t = long unsigned int]’:
/media/volume/teran2_disk/rapidbuild/bbs-3.22-bioc-rapid/R/site-library/beachmat/include/beachmat3/Csparse_reader.h:650:42:   required from ‘beachmat::sparse_index<OUT, int> beachmat::SparseArraySeed_reader<V, TIT>::get_row(size_t, ALT, int*, size_t, size_t) [with OUT = const double*; ALT = double*; V = Rcpp::Vector<14, Rcpp::PreserveStorage>; TIT = const double*; size_t = long unsigned int]’
/media/volume/teran2_disk/rapidbuild/bbs-3.22-bioc-rapid/R/site-library/beachmat/include/beachmat3/lin_matrix.h:602:54:   required from ‘beachmat::sparse_index<const double*, int> beachmat::lin_SparseArraySeed<V, TIT>::get_row(size_t, double*, int*, size_t, size_t) [with V = Rcpp::Vector<14, Rcpp::PreserveStorage>; TIT = const double*; size_t = long unsigned int]’
/media/volume/teran2_disk/rapidbuild/bbs-3.22-bioc-rapid/R/site-library/beachmat/include/beachmat3/lin_matrix.h:601:38:   required from here
/media/volume/teran2_disk/rapidbuild/bbs-3.22-bioc-rapid/R/site-library/beachmat/include/beachmat3/Csparse_reader.h:250:22: warning: comparison of integer expressions of different signedness: ‘const int’ and ‘const long unsigned int’ [-Wsign-compare]
/media/volume/teran2_disk/rapidbuild/bbs-3.22-bioc-rapid/R/site-library/beachmat/include/beachmat3/Csparse_reader.h: In instantiation of ‘beachmat::sparse_index<OUT, I> beachmat::Csparse_core<TIT, I, P>::get_row(size_t, ALT, I*, size_t, size_t) [with OUT = const int*; ALT = int*; TIT = const int*; I = int; P = long unsigned int; size_t = long unsigned int]’:
/media/volume/teran2_disk/rapidbuild/bbs-3.22-bioc-rapid/R/site-library/beachmat/include/beachmat3/Csparse_reader.h:650:42:   required from ‘beachmat::sparse_index<OUT, int> beachmat::SparseArraySeed_reader<V, TIT>::get_row(size_t, ALT, int*, size_t, size_t) [with OUT = const int*; ALT = int*; V = Rcpp::Vector<10, Rcpp::PreserveStorage>; TIT = const int*; size_t = long unsigned int]’
/media/volume/teran2_disk/rapidbuild/bbs-3.22-bioc-rapid/R/site-library/beachmat/include/beachmat3/lin_matrix.h:596:51:   required from ‘beachmat::sparse_index<const int*, int> beachmat::lin_SparseArraySeed<V, TIT>::get_row(size_t, int*, int*, size_t, size_t) [with V = Rcpp::Vector<10, Rcpp::PreserveStorage>; TIT = const int*; size_t = long unsigned int]’
/media/volume/teran2_disk/rapidbuild/bbs-3.22-bioc-rapid/R/site-library/beachmat/include/beachmat3/lin_matrix.h:595:35:   required from here
/media/volume/teran2_disk/rapidbuild/bbs-3.22-bioc-rapid/R/site-library/beachmat/include/beachmat3/Csparse_reader.h:250:22: warning: comparison of integer expressions of different signedness: ‘const int’ and ‘const long unsigned int’ [-Wsign-compare]
/media/volume/teran2_disk/rapidbuild/bbs-3.22-bioc-rapid/R/site-library/beachmat/include/beachmat3/Csparse_reader.h: In instantiation of ‘beachmat::sparse_index<OUT, I> beachmat::Csparse_core<TIT, I, P>::get_row(size_t, ALT, I*, size_t, size_t) [with OUT = const double*; ALT = double*; TIT = const int*; I = int; P = long unsigned int; size_t = long unsigned int]’:
/media/volume/teran2_disk/rapidbuild/bbs-3.22-bioc-rapid/R/site-library/beachmat/include/beachmat3/Csparse_reader.h:650:42:   required from ‘beachmat::sparse_index<OUT, int> beachmat::SparseArraySeed_reader<V, TIT>::get_row(size_t, ALT, int*, size_t, size_t) [with OUT = const double*; ALT = double*; V = Rcpp::Vector<10, Rcpp::PreserveStorage>; TIT = const int*; size_t = long unsigned int]’
/media/volume/teran2_disk/rapidbuild/bbs-3.22-bioc-rapid/R/site-library/beachmat/include/beachmat3/lin_matrix.h:602:54:   required from ‘beachmat::sparse_index<const double*, int> beachmat::lin_SparseArraySeed<V, TIT>::get_row(size_t, double*, int*, size_t, size_t) [with V = Rcpp::Vector<10, Rcpp::PreserveStorage>; TIT = const int*; size_t = long unsigned int]’
/media/volume/teran2_disk/rapidbuild/bbs-3.22-bioc-rapid/R/site-library/beachmat/include/beachmat3/lin_matrix.h:601:38:   required from here
/media/volume/teran2_disk/rapidbuild/bbs-3.22-bioc-rapid/R/site-library/beachmat/include/beachmat3/Csparse_reader.h:250:22: warning: comparison of integer expressions of different signedness: ‘const int’ and ‘const long unsigned int’ [-Wsign-compare]
g++ -std=gnu++11 -I"/home/rapidbuild/bbs-3.22-bioc-rapid/R/include" -DNDEBUG -I../inst/include/ -I'/media/volume/teran2_disk/rapidbuild/bbs-3.22-bioc-rapid/R/site-library/Rcpp/include' -I'/media/volume/teran2_disk/rapidbuild/bbs-3.22-bioc-rapid/R/site-library/beachmat/include' -I/usr/local/include    -fpic  -g -O2  -Wall -Werror=format-security  -c fit_linear_model.cpp -o fit_linear_model.o
In file included from /media/volume/teran2_disk/rapidbuild/bbs-3.22-bioc-rapid/R/site-library/beachmat/include/beachmat3/lin_matrix.h:12,
                 from /media/volume/teran2_disk/rapidbuild/bbs-3.22-bioc-rapid/R/site-library/beachmat/include/beachmat3/read_lin_block.h:11,
                 from /media/volume/teran2_disk/rapidbuild/bbs-3.22-bioc-rapid/R/site-library/beachmat/include/beachmat3/beachmat.h:24,
                 from fit_linear_model.cpp:2:
/media/volume/teran2_disk/rapidbuild/bbs-3.22-bioc-rapid/R/site-library/beachmat/include/beachmat3/Csparse_reader.h: In instantiation of ‘beachmat::SparseArraySeed_reader<V, TIT>::SparseArraySeed_reader(Rcpp::RObject) [with V = Rcpp::Vector<13>; TIT = const int*; Rcpp::RObject = Rcpp::RObject_Impl<Rcpp::PreserveStorage>]’:
/media/volume/teran2_disk/rapidbuild/bbs-3.22-bioc-rapid/R/site-library/beachmat/include/beachmat3/lin_matrix.h:561:46:   required from ‘beachmat::lin_SparseArraySeed<V, TIT>::lin_SparseArraySeed(Rcpp::RObject) [with V = Rcpp::Vector<13>; TIT = const int*; Rcpp::RObject = Rcpp::RObject_Impl<Rcpp::PreserveStorage>]’
/media/volume/teran2_disk/rapidbuild/bbs-3.22-bioc-rapid/R/site-library/beachmat/include/beachmat3/read_lin_block.h:36:39:   required from ‘std::unique_ptr<M> beachmat::read_lin_sparse_block_raw(Rcpp::RObject) [with M = lin_matrix; Rcpp::RObject = Rcpp::RObject_Impl<Rcpp::PreserveStorage>]’
/media/volume/teran2_disk/rapidbuild/bbs-3.22-bioc-rapid/R/site-library/beachmat/include/beachmat3/read_lin_block.h:65:57:   required from here
/media/volume/teran2_disk/rapidbuild/bbs-3.22-bioc-rapid/R/site-library/beachmat/include/beachmat3/Csparse_reader.h:535:17: warning: comparison of integer expressions of different signedness: ‘const size_t’ {aka ‘const long unsigned int’} and ‘R_xlen_t’ {aka ‘long int’} [-Wsign-compare]
  535 |         if (nnz != x.size()) {
      |             ~~~~^~~~~~~~~~~
/media/volume/teran2_disk/rapidbuild/bbs-3.22-bioc-rapid/R/site-library/beachmat/include/beachmat3/Csparse_reader.h:551:45: warning: comparison of integer expressions of different signedness: ‘int’ and ‘const size_t’ {aka ‘const long unsigned int’} [-Wsign-compare]
  551 |                     if (lastR <= 0 || lastR > NR || lastC <= 0 || lastC > NC) {
      |                                       ~~~~~~^~~~
/media/volume/teran2_disk/rapidbuild/bbs-3.22-bioc-rapid/R/site-library/beachmat/include/beachmat3/Csparse_reader.h:551:73: warning: comparison of integer expressions of different signedness: ‘int’ and ‘const size_t’ {aka ‘const long unsigned int’} [-Wsign-compare]
  551 |                     if (lastR <= 0 || lastR > NR || lastC <= 0 || lastC > NC) {
      |                                                                   ~~~~~~^~~~
/media/volume/teran2_disk/rapidbuild/bbs-3.22-bioc-rapid/R/site-library/beachmat/include/beachmat3/Csparse_reader.h:593:35: warning: comparison of integer expressions of different signedness: ‘int’ and ‘const size_t’ {aka ‘const long unsigned int’} [-Wsign-compare]
  593 |                 for (int v = 0; v < nnz; ++v, ++rowIt, ++colIt, ++xIt) {
      |                                 ~~^~~~~
/media/volume/teran2_disk/rapidbuild/bbs-3.22-bioc-rapid/R/site-library/beachmat/include/beachmat3/Csparse_reader.h: In instantiation of ‘beachmat::SparseArraySeed_reader<V, TIT>::SparseArraySeed_reader(Rcpp::RObject) [with V = Rcpp::Vector<14, Rcpp::PreserveStorage>; TIT = const double*; Rcpp::RObject = Rcpp::RObject_Impl<Rcpp::PreserveStorage>]’:
/media/volume/teran2_disk/rapidbuild/bbs-3.22-bioc-rapid/R/site-library/beachmat/include/beachmat3/lin_matrix.h:561:46:   required from ‘beachmat::lin_SparseArraySeed<V, TIT>::lin_SparseArraySeed(Rcpp::RObject) [with V = Rcpp::Vector<14, Rcpp::PreserveStorage>; TIT = const double*; Rcpp::RObject = Rcpp::RObject_Impl<Rcpp::PreserveStorage>]’
/media/volume/teran2_disk/rapidbuild/bbs-3.22-bioc-rapid/R/site-library/beachmat/include/beachmat3/read_lin_block.h:38:39:   required from ‘std::unique_ptr<M> beachmat::read_lin_sparse_block_raw(Rcpp::RObject) [with M = lin_matrix; Rcpp::RObject = Rcpp::RObject_Impl<Rcpp::PreserveStorage>]’
/media/volume/teran2_disk/rapidbuild/bbs-3.22-bioc-rapid/R/site-library/beachmat/include/beachmat3/read_lin_block.h:65:57:   required from here
/media/volume/teran2_disk/rapidbuild/bbs-3.22-bioc-rapid/R/site-library/beachmat/include/beachmat3/Csparse_reader.h:535:17: warning: comparison of integer expressions of different signedness: ‘const size_t’ {aka ‘const long unsigned int’} and ‘R_xlen_t’ {aka ‘long int’} [-Wsign-compare]
  535 |         if (nnz != x.size()) {
      |             ~~~~^~~~~~~~~~~
/media/volume/teran2_disk/rapidbuild/bbs-3.22-bioc-rapid/R/site-library/beachmat/include/beachmat3/Csparse_reader.h:551:45: warning: comparison of integer expressions of different signedness: ‘int’ and ‘const size_t’ {aka ‘const long unsigned int’} [-Wsign-compare]
  551 |                     if (lastR <= 0 || lastR > NR || lastC <= 0 || lastC > NC) {
      |                                       ~~~~~~^~~~
/media/volume/teran2_disk/rapidbuild/bbs-3.22-bioc-rapid/R/site-library/beachmat/include/beachmat3/Csparse_reader.h:551:73: warning: comparison of integer expressions of different signedness: ‘int’ and ‘const size_t’ {aka ‘const long unsigned int’} [-Wsign-compare]
  551 |                     if (lastR <= 0 || lastR > NR || lastC <= 0 || lastC > NC) {
      |                                                                   ~~~~~~^~~~
/media/volume/teran2_disk/rapidbuild/bbs-3.22-bioc-rapid/R/site-library/beachmat/include/beachmat3/Csparse_reader.h:593:35: warning: comparison of integer expressions of different signedness: ‘int’ and ‘const size_t’ {aka ‘const long unsigned int’} [-Wsign-compare]
  593 |                 for (int v = 0; v < nnz; ++v, ++rowIt, ++colIt, ++xIt) {
      |                                 ~~^~~~~
/media/volume/teran2_disk/rapidbuild/bbs-3.22-bioc-rapid/R/site-library/beachmat/include/beachmat3/Csparse_reader.h: In instantiation of ‘beachmat::SparseArraySeed_reader<V, TIT>::SparseArraySeed_reader(Rcpp::RObject) [with V = Rcpp::Vector<10, Rcpp::PreserveStorage>; TIT = const int*; Rcpp::RObject = Rcpp::RObject_Impl<Rcpp::PreserveStorage>]’:
/media/volume/teran2_disk/rapidbuild/bbs-3.22-bioc-rapid/R/site-library/beachmat/include/beachmat3/lin_matrix.h:561:46:   required from ‘beachmat::lin_SparseArraySeed<V, TIT>::lin_SparseArraySeed(Rcpp::RObject) [with V = Rcpp::Vector<10, Rcpp::PreserveStorage>; TIT = const int*; Rcpp::RObject = Rcpp::RObject_Impl<Rcpp::PreserveStorage>]’
/media/volume/teran2_disk/rapidbuild/bbs-3.22-bioc-rapid/R/site-library/beachmat/include/beachmat3/read_lin_block.h:40:39:   required from ‘std::unique_ptr<M> beachmat::read_lin_sparse_block_raw(Rcpp::RObject) [with M = lin_matrix; Rcpp::RObject = Rcpp::RObject_Impl<Rcpp::PreserveStorage>]’
/media/volume/teran2_disk/rapidbuild/bbs-3.22-bioc-rapid/R/site-library/beachmat/include/beachmat3/read_lin_block.h:65:57:   required from here
/media/volume/teran2_disk/rapidbuild/bbs-3.22-bioc-rapid/R/site-library/beachmat/include/beachmat3/Csparse_reader.h:535:17: warning: comparison of integer expressions of different signedness: ‘const size_t’ {aka ‘const long unsigned int’} and ‘R_xlen_t’ {aka ‘long int’} [-Wsign-compare]
  535 |         if (nnz != x.size()) {
      |             ~~~~^~~~~~~~~~~
/media/volume/teran2_disk/rapidbuild/bbs-3.22-bioc-rapid/R/site-library/beachmat/include/beachmat3/Csparse_reader.h:551:45: warning: comparison of integer expressions of different signedness: ‘int’ and ‘const size_t’ {aka ‘const long unsigned int’} [-Wsign-compare]
  551 |                     if (lastR <= 0 || lastR > NR || lastC <= 0 || lastC > NC) {
      |                                       ~~~~~~^~~~
/media/volume/teran2_disk/rapidbuild/bbs-3.22-bioc-rapid/R/site-library/beachmat/include/beachmat3/Csparse_reader.h:551:73: warning: comparison of integer expressions of different signedness: ‘int’ and ‘const size_t’ {aka ‘const long unsigned int’} [-Wsign-compare]
  551 |                     if (lastR <= 0 || lastR > NR || lastC <= 0 || lastC > NC) {
      |                                                                   ~~~~~~^~~~
/media/volume/teran2_disk/rapidbuild/bbs-3.22-bioc-rapid/R/site-library/beachmat/include/beachmat3/Csparse_reader.h:593:35: warning: comparison of integer expressions of different signedness: ‘int’ and ‘const size_t’ {aka ‘const long unsigned int’} [-Wsign-compare]
  593 |                 for (int v = 0; v < nnz; ++v, ++rowIt, ++colIt, ++xIt) {
      |                                 ~~^~~~~
/media/volume/teran2_disk/rapidbuild/bbs-3.22-bioc-rapid/R/site-library/beachmat/include/beachmat3/Csparse_reader.h: In instantiation of ‘beachmat::sparse_index<OUT, I> beachmat::Csparse_core<TIT, I, P>::get_row(size_t, ALT, I*, size_t, size_t) [with OUT = const int*; ALT = int*; TIT = const double*; I = int; P = long unsigned int; size_t = long unsigned int]’:
/media/volume/teran2_disk/rapidbuild/bbs-3.22-bioc-rapid/R/site-library/beachmat/include/beachmat3/Csparse_reader.h:650:42:   required from ‘beachmat::sparse_index<OUT, int> beachmat::SparseArraySeed_reader<V, TIT>::get_row(size_t, ALT, int*, size_t, size_t) [with OUT = const int*; ALT = int*; V = Rcpp::Vector<14, Rcpp::PreserveStorage>; TIT = const double*; size_t = long unsigned int]’
/media/volume/teran2_disk/rapidbuild/bbs-3.22-bioc-rapid/R/site-library/beachmat/include/beachmat3/lin_matrix.h:596:51:   required from ‘beachmat::sparse_index<const int*, int> beachmat::lin_SparseArraySeed<V, TIT>::get_row(size_t, int*, int*, size_t, size_t) [with V = Rcpp::Vector<14, Rcpp::PreserveStorage>; TIT = const double*; size_t = long unsigned int]’
/media/volume/teran2_disk/rapidbuild/bbs-3.22-bioc-rapid/R/site-library/beachmat/include/beachmat3/lin_matrix.h:595:35:   required from here
/media/volume/teran2_disk/rapidbuild/bbs-3.22-bioc-rapid/R/site-library/beachmat/include/beachmat3/Csparse_reader.h:250:22: warning: comparison of integer expressions of different signedness: ‘const int’ and ‘const long unsigned int’ [-Wsign-compare]
  250 |             if (idex != *pIt && static_cast<size_t>(i[idex]) == r) {
      |                 ~~~~~^~~~~~~
/media/volume/teran2_disk/rapidbuild/bbs-3.22-bioc-rapid/R/site-library/beachmat/include/beachmat3/Csparse_reader.h: In instantiation of ‘beachmat::sparse_index<OUT, I> beachmat::Csparse_core<TIT, I, P>::get_row(size_t, ALT, I*, size_t, size_t) [with OUT = const double*; ALT = double*; TIT = const double*; I = int; P = long unsigned int; size_t = long unsigned int]’:
/media/volume/teran2_disk/rapidbuild/bbs-3.22-bioc-rapid/R/site-library/beachmat/include/beachmat3/Csparse_reader.h:650:42:   required from ‘beachmat::sparse_index<OUT, int> beachmat::SparseArraySeed_reader<V, TIT>::get_row(size_t, ALT, int*, size_t, size_t) [with OUT = const double*; ALT = double*; V = Rcpp::Vector<14, Rcpp::PreserveStorage>; TIT = const double*; size_t = long unsigned int]’
/media/volume/teran2_disk/rapidbuild/bbs-3.22-bioc-rapid/R/site-library/beachmat/include/beachmat3/lin_matrix.h:602:54:   required from ‘beachmat::sparse_index<const double*, int> beachmat::lin_SparseArraySeed<V, TIT>::get_row(size_t, double*, int*, size_t, size_t) [with V = Rcpp::Vector<14, Rcpp::PreserveStorage>; TIT = const double*; size_t = long unsigned int]’
/media/volume/teran2_disk/rapidbuild/bbs-3.22-bioc-rapid/R/site-library/beachmat/include/beachmat3/lin_matrix.h:601:38:   required from here
/media/volume/teran2_disk/rapidbuild/bbs-3.22-bioc-rapid/R/site-library/beachmat/include/beachmat3/Csparse_reader.h:250:22: warning: comparison of integer expressions of different signedness: ‘const int’ and ‘const long unsigned int’ [-Wsign-compare]
/media/volume/teran2_disk/rapidbuild/bbs-3.22-bioc-rapid/R/site-library/beachmat/include/beachmat3/Csparse_reader.h: In instantiation of ‘beachmat::sparse_index<OUT, I> beachmat::Csparse_core<TIT, I, P>::get_row(size_t, ALT, I*, size_t, size_t) [with OUT = const int*; ALT = int*; TIT = const int*; I = int; P = long unsigned int; size_t = long unsigned int]’:
/media/volume/teran2_disk/rapidbuild/bbs-3.22-bioc-rapid/R/site-library/beachmat/include/beachmat3/Csparse_reader.h:650:42:   required from ‘beachmat::sparse_index<OUT, int> beachmat::SparseArraySeed_reader<V, TIT>::get_row(size_t, ALT, int*, size_t, size_t) [with OUT = const int*; ALT = int*; V = Rcpp::Vector<10, Rcpp::PreserveStorage>; TIT = const int*; size_t = long unsigned int]’
/media/volume/teran2_disk/rapidbuild/bbs-3.22-bioc-rapid/R/site-library/beachmat/include/beachmat3/lin_matrix.h:596:51:   required from ‘beachmat::sparse_index<const int*, int> beachmat::lin_SparseArraySeed<V, TIT>::get_row(size_t, int*, int*, size_t, size_t) [with V = Rcpp::Vector<10, Rcpp::PreserveStorage>; TIT = const int*; size_t = long unsigned int]’
/media/volume/teran2_disk/rapidbuild/bbs-3.22-bioc-rapid/R/site-library/beachmat/include/beachmat3/lin_matrix.h:595:35:   required from here
/media/volume/teran2_disk/rapidbuild/bbs-3.22-bioc-rapid/R/site-library/beachmat/include/beachmat3/Csparse_reader.h:250:22: warning: comparison of integer expressions of different signedness: ‘const int’ and ‘const long unsigned int’ [-Wsign-compare]
/media/volume/teran2_disk/rapidbuild/bbs-3.22-bioc-rapid/R/site-library/beachmat/include/beachmat3/Csparse_reader.h: In instantiation of ‘beachmat::sparse_index<OUT, I> beachmat::Csparse_core<TIT, I, P>::get_row(size_t, ALT, I*, size_t, size_t) [with OUT = const double*; ALT = double*; TIT = const int*; I = int; P = long unsigned int; size_t = long unsigned int]’:
/media/volume/teran2_disk/rapidbuild/bbs-3.22-bioc-rapid/R/site-library/beachmat/include/beachmat3/Csparse_reader.h:650:42:   required from ‘beachmat::sparse_index<OUT, int> beachmat::SparseArraySeed_reader<V, TIT>::get_row(size_t, ALT, int*, size_t, size_t) [with OUT = const double*; ALT = double*; V = Rcpp::Vector<10, Rcpp::PreserveStorage>; TIT = const int*; size_t = long unsigned int]’
/media/volume/teran2_disk/rapidbuild/bbs-3.22-bioc-rapid/R/site-library/beachmat/include/beachmat3/lin_matrix.h:602:54:   required from ‘beachmat::sparse_index<const double*, int> beachmat::lin_SparseArraySeed<V, TIT>::get_row(size_t, double*, int*, size_t, size_t) [with V = Rcpp::Vector<10, Rcpp::PreserveStorage>; TIT = const int*; size_t = long unsigned int]’
/media/volume/teran2_disk/rapidbuild/bbs-3.22-bioc-rapid/R/site-library/beachmat/include/beachmat3/lin_matrix.h:601:38:   required from here
/media/volume/teran2_disk/rapidbuild/bbs-3.22-bioc-rapid/R/site-library/beachmat/include/beachmat3/Csparse_reader.h:250:22: warning: comparison of integer expressions of different signedness: ‘const int’ and ‘const long unsigned int’ [-Wsign-compare]
g++ -std=gnu++11 -I"/home/rapidbuild/bbs-3.22-bioc-rapid/R/include" -DNDEBUG -I../inst/include/ -I'/media/volume/teran2_disk/rapidbuild/bbs-3.22-bioc-rapid/R/site-library/Rcpp/include' -I'/media/volume/teran2_disk/rapidbuild/bbs-3.22-bioc-rapid/R/site-library/beachmat/include' -I/usr/local/include    -fpic  -g -O2  -Wall -Werror=format-security  -c pool_size_factors.cpp -o pool_size_factors.o
pool_size_factors.cpp: In function ‘Rcpp::List pool_size_factors(Rcpp::RObject, Rcpp::NumericVector, Rcpp::IntegerVector, Rcpp::IntegerVector)’:
pool_size_factors.cpp:56:15: warning: comparison of integer expressions of different signedness: ‘const size_t’ {aka ‘const long unsigned int’} and ‘R_xlen_t’ {aka ‘long int’} [-Wsign-compare]
   56 |     if (ngenes!=pseudo_cell.size()) {
      |         ~~~~~~^~~~~~~~~~~~~~~~~~~~
pool_size_factors.cpp:61:22: warning: comparison of integer expressions of different signedness: ‘R_xlen_t’ {aka ‘long int’} and ‘long unsigned int’ [-Wsign-compare]
   61 |     if (order.size() < ncells*2-1)  {
      |         ~~~~~~~~~~~~~^~~~~~~~~~~~
pool_size_factors.cpp:170:37: warning: comparison of integer expressions of different signedness: ‘int’ and ‘long unsigned int’ [-Wsign-compare]
  170 |                     for (auto i=0; i<n; ++i, ++val, ++rows) {
      |                                    ~^~
In file included from /media/volume/teran2_disk/rapidbuild/bbs-3.22-bioc-rapid/R/site-library/beachmat/include/beachmat3/lin_matrix.h:12,
                 from /media/volume/teran2_disk/rapidbuild/bbs-3.22-bioc-rapid/R/site-library/beachmat/include/beachmat3/read_lin_block.h:11,
                 from /media/volume/teran2_disk/rapidbuild/bbs-3.22-bioc-rapid/R/site-library/beachmat/include/beachmat3/beachmat.h:24,
                 from pool_size_factors.cpp:2:
/media/volume/teran2_disk/rapidbuild/bbs-3.22-bioc-rapid/R/site-library/beachmat/include/beachmat3/Csparse_reader.h: In instantiation of ‘beachmat::SparseArraySeed_reader<V, TIT>::SparseArraySeed_reader(Rcpp::RObject) [with V = Rcpp::Vector<13>; TIT = const int*; Rcpp::RObject = Rcpp::RObject_Impl<Rcpp::PreserveStorage>]’:
/media/volume/teran2_disk/rapidbuild/bbs-3.22-bioc-rapid/R/site-library/beachmat/include/beachmat3/lin_matrix.h:561:46:   required from ‘beachmat::lin_SparseArraySeed<V, TIT>::lin_SparseArraySeed(Rcpp::RObject) [with V = Rcpp::Vector<13>; TIT = const int*; Rcpp::RObject = Rcpp::RObject_Impl<Rcpp::PreserveStorage>]’
/media/volume/teran2_disk/rapidbuild/bbs-3.22-bioc-rapid/R/site-library/beachmat/include/beachmat3/read_lin_block.h:36:39:   required from ‘std::unique_ptr<M> beachmat::read_lin_sparse_block_raw(Rcpp::RObject) [with M = lin_matrix; Rcpp::RObject = Rcpp::RObject_Impl<Rcpp::PreserveStorage>]’
/media/volume/teran2_disk/rapidbuild/bbs-3.22-bioc-rapid/R/site-library/beachmat/include/beachmat3/read_lin_block.h:65:57:   required from here
/media/volume/teran2_disk/rapidbuild/bbs-3.22-bioc-rapid/R/site-library/beachmat/include/beachmat3/Csparse_reader.h:535:17: warning: comparison of integer expressions of different signedness: ‘const size_t’ {aka ‘const long unsigned int’} and ‘R_xlen_t’ {aka ‘long int’} [-Wsign-compare]
  535 |         if (nnz != x.size()) {
      |             ~~~~^~~~~~~~~~~
/media/volume/teran2_disk/rapidbuild/bbs-3.22-bioc-rapid/R/site-library/beachmat/include/beachmat3/Csparse_reader.h:551:45: warning: comparison of integer expressions of different signedness: ‘int’ and ‘const size_t’ {aka ‘const long unsigned int’} [-Wsign-compare]
  551 |                     if (lastR <= 0 || lastR > NR || lastC <= 0 || lastC > NC) {
      |                                       ~~~~~~^~~~
/media/volume/teran2_disk/rapidbuild/bbs-3.22-bioc-rapid/R/site-library/beachmat/include/beachmat3/Csparse_reader.h:551:73: warning: comparison of integer expressions of different signedness: ‘int’ and ‘const size_t’ {aka ‘const long unsigned int’} [-Wsign-compare]
  551 |                     if (lastR <= 0 || lastR > NR || lastC <= 0 || lastC > NC) {
      |                                                                   ~~~~~~^~~~
/media/volume/teran2_disk/rapidbuild/bbs-3.22-bioc-rapid/R/site-library/beachmat/include/beachmat3/Csparse_reader.h:593:35: warning: comparison of integer expressions of different signedness: ‘int’ and ‘const size_t’ {aka ‘const long unsigned int’} [-Wsign-compare]
  593 |                 for (int v = 0; v < nnz; ++v, ++rowIt, ++colIt, ++xIt) {
      |                                 ~~^~~~~
/media/volume/teran2_disk/rapidbuild/bbs-3.22-bioc-rapid/R/site-library/beachmat/include/beachmat3/Csparse_reader.h: In instantiation of ‘beachmat::SparseArraySeed_reader<V, TIT>::SparseArraySeed_reader(Rcpp::RObject) [with V = Rcpp::Vector<14, Rcpp::PreserveStorage>; TIT = const double*; Rcpp::RObject = Rcpp::RObject_Impl<Rcpp::PreserveStorage>]’:
/media/volume/teran2_disk/rapidbuild/bbs-3.22-bioc-rapid/R/site-library/beachmat/include/beachmat3/lin_matrix.h:561:46:   required from ‘beachmat::lin_SparseArraySeed<V, TIT>::lin_SparseArraySeed(Rcpp::RObject) [with V = Rcpp::Vector<14, Rcpp::PreserveStorage>; TIT = const double*; Rcpp::RObject = Rcpp::RObject_Impl<Rcpp::PreserveStorage>]’
/media/volume/teran2_disk/rapidbuild/bbs-3.22-bioc-rapid/R/site-library/beachmat/include/beachmat3/read_lin_block.h:38:39:   required from ‘std::unique_ptr<M> beachmat::read_lin_sparse_block_raw(Rcpp::RObject) [with M = lin_matrix; Rcpp::RObject = Rcpp::RObject_Impl<Rcpp::PreserveStorage>]’
/media/volume/teran2_disk/rapidbuild/bbs-3.22-bioc-rapid/R/site-library/beachmat/include/beachmat3/read_lin_block.h:65:57:   required from here
/media/volume/teran2_disk/rapidbuild/bbs-3.22-bioc-rapid/R/site-library/beachmat/include/beachmat3/Csparse_reader.h:535:17: warning: comparison of integer expressions of different signedness: ‘const size_t’ {aka ‘const long unsigned int’} and ‘R_xlen_t’ {aka ‘long int’} [-Wsign-compare]
  535 |         if (nnz != x.size()) {
      |             ~~~~^~~~~~~~~~~
/media/volume/teran2_disk/rapidbuild/bbs-3.22-bioc-rapid/R/site-library/beachmat/include/beachmat3/Csparse_reader.h:551:45: warning: comparison of integer expressions of different signedness: ‘int’ and ‘const size_t’ {aka ‘const long unsigned int’} [-Wsign-compare]
  551 |                     if (lastR <= 0 || lastR > NR || lastC <= 0 || lastC > NC) {
      |                                       ~~~~~~^~~~
/media/volume/teran2_disk/rapidbuild/bbs-3.22-bioc-rapid/R/site-library/beachmat/include/beachmat3/Csparse_reader.h:551:73: warning: comparison of integer expressions of different signedness: ‘int’ and ‘const size_t’ {aka ‘const long unsigned int’} [-Wsign-compare]
  551 |                     if (lastR <= 0 || lastR > NR || lastC <= 0 || lastC > NC) {
      |                                                                   ~~~~~~^~~~
/media/volume/teran2_disk/rapidbuild/bbs-3.22-bioc-rapid/R/site-library/beachmat/include/beachmat3/Csparse_reader.h:593:35: warning: comparison of integer expressions of different signedness: ‘int’ and ‘const size_t’ {aka ‘const long unsigned int’} [-Wsign-compare]
  593 |                 for (int v = 0; v < nnz; ++v, ++rowIt, ++colIt, ++xIt) {
      |                                 ~~^~~~~
/media/volume/teran2_disk/rapidbuild/bbs-3.22-bioc-rapid/R/site-library/beachmat/include/beachmat3/Csparse_reader.h: In instantiation of ‘beachmat::SparseArraySeed_reader<V, TIT>::SparseArraySeed_reader(Rcpp::RObject) [with V = Rcpp::Vector<10, Rcpp::PreserveStorage>; TIT = const int*; Rcpp::RObject = Rcpp::RObject_Impl<Rcpp::PreserveStorage>]’:
/media/volume/teran2_disk/rapidbuild/bbs-3.22-bioc-rapid/R/site-library/beachmat/include/beachmat3/lin_matrix.h:561:46:   required from ‘beachmat::lin_SparseArraySeed<V, TIT>::lin_SparseArraySeed(Rcpp::RObject) [with V = Rcpp::Vector<10, Rcpp::PreserveStorage>; TIT = const int*; Rcpp::RObject = Rcpp::RObject_Impl<Rcpp::PreserveStorage>]’
/media/volume/teran2_disk/rapidbuild/bbs-3.22-bioc-rapid/R/site-library/beachmat/include/beachmat3/read_lin_block.h:40:39:   required from ‘std::unique_ptr<M> beachmat::read_lin_sparse_block_raw(Rcpp::RObject) [with M = lin_matrix; Rcpp::RObject = Rcpp::RObject_Impl<Rcpp::PreserveStorage>]’
/media/volume/teran2_disk/rapidbuild/bbs-3.22-bioc-rapid/R/site-library/beachmat/include/beachmat3/read_lin_block.h:65:57:   required from here
/media/volume/teran2_disk/rapidbuild/bbs-3.22-bioc-rapid/R/site-library/beachmat/include/beachmat3/Csparse_reader.h:535:17: warning: comparison of integer expressions of different signedness: ‘const size_t’ {aka ‘const long unsigned int’} and ‘R_xlen_t’ {aka ‘long int’} [-Wsign-compare]
  535 |         if (nnz != x.size()) {
      |             ~~~~^~~~~~~~~~~
/media/volume/teran2_disk/rapidbuild/bbs-3.22-bioc-rapid/R/site-library/beachmat/include/beachmat3/Csparse_reader.h:551:45: warning: comparison of integer expressions of different signedness: ‘int’ and ‘const size_t’ {aka ‘const long unsigned int’} [-Wsign-compare]
  551 |                     if (lastR <= 0 || lastR > NR || lastC <= 0 || lastC > NC) {
      |                                       ~~~~~~^~~~
/media/volume/teran2_disk/rapidbuild/bbs-3.22-bioc-rapid/R/site-library/beachmat/include/beachmat3/Csparse_reader.h:551:73: warning: comparison of integer expressions of different signedness: ‘int’ and ‘const size_t’ {aka ‘const long unsigned int’} [-Wsign-compare]
  551 |                     if (lastR <= 0 || lastR > NR || lastC <= 0 || lastC > NC) {
      |                                                                   ~~~~~~^~~~
/media/volume/teran2_disk/rapidbuild/bbs-3.22-bioc-rapid/R/site-library/beachmat/include/beachmat3/Csparse_reader.h:593:35: warning: comparison of integer expressions of different signedness: ‘int’ and ‘const size_t’ {aka ‘const long unsigned int’} [-Wsign-compare]
  593 |                 for (int v = 0; v < nnz; ++v, ++rowIt, ++colIt, ++xIt) {
      |                                 ~~^~~~~
/media/volume/teran2_disk/rapidbuild/bbs-3.22-bioc-rapid/R/site-library/beachmat/include/beachmat3/Csparse_reader.h: In instantiation of ‘beachmat::sparse_index<OUT, I> beachmat::Csparse_core<TIT, I, P>::get_row(size_t, ALT, I*, size_t, size_t) [with OUT = const int*; ALT = int*; TIT = const double*; I = int; P = long unsigned int; size_t = long unsigned int]’:
/media/volume/teran2_disk/rapidbuild/bbs-3.22-bioc-rapid/R/site-library/beachmat/include/beachmat3/Csparse_reader.h:650:42:   required from ‘beachmat::sparse_index<OUT, int> beachmat::SparseArraySeed_reader<V, TIT>::get_row(size_t, ALT, int*, size_t, size_t) [with OUT = const int*; ALT = int*; V = Rcpp::Vector<14, Rcpp::PreserveStorage>; TIT = const double*; size_t = long unsigned int]’
/media/volume/teran2_disk/rapidbuild/bbs-3.22-bioc-rapid/R/site-library/beachmat/include/beachmat3/lin_matrix.h:596:51:   required from ‘beachmat::sparse_index<const int*, int> beachmat::lin_SparseArraySeed<V, TIT>::get_row(size_t, int*, int*, size_t, size_t) [with V = Rcpp::Vector<14, Rcpp::PreserveStorage>; TIT = const double*; size_t = long unsigned int]’
/media/volume/teran2_disk/rapidbuild/bbs-3.22-bioc-rapid/R/site-library/beachmat/include/beachmat3/lin_matrix.h:595:35:   required from here
/media/volume/teran2_disk/rapidbuild/bbs-3.22-bioc-rapid/R/site-library/beachmat/include/beachmat3/Csparse_reader.h:250:22: warning: comparison of integer expressions of different signedness: ‘const int’ and ‘const long unsigned int’ [-Wsign-compare]
  250 |             if (idex != *pIt && static_cast<size_t>(i[idex]) == r) {
      |                 ~~~~~^~~~~~~
/media/volume/teran2_disk/rapidbuild/bbs-3.22-bioc-rapid/R/site-library/beachmat/include/beachmat3/Csparse_reader.h: In instantiation of ‘beachmat::sparse_index<OUT, I> beachmat::Csparse_core<TIT, I, P>::get_row(size_t, ALT, I*, size_t, size_t) [with OUT = const double*; ALT = double*; TIT = const double*; I = int; P = long unsigned int; size_t = long unsigned int]’:
/media/volume/teran2_disk/rapidbuild/bbs-3.22-bioc-rapid/R/site-library/beachmat/include/beachmat3/Csparse_reader.h:650:42:   required from ‘beachmat::sparse_index<OUT, int> beachmat::SparseArraySeed_reader<V, TIT>::get_row(size_t, ALT, int*, size_t, size_t) [with OUT = const double*; ALT = double*; V = Rcpp::Vector<14, Rcpp::PreserveStorage>; TIT = const double*; size_t = long unsigned int]’
/media/volume/teran2_disk/rapidbuild/bbs-3.22-bioc-rapid/R/site-library/beachmat/include/beachmat3/lin_matrix.h:602:54:   required from ‘beachmat::sparse_index<const double*, int> beachmat::lin_SparseArraySeed<V, TIT>::get_row(size_t, double*, int*, size_t, size_t) [with V = Rcpp::Vector<14, Rcpp::PreserveStorage>; TIT = const double*; size_t = long unsigned int]’
/media/volume/teran2_disk/rapidbuild/bbs-3.22-bioc-rapid/R/site-library/beachmat/include/beachmat3/lin_matrix.h:601:38:   required from here
/media/volume/teran2_disk/rapidbuild/bbs-3.22-bioc-rapid/R/site-library/beachmat/include/beachmat3/Csparse_reader.h:250:22: warning: comparison of integer expressions of different signedness: ‘const int’ and ‘const long unsigned int’ [-Wsign-compare]
/media/volume/teran2_disk/rapidbuild/bbs-3.22-bioc-rapid/R/site-library/beachmat/include/beachmat3/Csparse_reader.h: In instantiation of ‘beachmat::sparse_index<OUT, I> beachmat::Csparse_core<TIT, I, P>::get_row(size_t, ALT, I*, size_t, size_t) [with OUT = const int*; ALT = int*; TIT = const int*; I = int; P = long unsigned int; size_t = long unsigned int]’:
/media/volume/teran2_disk/rapidbuild/bbs-3.22-bioc-rapid/R/site-library/beachmat/include/beachmat3/Csparse_reader.h:650:42:   required from ‘beachmat::sparse_index<OUT, int> beachmat::SparseArraySeed_reader<V, TIT>::get_row(size_t, ALT, int*, size_t, size_t) [with OUT = const int*; ALT = int*; V = Rcpp::Vector<10, Rcpp::PreserveStorage>; TIT = const int*; size_t = long unsigned int]’
/media/volume/teran2_disk/rapidbuild/bbs-3.22-bioc-rapid/R/site-library/beachmat/include/beachmat3/lin_matrix.h:596:51:   required from ‘beachmat::sparse_index<const int*, int> beachmat::lin_SparseArraySeed<V, TIT>::get_row(size_t, int*, int*, size_t, size_t) [with V = Rcpp::Vector<10, Rcpp::PreserveStorage>; TIT = const int*; size_t = long unsigned int]’
/media/volume/teran2_disk/rapidbuild/bbs-3.22-bioc-rapid/R/site-library/beachmat/include/beachmat3/lin_matrix.h:595:35:   required from here
/media/volume/teran2_disk/rapidbuild/bbs-3.22-bioc-rapid/R/site-library/beachmat/include/beachmat3/Csparse_reader.h:250:22: warning: comparison of integer expressions of different signedness: ‘const int’ and ‘const long unsigned int’ [-Wsign-compare]
/media/volume/teran2_disk/rapidbuild/bbs-3.22-bioc-rapid/R/site-library/beachmat/include/beachmat3/Csparse_reader.h: In instantiation of ‘beachmat::sparse_index<OUT, I> beachmat::Csparse_core<TIT, I, P>::get_row(size_t, ALT, I*, size_t, size_t) [with OUT = const double*; ALT = double*; TIT = const int*; I = int; P = long unsigned int; size_t = long unsigned int]’:
/media/volume/teran2_disk/rapidbuild/bbs-3.22-bioc-rapid/R/site-library/beachmat/include/beachmat3/Csparse_reader.h:650:42:   required from ‘beachmat::sparse_index<OUT, int> beachmat::SparseArraySeed_reader<V, TIT>::get_row(size_t, ALT, int*, size_t, size_t) [with OUT = const double*; ALT = double*; V = Rcpp::Vector<10, Rcpp::PreserveStorage>; TIT = const int*; size_t = long unsigned int]’
/media/volume/teran2_disk/rapidbuild/bbs-3.22-bioc-rapid/R/site-library/beachmat/include/beachmat3/lin_matrix.h:602:54:   required from ‘beachmat::sparse_index<const double*, int> beachmat::lin_SparseArraySeed<V, TIT>::get_row(size_t, double*, int*, size_t, size_t) [with V = Rcpp::Vector<10, Rcpp::PreserveStorage>; TIT = const int*; size_t = long unsigned int]’
/media/volume/teran2_disk/rapidbuild/bbs-3.22-bioc-rapid/R/site-library/beachmat/include/beachmat3/lin_matrix.h:601:38:   required from here
/media/volume/teran2_disk/rapidbuild/bbs-3.22-bioc-rapid/R/site-library/beachmat/include/beachmat3/Csparse_reader.h:250:22: warning: comparison of integer expressions of different signedness: ‘const int’ and ‘const long unsigned int’ [-Wsign-compare]
g++ -std=gnu++11 -I"/home/rapidbuild/bbs-3.22-bioc-rapid/R/include" -DNDEBUG -I../inst/include/ -I'/media/volume/teran2_disk/rapidbuild/bbs-3.22-bioc-rapid/R/site-library/Rcpp/include' -I'/media/volume/teran2_disk/rapidbuild/bbs-3.22-bioc-rapid/R/site-library/beachmat/include' -I/usr/local/include    -fpic  -g -O2  -Wall -Werror=format-security  -c sparse_summarize.cpp -o sparse_summarize.o
g++ -std=gnu++11 -I"/home/rapidbuild/bbs-3.22-bioc-rapid/R/include" -DNDEBUG -I../inst/include/ -I'/media/volume/teran2_disk/rapidbuild/bbs-3.22-bioc-rapid/R/site-library/Rcpp/include' -I'/media/volume/teran2_disk/rapidbuild/bbs-3.22-bioc-rapid/R/site-library/beachmat/include' -I/usr/local/include    -fpic  -g -O2  -Wall -Werror=format-security  -c sum_counts.cpp -o sum_counts.o
In file included from /media/volume/teran2_disk/rapidbuild/bbs-3.22-bioc-rapid/R/site-library/beachmat/include/beachmat3/lin_matrix.h:12,
                 from /media/volume/teran2_disk/rapidbuild/bbs-3.22-bioc-rapid/R/site-library/beachmat/include/beachmat3/read_lin_block.h:11,
                 from /media/volume/teran2_disk/rapidbuild/bbs-3.22-bioc-rapid/R/site-library/beachmat/include/beachmat3/beachmat.h:24,
                 from sum_counts.cpp:2:
/media/volume/teran2_disk/rapidbuild/bbs-3.22-bioc-rapid/R/site-library/beachmat/include/beachmat3/Csparse_reader.h: In instantiation of ‘beachmat::SparseArraySeed_reader<V, TIT>::SparseArraySeed_reader(Rcpp::RObject) [with V = Rcpp::Vector<13>; TIT = const int*; Rcpp::RObject = Rcpp::RObject_Impl<Rcpp::PreserveStorage>]’:
/media/volume/teran2_disk/rapidbuild/bbs-3.22-bioc-rapid/R/site-library/beachmat/include/beachmat3/lin_matrix.h:561:46:   required from ‘beachmat::lin_SparseArraySeed<V, TIT>::lin_SparseArraySeed(Rcpp::RObject) [with V = Rcpp::Vector<13>; TIT = const int*; Rcpp::RObject = Rcpp::RObject_Impl<Rcpp::PreserveStorage>]’
/media/volume/teran2_disk/rapidbuild/bbs-3.22-bioc-rapid/R/site-library/beachmat/include/beachmat3/read_lin_block.h:36:39:   required from ‘std::unique_ptr<M> beachmat::read_lin_sparse_block_raw(Rcpp::RObject) [with M = lin_matrix; Rcpp::RObject = Rcpp::RObject_Impl<Rcpp::PreserveStorage>]’
/media/volume/teran2_disk/rapidbuild/bbs-3.22-bioc-rapid/R/site-library/beachmat/include/beachmat3/read_lin_block.h:65:57:   required from here
/media/volume/teran2_disk/rapidbuild/bbs-3.22-bioc-rapid/R/site-library/beachmat/include/beachmat3/Csparse_reader.h:535:17: warning: comparison of integer expressions of different signedness: ‘const size_t’ {aka ‘const long unsigned int’} and ‘R_xlen_t’ {aka ‘long int’} [-Wsign-compare]
  535 |         if (nnz != x.size()) {
      |             ~~~~^~~~~~~~~~~
/media/volume/teran2_disk/rapidbuild/bbs-3.22-bioc-rapid/R/site-library/beachmat/include/beachmat3/Csparse_reader.h:551:45: warning: comparison of integer expressions of different signedness: ‘int’ and ‘const size_t’ {aka ‘const long unsigned int’} [-Wsign-compare]
  551 |                     if (lastR <= 0 || lastR > NR || lastC <= 0 || lastC > NC) {
      |                                       ~~~~~~^~~~
/media/volume/teran2_disk/rapidbuild/bbs-3.22-bioc-rapid/R/site-library/beachmat/include/beachmat3/Csparse_reader.h:551:73: warning: comparison of integer expressions of different signedness: ‘int’ and ‘const size_t’ {aka ‘const long unsigned int’} [-Wsign-compare]
  551 |                     if (lastR <= 0 || lastR > NR || lastC <= 0 || lastC > NC) {
      |                                                                   ~~~~~~^~~~
/media/volume/teran2_disk/rapidbuild/bbs-3.22-bioc-rapid/R/site-library/beachmat/include/beachmat3/Csparse_reader.h:593:35: warning: comparison of integer expressions of different signedness: ‘int’ and ‘const size_t’ {aka ‘const long unsigned int’} [-Wsign-compare]
  593 |                 for (int v = 0; v < nnz; ++v, ++rowIt, ++colIt, ++xIt) {
      |                                 ~~^~~~~
/media/volume/teran2_disk/rapidbuild/bbs-3.22-bioc-rapid/R/site-library/beachmat/include/beachmat3/Csparse_reader.h: In instantiation of ‘beachmat::SparseArraySeed_reader<V, TIT>::SparseArraySeed_reader(Rcpp::RObject) [with V = Rcpp::Vector<14, Rcpp::PreserveStorage>; TIT = const double*; Rcpp::RObject = Rcpp::RObject_Impl<Rcpp::PreserveStorage>]’:
/media/volume/teran2_disk/rapidbuild/bbs-3.22-bioc-rapid/R/site-library/beachmat/include/beachmat3/lin_matrix.h:561:46:   required from ‘beachmat::lin_SparseArraySeed<V, TIT>::lin_SparseArraySeed(Rcpp::RObject) [with V = Rcpp::Vector<14, Rcpp::PreserveStorage>; TIT = const double*; Rcpp::RObject = Rcpp::RObject_Impl<Rcpp::PreserveStorage>]’
/media/volume/teran2_disk/rapidbuild/bbs-3.22-bioc-rapid/R/site-library/beachmat/include/beachmat3/read_lin_block.h:38:39:   required from ‘std::unique_ptr<M> beachmat::read_lin_sparse_block_raw(Rcpp::RObject) [with M = lin_matrix; Rcpp::RObject = Rcpp::RObject_Impl<Rcpp::PreserveStorage>]’
/media/volume/teran2_disk/rapidbuild/bbs-3.22-bioc-rapid/R/site-library/beachmat/include/beachmat3/read_lin_block.h:65:57:   required from here
/media/volume/teran2_disk/rapidbuild/bbs-3.22-bioc-rapid/R/site-library/beachmat/include/beachmat3/Csparse_reader.h:535:17: warning: comparison of integer expressions of different signedness: ‘const size_t’ {aka ‘const long unsigned int’} and ‘R_xlen_t’ {aka ‘long int’} [-Wsign-compare]
  535 |         if (nnz != x.size()) {
      |             ~~~~^~~~~~~~~~~
/media/volume/teran2_disk/rapidbuild/bbs-3.22-bioc-rapid/R/site-library/beachmat/include/beachmat3/Csparse_reader.h:551:45: warning: comparison of integer expressions of different signedness: ‘int’ and ‘const size_t’ {aka ‘const long unsigned int’} [-Wsign-compare]
  551 |                     if (lastR <= 0 || lastR > NR || lastC <= 0 || lastC > NC) {
      |                                       ~~~~~~^~~~
/media/volume/teran2_disk/rapidbuild/bbs-3.22-bioc-rapid/R/site-library/beachmat/include/beachmat3/Csparse_reader.h:551:73: warning: comparison of integer expressions of different signedness: ‘int’ and ‘const size_t’ {aka ‘const long unsigned int’} [-Wsign-compare]
  551 |                     if (lastR <= 0 || lastR > NR || lastC <= 0 || lastC > NC) {
      |                                                                   ~~~~~~^~~~
/media/volume/teran2_disk/rapidbuild/bbs-3.22-bioc-rapid/R/site-library/beachmat/include/beachmat3/Csparse_reader.h:593:35: warning: comparison of integer expressions of different signedness: ‘int’ and ‘const size_t’ {aka ‘const long unsigned int’} [-Wsign-compare]
  593 |                 for (int v = 0; v < nnz; ++v, ++rowIt, ++colIt, ++xIt) {
      |                                 ~~^~~~~
/media/volume/teran2_disk/rapidbuild/bbs-3.22-bioc-rapid/R/site-library/beachmat/include/beachmat3/Csparse_reader.h: In instantiation of ‘beachmat::SparseArraySeed_reader<V, TIT>::SparseArraySeed_reader(Rcpp::RObject) [with V = Rcpp::Vector<10, Rcpp::PreserveStorage>; TIT = const int*; Rcpp::RObject = Rcpp::RObject_Impl<Rcpp::PreserveStorage>]’:
/media/volume/teran2_disk/rapidbuild/bbs-3.22-bioc-rapid/R/site-library/beachmat/include/beachmat3/lin_matrix.h:561:46:   required from ‘beachmat::lin_SparseArraySeed<V, TIT>::lin_SparseArraySeed(Rcpp::RObject) [with V = Rcpp::Vector<10, Rcpp::PreserveStorage>; TIT = const int*; Rcpp::RObject = Rcpp::RObject_Impl<Rcpp::PreserveStorage>]’
/media/volume/teran2_disk/rapidbuild/bbs-3.22-bioc-rapid/R/site-library/beachmat/include/beachmat3/read_lin_block.h:40:39:   required from ‘std::unique_ptr<M> beachmat::read_lin_sparse_block_raw(Rcpp::RObject) [with M = lin_matrix; Rcpp::RObject = Rcpp::RObject_Impl<Rcpp::PreserveStorage>]’
/media/volume/teran2_disk/rapidbuild/bbs-3.22-bioc-rapid/R/site-library/beachmat/include/beachmat3/read_lin_block.h:65:57:   required from here
/media/volume/teran2_disk/rapidbuild/bbs-3.22-bioc-rapid/R/site-library/beachmat/include/beachmat3/Csparse_reader.h:535:17: warning: comparison of integer expressions of different signedness: ‘const size_t’ {aka ‘const long unsigned int’} and ‘R_xlen_t’ {aka ‘long int’} [-Wsign-compare]
  535 |         if (nnz != x.size()) {
      |             ~~~~^~~~~~~~~~~
/media/volume/teran2_disk/rapidbuild/bbs-3.22-bioc-rapid/R/site-library/beachmat/include/beachmat3/Csparse_reader.h:551:45: warning: comparison of integer expressions of different signedness: ‘int’ and ‘const size_t’ {aka ‘const long unsigned int’} [-Wsign-compare]
  551 |                     if (lastR <= 0 || lastR > NR || lastC <= 0 || lastC > NC) {
      |                                       ~~~~~~^~~~
/media/volume/teran2_disk/rapidbuild/bbs-3.22-bioc-rapid/R/site-library/beachmat/include/beachmat3/Csparse_reader.h:551:73: warning: comparison of integer expressions of different signedness: ‘int’ and ‘const size_t’ {aka ‘const long unsigned int’} [-Wsign-compare]
  551 |                     if (lastR <= 0 || lastR > NR || lastC <= 0 || lastC > NC) {
      |                                                                   ~~~~~~^~~~
/media/volume/teran2_disk/rapidbuild/bbs-3.22-bioc-rapid/R/site-library/beachmat/include/beachmat3/Csparse_reader.h:593:35: warning: comparison of integer expressions of different signedness: ‘int’ and ‘const size_t’ {aka ‘const long unsigned int’} [-Wsign-compare]
  593 |                 for (int v = 0; v < nnz; ++v, ++rowIt, ++colIt, ++xIt) {
      |                                 ~~^~~~~
/media/volume/teran2_disk/rapidbuild/bbs-3.22-bioc-rapid/R/site-library/beachmat/include/beachmat3/Csparse_reader.h: In instantiation of ‘beachmat::sparse_index<OUT, I> beachmat::Csparse_core<TIT, I, P>::get_row(size_t, ALT, I*, size_t, size_t) [with OUT = const int*; ALT = int*; TIT = const double*; I = int; P = long unsigned int; size_t = long unsigned int]’:
/media/volume/teran2_disk/rapidbuild/bbs-3.22-bioc-rapid/R/site-library/beachmat/include/beachmat3/Csparse_reader.h:650:42:   required from ‘beachmat::sparse_index<OUT, int> beachmat::SparseArraySeed_reader<V, TIT>::get_row(size_t, ALT, int*, size_t, size_t) [with OUT = const int*; ALT = int*; V = Rcpp::Vector<14, Rcpp::PreserveStorage>; TIT = const double*; size_t = long unsigned int]’
/media/volume/teran2_disk/rapidbuild/bbs-3.22-bioc-rapid/R/site-library/beachmat/include/beachmat3/lin_matrix.h:596:51:   required from ‘beachmat::sparse_index<const int*, int> beachmat::lin_SparseArraySeed<V, TIT>::get_row(size_t, int*, int*, size_t, size_t) [with V = Rcpp::Vector<14, Rcpp::PreserveStorage>; TIT = const double*; size_t = long unsigned int]’
/media/volume/teran2_disk/rapidbuild/bbs-3.22-bioc-rapid/R/site-library/beachmat/include/beachmat3/lin_matrix.h:595:35:   required from here
/media/volume/teran2_disk/rapidbuild/bbs-3.22-bioc-rapid/R/site-library/beachmat/include/beachmat3/Csparse_reader.h:250:22: warning: comparison of integer expressions of different signedness: ‘const int’ and ‘const long unsigned int’ [-Wsign-compare]
  250 |             if (idex != *pIt && static_cast<size_t>(i[idex]) == r) {
      |                 ~~~~~^~~~~~~
/media/volume/teran2_disk/rapidbuild/bbs-3.22-bioc-rapid/R/site-library/beachmat/include/beachmat3/Csparse_reader.h: In instantiation of ‘beachmat::sparse_index<OUT, I> beachmat::Csparse_core<TIT, I, P>::get_row(size_t, ALT, I*, size_t, size_t) [with OUT = const double*; ALT = double*; TIT = const double*; I = int; P = long unsigned int; size_t = long unsigned int]’:
/media/volume/teran2_disk/rapidbuild/bbs-3.22-bioc-rapid/R/site-library/beachmat/include/beachmat3/Csparse_reader.h:650:42:   required from ‘beachmat::sparse_index<OUT, int> beachmat::SparseArraySeed_reader<V, TIT>::get_row(size_t, ALT, int*, size_t, size_t) [with OUT = const double*; ALT = double*; V = Rcpp::Vector<14, Rcpp::PreserveStorage>; TIT = const double*; size_t = long unsigned int]’
/media/volume/teran2_disk/rapidbuild/bbs-3.22-bioc-rapid/R/site-library/beachmat/include/beachmat3/lin_matrix.h:602:54:   required from ‘beachmat::sparse_index<const double*, int> beachmat::lin_SparseArraySeed<V, TIT>::get_row(size_t, double*, int*, size_t, size_t) [with V = Rcpp::Vector<14, Rcpp::PreserveStorage>; TIT = const double*; size_t = long unsigned int]’
/media/volume/teran2_disk/rapidbuild/bbs-3.22-bioc-rapid/R/site-library/beachmat/include/beachmat3/lin_matrix.h:601:38:   required from here
/media/volume/teran2_disk/rapidbuild/bbs-3.22-bioc-rapid/R/site-library/beachmat/include/beachmat3/Csparse_reader.h:250:22: warning: comparison of integer expressions of different signedness: ‘const int’ and ‘const long unsigned int’ [-Wsign-compare]
/media/volume/teran2_disk/rapidbuild/bbs-3.22-bioc-rapid/R/site-library/beachmat/include/beachmat3/Csparse_reader.h: In instantiation of ‘beachmat::sparse_index<OUT, I> beachmat::Csparse_core<TIT, I, P>::get_row(size_t, ALT, I*, size_t, size_t) [with OUT = const int*; ALT = int*; TIT = const int*; I = int; P = long unsigned int; size_t = long unsigned int]’:
/media/volume/teran2_disk/rapidbuild/bbs-3.22-bioc-rapid/R/site-library/beachmat/include/beachmat3/Csparse_reader.h:650:42:   required from ‘beachmat::sparse_index<OUT, int> beachmat::SparseArraySeed_reader<V, TIT>::get_row(size_t, ALT, int*, size_t, size_t) [with OUT = const int*; ALT = int*; V = Rcpp::Vector<10, Rcpp::PreserveStorage>; TIT = const int*; size_t = long unsigned int]’
/media/volume/teran2_disk/rapidbuild/bbs-3.22-bioc-rapid/R/site-library/beachmat/include/beachmat3/lin_matrix.h:596:51:   required from ‘beachmat::sparse_index<const int*, int> beachmat::lin_SparseArraySeed<V, TIT>::get_row(size_t, int*, int*, size_t, size_t) [with V = Rcpp::Vector<10, Rcpp::PreserveStorage>; TIT = const int*; size_t = long unsigned int]’
/media/volume/teran2_disk/rapidbuild/bbs-3.22-bioc-rapid/R/site-library/beachmat/include/beachmat3/lin_matrix.h:595:35:   required from here
/media/volume/teran2_disk/rapidbuild/bbs-3.22-bioc-rapid/R/site-library/beachmat/include/beachmat3/Csparse_reader.h:250:22: warning: comparison of integer expressions of different signedness: ‘const int’ and ‘const long unsigned int’ [-Wsign-compare]
/media/volume/teran2_disk/rapidbuild/bbs-3.22-bioc-rapid/R/site-library/beachmat/include/beachmat3/Csparse_reader.h: In instantiation of ‘beachmat::sparse_index<OUT, I> beachmat::Csparse_core<TIT, I, P>::get_row(size_t, ALT, I*, size_t, size_t) [with OUT = const double*; ALT = double*; TIT = const int*; I = int; P = long unsigned int; size_t = long unsigned int]’:
/media/volume/teran2_disk/rapidbuild/bbs-3.22-bioc-rapid/R/site-library/beachmat/include/beachmat3/Csparse_reader.h:650:42:   required from ‘beachmat::sparse_index<OUT, int> beachmat::SparseArraySeed_reader<V, TIT>::get_row(size_t, ALT, int*, size_t, size_t) [with OUT = const double*; ALT = double*; V = Rcpp::Vector<10, Rcpp::PreserveStorage>; TIT = const int*; size_t = long unsigned int]’
/media/volume/teran2_disk/rapidbuild/bbs-3.22-bioc-rapid/R/site-library/beachmat/include/beachmat3/lin_matrix.h:602:54:   required from ‘beachmat::sparse_index<const double*, int> beachmat::lin_SparseArraySeed<V, TIT>::get_row(size_t, double*, int*, size_t, size_t) [with V = Rcpp::Vector<10, Rcpp::PreserveStorage>; TIT = const int*; size_t = long unsigned int]’
/media/volume/teran2_disk/rapidbuild/bbs-3.22-bioc-rapid/R/site-library/beachmat/include/beachmat3/lin_matrix.h:601:38:   required from here
/media/volume/teran2_disk/rapidbuild/bbs-3.22-bioc-rapid/R/site-library/beachmat/include/beachmat3/Csparse_reader.h:250:22: warning: comparison of integer expressions of different signedness: ‘const int’ and ‘const long unsigned int’ [-Wsign-compare]
g++ -std=gnu++11 -I"/home/rapidbuild/bbs-3.22-bioc-rapid/R/include" -DNDEBUG -I../inst/include/ -I'/media/volume/teran2_disk/rapidbuild/bbs-3.22-bioc-rapid/R/site-library/Rcpp/include' -I'/media/volume/teran2_disk/rapidbuild/bbs-3.22-bioc-rapid/R/site-library/beachmat/include' -I/usr/local/include    -fpic  -g -O2  -Wall -Werror=format-security  -c utils.cpp -o utils.o
g++ -std=gnu++11 -shared -L/usr/local/lib -o scuttle.so RcppExports.o cumulative_prop.o downsample_counts.o fit_linear_model.o pool_size_factors.o sparse_summarize.o sum_counts.o utils.o -llapack -L/home/rapidbuild/bbs-3.22-bioc-rapid/R/lib -lRblas -lgfortran -lm -lquadmath
installing to /media/volume/teran2_disk/rapidbuild/bbs-3.22-bioc-rapid/R/site-library/00LOCK-scuttle/00new/scuttle/libs
** R
** inst
** byte-compile and prepare package for lazy loading
** help
*** installing help indices
** building package indices
** installing vignettes
** testing if installed package can be loaded from temporary location
** checking absolute paths in shared objects and dynamic libraries
** testing if installed package can be loaded from final location
** testing if installed package keeps a record of temporary installation path
* DONE (scuttle)
scuttle.Rcheck/tests/testthat.Rout
R version 4.5.1 (2025-06-13) -- "Great Square Root"
Copyright (C) 2025 The R Foundation for Statistical Computing
Platform: x86_64-pc-linux-gnu
R is free software and comes with ABSOLUTELY NO WARRANTY.
You are welcome to redistribute it under certain conditions.
Type 'license()' or 'licence()' for distribution details.
R is a collaborative project with many contributors.
Type 'contributors()' for more information and
'citation()' on how to cite R or R packages in publications.
Type 'demo()' for some demos, 'help()' for on-line help, or
'help.start()' for an HTML browser interface to help.
Type 'q()' to quit R.
> library(testthat)
> library(scuttle)
Loading required package: SingleCellExperiment
Loading required package: SummarizedExperiment
Loading required package: MatrixGenerics
Loading required package: matrixStats
Attaching package: 'MatrixGenerics'
The following objects are masked from 'package:matrixStats':
    colAlls, colAnyNAs, colAnys, colAvgsPerRowSet, colCollapse,
    colCounts, colCummaxs, colCummins, colCumprods, colCumsums,
    colDiffs, colIQRDiffs, colIQRs, colLogSumExps, colMadDiffs,
    colMads, colMaxs, colMeans2, colMedians, colMins, colOrderStats,
    colProds, colQuantiles, colRanges, colRanks, colSdDiffs, colSds,
    colSums2, colTabulates, colVarDiffs, colVars, colWeightedMads,
    colWeightedMeans, colWeightedMedians, colWeightedSds,
    colWeightedVars, rowAlls, rowAnyNAs, rowAnys, rowAvgsPerColSet,
    rowCollapse, rowCounts, rowCummaxs, rowCummins, rowCumprods,
    rowCumsums, rowDiffs, rowIQRDiffs, rowIQRs, rowLogSumExps,
    rowMadDiffs, rowMads, rowMaxs, rowMeans2, rowMedians, rowMins,
    rowOrderStats, rowProds, rowQuantiles, rowRanges, rowRanks,
    rowSdDiffs, rowSds, rowSums2, rowTabulates, rowVarDiffs, rowVars,
    rowWeightedMads, rowWeightedMeans, rowWeightedMedians,
    rowWeightedSds, rowWeightedVars
Loading required package: GenomicRanges
Loading required package: stats4
Loading required package: BiocGenerics
Loading required package: generics
Attaching package: 'generics'
The following objects are masked from 'package:base':
    as.difftime, as.factor, as.ordered, intersect, is.element, setdiff,
    setequal, union
Attaching package: 'BiocGenerics'
The following objects are masked from 'package:stats':
    IQR, mad, sd, var, xtabs
The following objects are masked from 'package:base':
    Filter, Find, Map, Position, Reduce, anyDuplicated, aperm, append,
    as.data.frame, basename, cbind, colnames, dirname, do.call,
    duplicated, eval, evalq, get, grep, grepl, is.unsorted, lapply,
    mapply, match, mget, order, paste, pmax, pmax.int, pmin, pmin.int,
    rank, rbind, rownames, sapply, saveRDS, table, tapply, unique,
    unsplit, which.max, which.min
Loading required package: S4Vectors
Attaching package: 'S4Vectors'
The following object is masked from 'package:utils':
    findMatches
The following objects are masked from 'package:base':
    I, expand.grid, unname
Loading required package: IRanges
Loading required package: Seqinfo
Loading required package: Biobase
Welcome to Bioconductor
    Vignettes contain introductory material; view with
    'browseVignettes()'. To cite Bioconductor, see
    'citation("Biobase")', and for packages 'citation("pkgname")'.
Attaching package: 'Biobase'
The following object is masked from 'package:MatrixGenerics':
    rowMedians
The following objects are masked from 'package:matrixStats':
    anyMissing, rowMedians
> test_check("scuttle")
Loading required package: Matrix
Attaching package: 'Matrix'
The following object is masked from 'package:S4Vectors':
    expand
Loading required package: S4Arrays
Loading required package: abind
Attaching package: 'S4Arrays'
The following object is masked from 'package:abind':
    abind
The following object is masked from 'package:base':
    rowsum
Loading required package: SparseArray
Attaching package: 'DelayedArray'
The following objects are masked from 'package:base':
    apply, scale, sweep
[ FAIL 0 | WARN 13 | SKIP 0 | PASS 1707 ]
[ FAIL 0 | WARN 13 | SKIP 0 | PASS 1707 ]
> 
> proc.time()
   user  system elapsed 
 74.044   5.202  93.413 
scuttle.Rcheck/scuttle-Ex.timings
| name | user | system | elapsed | |
| addPerCellQCMetrics | 0.490 | 0.074 | 0.565 | |
| aggregateAcrossCells | 0.699 | 0.035 | 0.735 | |
| aggregateAcrossFeatures | 0.246 | 0.001 | 0.247 | |
| calculateAverage | 0.174 | 0.004 | 0.177 | |
| calculateCPM | 0.205 | 0.003 | 0.208 | |
| calculateFPKM | 0.157 | 0.002 | 0.159 | |
| calculateTPM | 0.162 | 0.001 | 0.163 | |
| cleanSizeFactors | 0.012 | 0.000 | 0.012 | |
| computePooledFactors | 4.156 | 0.179 | 4.336 | |
| computeSpikeFactors | 0.185 | 0.000 | 0.185 | |
| correctGroupSummary | 0.033 | 0.000 | 0.033 | |
| downsampleBatches | 2.316 | 0.001 | 2.318 | |
| downsampleMatrix | 2.337 | 0.000 | 2.338 | |
| fitLinearModel | 0.052 | 0.000 | 0.053 | |
| geometricSizeFactors | 0.162 | 0.000 | 0.162 | |
| isOutlier | 0.290 | 0.001 | 0.292 | |
| librarySizeFactors | 0.156 | 0.014 | 0.170 | |
| logNormCounts | 0.475 | 0.006 | 0.481 | |
| makePerCellDF | 0.277 | 0.003 | 0.280 | |
| makePerFeatureDF | 0.209 | 0.002 | 0.211 | |
| medianSizeFactors | 0.155 | 0.000 | 0.156 | |
| mockSCE | 0.172 | 0.001 | 0.173 | |
| normalizeCounts | 0.766 | 0.000 | 0.766 | |
| numDetectedAcrossCells | 0.182 | 0.000 | 0.181 | |
| numDetectedAcrossFeatures | 0.152 | 0.000 | 0.152 | |
| perCellQCFilters | 0.305 | 0.000 | 0.305 | |
| perCellQCMetrics | 1.132 | 0.001 | 1.133 | |
| perFeatureQCMetrics | 0.210 | 0.001 | 0.212 | |
| quickPerCellQC | 0.488 | 0.001 | 0.489 | |
| readSparseCounts | 0.003 | 0.001 | 0.004 | |
| sumCountsAcrossCells | 0.199 | 0.001 | 0.199 | |
| sumCountsAcrossFeatures | 0.157 | 0.000 | 0.158 | |
| summarizeAssayByGroup | 0.226 | 0.001 | 0.227 | |
| uniquifyDataFrameByGroup | 0.016 | 0.000 | 0.016 | |
| uniquifyFeatureNames | 0 | 0 | 0 | |