Back to Rapid builds (Linux only) of a subset of BioC 3.23
Report updated every 6 hours

This page was generated on 2025-11-17 10:13 -0500 (Mon, 17 Nov 2025).

HostnameOSArch (*)R versionInstalled pkgs
teran2Linux (Ubuntu 24.04.3 LTS)x86_64R Under development (unstable) (2025-10-28 r88973) -- "Unsuffered Consequences" 917
Click on any hostname to see more info about the system (e.g. compilers)      (*) as reported by 'uname -p', except on Windows and Mac OS X

Package 67/230HostnameOS / ArchINSTALLBUILDCHECK
densvis 1.21.1  (landing page)
Alan O'Callaghan
Snapshot Date: 2025-11-17 06:00 -0500 (Mon, 17 Nov 2025)
git_url: https://git.bioconductor.org/packages/densvis
git_branch: devel
git_last_commit: 6d9f4c7
git_last_commit_date: 2025-11-04 03:09:39 -0500 (Tue, 04 Nov 2025)
teran2Linux (Ubuntu 24.04.3 LTS) / x86_64  OK    OK    OK  


CHECK results for densvis on teran2

To the developers/maintainers of the densvis package:
- Use the following Renviron settings to reproduce errors and warnings.
- If 'R CMD check' started to fail recently on the Linux builder(s) over a missing dependency, add the missing dependency to 'Suggests:' in your DESCRIPTION file. See Renviron.bioc for more information.

raw results


Summary

Package: densvis
Version: 1.21.1
Command: /home/rapidbuild/bbs-3.23-bioc-rapid/R/bin/R CMD check --install=check:densvis.install-out.txt --library=/home/rapidbuild/bbs-3.23-bioc-rapid/R/site-library --timings densvis_1.21.1.tar.gz
StartedAt: 2025-11-17 08:10:16 -0500 (Mon, 17 Nov 2025)
EndedAt: 2025-11-17 08:12:20 -0500 (Mon, 17 Nov 2025)
EllapsedTime: 124.0 seconds
RetCode: 0
Status:   OK  
CheckDir: densvis.Rcheck
Warnings: 0

Command output

##############################################################################
##############################################################################
###
### Running command:
###
###   /home/rapidbuild/bbs-3.23-bioc-rapid/R/bin/R CMD check --install=check:densvis.install-out.txt --library=/home/rapidbuild/bbs-3.23-bioc-rapid/R/site-library --timings densvis_1.21.1.tar.gz
###
##############################################################################
##############################################################################


* using log directory ‘/media/volume/teran2_disk/rapidbuild/bbs-3.23-bioc-rapid/meat/densvis.Rcheck’
* using R Under development (unstable) (2025-10-28 r88973)
* using platform: x86_64-pc-linux-gnu
* R was compiled by
    gcc (Ubuntu 13.3.0-6ubuntu2~24.04) 13.3.0
    GNU Fortran (Ubuntu 13.3.0-6ubuntu2~24.04) 13.3.0
* running under: Ubuntu 24.04.3 LTS
* using session charset: UTF-8
* checking for file ‘densvis/DESCRIPTION’ ... OK
* this is package ‘densvis’ version ‘1.21.1’
* package encoding: UTF-8
* checking CRAN incoming feasibility ... NOTE
Maintainer: ‘Alan O'Callaghan <alan.ocallaghan@outlook.com>’

License components with restrictions and base license permitting such:
  MIT + file LICENSE
File 'LICENSE':
  Copyright 2020 Ashwinn Narayan and Hyunghoon Cho
  
  Permission is hereby granted, free of charge, to any person obtaining a copy of this software and associated documentation files (the "Software"), to deal in the Software without restriction, including without limitation the rights to use, copy, modify, merge, publish, distribute, sublicense, and/or sell copies of the Software, and to permit persons to whom the Software is furnished to do so, subject to the following conditions:
  
  The above copyright notice and this permission notice shall be included in all copies or substantial portions of the Software.
  
  THE SOFTWARE IS PROVIDED "AS IS", WITHOUT WARRANTY OF ANY KIND, EXPRESS OR IMPLIED, INCLUDING BUT NOT LIMITED TO THE WARRANTIES OF MERCHANTABILITY, FITNESS FOR A PARTICULAR PURPOSE AND NONINFRINGEMENT. IN NO EVENT SHALL THE AUTHORS OR COPYRIGHT HOLDERS BE LIABLE FOR ANY CLAIM, DAMAGES OR OTHER LIABILITY, WHETHER IN AN ACTION OF CONTRACT, TORT OR OTHERWISE, ARISING FROM, OUT OF OR IN CONNECTION WITH THE SOFTWARE OR THE USE OR OTHER DEALINGS IN THE SOFTWARE.

Unknown, possibly misspelled, fields in DESCRIPTION:
  ‘git_url’ ‘git_branch’ ‘git_last_commit’ ‘git_last_commit_date’
* checking package namespace information ... OK
* checking package dependencies ... OK
* checking if this is a source package ... OK
* checking if there is a namespace ... OK
* checking for hidden files and directories ... OK
* checking for portable file names ... OK
* checking for sufficient/correct file permissions ... OK
* checking whether package ‘densvis’ can be installed ... NOTE
Found the following notes/warnings:
  Non-staged installation was used
See ‘/media/volume/teran2_disk/rapidbuild/bbs-3.23-bioc-rapid/meat/densvis.Rcheck/00install.out’ for details.
* used C++ compiler: ‘g++ (Ubuntu 13.3.0-6ubuntu2~24.04) 13.3.0’
* checking installed package size ... OK
* checking package directory ... OK
* checking ‘build’ directory ... OK
* checking DESCRIPTION meta-information ... NOTE
License stub is invalid DCF.
* checking top-level files ... OK
* checking for left-over files ... OK
* checking index information ... OK
* checking package subdirectories ... OK
* checking code files for non-ASCII characters ... OK
* checking R files for syntax errors ... OK
* checking whether the package can be loaded ... OK
* checking whether the package can be loaded with stated dependencies ... OK
* checking whether the package can be unloaded cleanly ... OK
* checking whether the namespace can be loaded with stated dependencies ... OK
* checking whether the namespace can be unloaded cleanly ... OK
* checking loading without being on the library search path ... OK
* checking use of S3 registration ... OK
* checking dependencies in R code ... OK
* checking S3 generic/method consistency ... OK
* checking replacement functions ... OK
* checking foreign function calls ... OK
* checking R code for possible problems ... OK
* checking Rd files ... OK
* checking Rd metadata ... OK
* checking Rd cross-references ... OK
* checking for missing documentation entries ... OK
* checking for code/documentation mismatches ... OK
* checking Rd \usage sections ... OK
* checking Rd contents ... OK
* checking for unstated dependencies in examples ... OK
* checking line endings in shell scripts ... OK
* checking line endings in C/C++/Fortran sources/headers ... OK
* checking line endings in Makefiles ... OK
* checking compilation flags in Makevars ... OK
* checking for GNU extensions in Makefiles ... OK
* checking for portable use of $(BLAS_LIBS) and $(LAPACK_LIBS) ... OK
* checking use of PKG_*FLAGS in Makefiles ... OK
* checking compiled code ... INFO
Note: information on .o files is not available
* checking files in ‘vignettes’ ... OK
* checking examples ... NOTE
Examples with CPU (user + system) or elapsed time > 5s
        user system elapsed
densmap 16.8  0.833  18.002
* checking for unstated dependencies in ‘tests’ ... OK
* checking tests ...
  Running ‘testthat.R’
 OK
* checking for unstated dependencies in vignettes ... OK
* checking package vignettes ... OK
* checking re-building of vignette outputs ... OK
* checking PDF version of manual ... OK
* DONE

Status: 4 NOTEs
See
  ‘/media/volume/teran2_disk/rapidbuild/bbs-3.23-bioc-rapid/meat/densvis.Rcheck/00check.log’
for details.


Installation output

densvis.Rcheck/00install.out

##############################################################################
##############################################################################
###
### Running command:
###
###   /home/rapidbuild/bbs-3.23-bioc-rapid/R/bin/R CMD INSTALL densvis
###
##############################################################################
##############################################################################


* installing to library ‘/media/volume/teran2_disk/rapidbuild/bbs-3.23-bioc-rapid/R/site-library’
* installing *source* package ‘densvis’ ...
** this is package ‘densvis’ version ‘1.21.1’
** using non-staged installation via StagedInstall field
** libs
using C++ compiler: ‘g++ (Ubuntu 13.3.0-6ubuntu2~24.04) 13.3.0’
g++ -std=gnu++17 -I"/home/rapidbuild/bbs-3.23-bioc-rapid/R/include" -DNDEBUG  -I'/media/volume/teran2_disk/rapidbuild/bbs-3.23-bioc-rapid/R/site-library/Rcpp/include' -I/usr/local/include   -fopenmp -fpic  -g -O2  -Wall -Werror=format-security  -c RcppExports.cpp -o RcppExports.o
g++ -std=gnu++17 -I"/home/rapidbuild/bbs-3.23-bioc-rapid/R/include" -DNDEBUG  -I'/media/volume/teran2_disk/rapidbuild/bbs-3.23-bioc-rapid/R/site-library/Rcpp/include' -I/usr/local/include   -fopenmp -fpic  -g -O2  -Wall -Werror=format-security  -c densne.cpp -o densne.o
g++ -std=gnu++17 -I"/home/rapidbuild/bbs-3.23-bioc-rapid/R/include" -DNDEBUG  -I'/media/volume/teran2_disk/rapidbuild/bbs-3.23-bioc-rapid/R/site-library/Rcpp/include' -I/usr/local/include   -fopenmp -fpic  -g -O2  -Wall -Werror=format-security  -c densvis.cpp -o densvis.o
g++ -std=gnu++17 -I"/home/rapidbuild/bbs-3.23-bioc-rapid/R/include" -DNDEBUG  -I'/media/volume/teran2_disk/rapidbuild/bbs-3.23-bioc-rapid/R/site-library/Rcpp/include' -I/usr/local/include   -fopenmp -fpic  -g -O2  -Wall -Werror=format-security  -c sptree.cpp -o sptree.o
g++ -std=gnu++17 -shared -L/usr/local/lib -o densvis.so RcppExports.o densne.o densvis.o sptree.o -llapack -L/home/rapidbuild/bbs-3.23-bioc-rapid/R/lib -lRblas -lgfortran -lm -lquadmath -fopenmp
installing to /media/volume/teran2_disk/rapidbuild/bbs-3.23-bioc-rapid/R/site-library/densvis/libs
** R
** inst
** byte-compile and prepare package for lazy loading
** help
*** installing help indices
** building package indices
** installing vignettes
** testing if installed package can be loaded
* DONE (densvis)

Tests output

densvis.Rcheck/tests/testthat.Rout


R Under development (unstable) (2025-10-28 r88973) -- "Unsuffered Consequences"
Copyright (C) 2025 The R Foundation for Statistical Computing
Platform: x86_64-pc-linux-gnu

R is free software and comes with ABSOLUTELY NO WARRANTY.
You are welcome to redistribute it under certain conditions.
Type 'license()' or 'licence()' for distribution details.

R is a collaborative project with many contributors.
Type 'contributors()' for more information and
'citation()' on how to cite R or R packages in publications.

Type 'demo()' for some demos, 'help()' for on-line help, or
'help.start()' for an HTML browser interface to help.
Type 'q()' to quit R.

> library(testthat)
> library(densvis)
> 
> test_check("densvis")
[ FAIL 0 | WARN 0 | SKIP 0 | PASS 20 ]
> 
> proc.time()
   user  system elapsed 
 24.851   0.943  24.023 

Example timings

densvis.Rcheck/densvis-Ex.timings

nameusersystemelapsed
densmap16.800 0.83318.002
densne0.2220.0000.221