Back to Rapid builds (Linux only) of a subset of BioC 3.22
Report updated every 6 hours

This page was generated on 2025-10-26 08:40 -0400 (Sun, 26 Oct 2025).

HostnameOSArch (*)R versionInstalled pkgs
teran2Linux (Ubuntu 24.04.3 LTS)x86_644.5.1 (2025-06-13) -- "Great Square Root" 900
Click on any hostname to see more info about the system (e.g. compilers)      (*) as reported by 'uname -p', except on Windows and Mac OS X

Package 144/229HostnameOS / ArchINSTALLBUILDCHECK
minfi 1.55.1  (landing page)
Kasper Daniel Hansen
Snapshot Date: 2025-10-26 06:00 -0400 (Sun, 26 Oct 2025)
git_url: https://git.bioconductor.org/packages/minfi
git_branch: devel
git_last_commit: b8b1ae4
git_last_commit_date: 2025-06-22 16:07:28 -0400 (Sun, 22 Jun 2025)
teran2Linux (Ubuntu 24.04.3 LTS) / x86_64  ERROR    ERROR  skipped


INSTALL results for minfi on teran2

To the developers/maintainers of the minfi package:
- Use the following Renviron settings to reproduce errors and warnings.
- If 'R CMD check' started to fail recently on the Linux builder(s) over a missing dependency, add the missing dependency to 'Suggests:' in your DESCRIPTION file. See Renviron.bioc for more information.

raw results


Summary

Package: minfi
Version: 1.55.1
Command: /home/rapidbuild/bbs-3.22-bioc-rapid/R/bin/R CMD INSTALL minfi
StartedAt: 2025-10-26 06:23:48 -0400 (Sun, 26 Oct 2025)
EndedAt: 2025-10-26 06:23:49 -0400 (Sun, 26 Oct 2025)
EllapsedTime: 0.8 seconds
RetCode: 1
Status:   ERROR  

Command output

##############################################################################
##############################################################################
###
### Running command:
###
###   /home/rapidbuild/bbs-3.22-bioc-rapid/R/bin/R CMD INSTALL minfi
###
##############################################################################
##############################################################################


* installing to library ‘/media/volume/teran2_disk/rapidbuild/bbs-3.22-bioc-rapid/R/site-library’
ERROR: dependency ‘bumphunter’ is not available for package ‘minfi’
Perhaps try a variation of:
install.packages('bumphunter')
* removing ‘/media/volume/teran2_disk/rapidbuild/bbs-3.22-bioc-rapid/R/site-library/minfi’