| Back to Rapid builds (Linux only) of a subset of BioC 3.23 Report updated every 6 hours | 
This page was generated on 2025-10-31 09:43 -0400 (Fri, 31 Oct 2025).
| Hostname | OS | Arch (*) | R version | Installed pkgs | 
|---|---|---|---|---|
| teran2 | Linux (Ubuntu 24.04.3 LTS) | x86_64 | R Under development (unstable) (2025-10-28 r88973) -- "Unsuffered Consequences" | 917 | 
| Click on any hostname to see more info about the system (e.g. compilers) (*) as reported by 'uname -p', except on Windows and Mac OS X | ||||
| Package 210/230 | Hostname | OS / Arch | INSTALL | BUILD | CHECK | |||||||
| Spectra 1.21.0  (landing page) RforMassSpectrometry Package Maintainer 
 | teran2 | Linux (Ubuntu 24.04.3 LTS) / x86_64 | OK | OK | OK | |||||||
| To the developers/maintainers of the Spectra package: - Use the following Renviron settings to reproduce errors and warnings. - If 'R CMD check' started to fail recently on the Linux builder(s) over a missing dependency, add the missing dependency to 'Suggests:' in your DESCRIPTION file. See Renviron.bioc for more information. | 
| Package: Spectra | 
| Version: 1.21.0 | 
| Command: /home/rapidbuild/bbs-3.23-bioc-rapid/R/bin/R CMD build --keep-empty-dirs --no-resave-data Spectra | 
| StartedAt: 2025-10-31 07:26:57 -0400 (Fri, 31 Oct 2025) | 
| EndedAt: 2025-10-31 07:27:36 -0400 (Fri, 31 Oct 2025) | 
| EllapsedTime: 38.6 seconds | 
| RetCode: 0 | 
| Status: OK | 
| PackageFile: Spectra_1.21.0.tar.gz | 
| PackageFileSize: 1.808 MiB | 
############################################################################## ############################################################################## ### ### Running command: ### ### /home/rapidbuild/bbs-3.23-bioc-rapid/R/bin/R CMD build --keep-empty-dirs --no-resave-data Spectra ### ############################################################################## ############################################################################## * checking for file ‘Spectra/DESCRIPTION’ ... OK * preparing ‘Spectra’: * checking DESCRIPTION meta-information ... OK * installing the package (it is needed to build vignettes) * creating vignettes ... OK * checking for LF line-endings in source and make files and shell scripts * checking for empty or unneeded directories WARNING: directory ‘Spectra/pkgdown’ is empty * looking to see if a ‘data/datalist’ file should be added * building ‘Spectra_1.21.0.tar.gz’