Back to Rapid builds (Linux only) of a subset of BioC 3.23
Report updated every 6 hours

This page was generated on 2025-11-20 10:16 -0500 (Thu, 20 Nov 2025).

HostnameOSArch (*)R versionInstalled pkgs
teran2Linux (Ubuntu 24.04.3 LTS)x86_64R Under development (unstable) (2025-10-28 r88973) -- "Unsuffered Consequences" 917
Click on any hostname to see more info about the system (e.g. compilers)      (*) as reported by 'uname -p', except on Windows and Mac OS X

Package 141/230HostnameOS / ArchINSTALLBUILDCHECK
metagenomeSeq 1.53.0  (landing page)
Joseph N. Paulson
Snapshot Date: 2025-11-20 06:00 -0500 (Thu, 20 Nov 2025)
git_url: https://git.bioconductor.org/packages/metagenomeSeq
git_branch: devel
git_last_commit: 48a74a4
git_last_commit_date: 2025-10-29 10:14:26 -0500 (Wed, 29 Oct 2025)
teran2Linux (Ubuntu 24.04.3 LTS) / x86_64  OK    OK    OK  


CHECK results for metagenomeSeq on teran2

To the developers/maintainers of the metagenomeSeq package:
- Use the following Renviron settings to reproduce errors and warnings.
- If 'R CMD check' started to fail recently on the Linux builder(s) over a missing dependency, add the missing dependency to 'Suggests:' in your DESCRIPTION file. See Renviron.bioc for more information.

raw results


Summary

Package: metagenomeSeq
Version: 1.53.0
Command: /home/rapidbuild/bbs-3.23-bioc-rapid/R/bin/R CMD check --install=check:metagenomeSeq.install-out.txt --library=/home/rapidbuild/bbs-3.23-bioc-rapid/R/site-library --timings metagenomeSeq_1.53.0.tar.gz
StartedAt: 2025-11-20 09:01:36 -0500 (Thu, 20 Nov 2025)
EndedAt: 2025-11-20 09:04:41 -0500 (Thu, 20 Nov 2025)
EllapsedTime: 185.6 seconds
RetCode: 0
Status:   OK  
CheckDir: metagenomeSeq.Rcheck
Warnings: 0

Command output

##############################################################################
##############################################################################
###
### Running command:
###
###   /home/rapidbuild/bbs-3.23-bioc-rapid/R/bin/R CMD check --install=check:metagenomeSeq.install-out.txt --library=/home/rapidbuild/bbs-3.23-bioc-rapid/R/site-library --timings metagenomeSeq_1.53.0.tar.gz
###
##############################################################################
##############################################################################


* using log directory ‘/media/volume/teran2_disk/rapidbuild/bbs-3.23-bioc-rapid/meat/metagenomeSeq.Rcheck’
* using R Under development (unstable) (2025-10-28 r88973)
* using platform: x86_64-pc-linux-gnu
* R was compiled by
    gcc (Ubuntu 13.3.0-6ubuntu2~24.04) 13.3.0
    GNU Fortran (Ubuntu 13.3.0-6ubuntu2~24.04) 13.3.0
* running under: Ubuntu 24.04.3 LTS
* using session charset: UTF-8
* checking for file ‘metagenomeSeq/DESCRIPTION’ ... OK
* this is package ‘metagenomeSeq’ version ‘1.53.0’
* checking CRAN incoming feasibility ... NOTE
Maintainer: ‘Joseph N. Paulson <josephpaulson@gmail.com>’

Unknown, possibly misspelled, fields in DESCRIPTION:
  ‘git_url’ ‘git_branch’ ‘git_last_commit’ ‘git_last_commit_date’

No Authors@R field in DESCRIPTION.
Please add one, modifying
  Authors@R: c(person(given = c("Joseph", "Nathaniel"),
                      family = "Paulson",
                      role = "aut"),
               person(given = c("Nathan", "D."),
                      family = "Olson",
                      role = "aut"),
               person(given = c("Domenick", "J."),
                      family = "Braccia",
                      role = "aut"),
               person(given = "Justin",
                      family = "Wagner",
                      role = "aut"),
               person(given = "Hisham",
                      family = "Talukder",
                      role = "aut"),
               person(given = "Mihai",
                      family = "Pop",
                      role = "aut"),
               person(given = c("Hector", "Corrada"),
                      family = "Bravo",
                      role = "aut"),
               person(given = c("Joseph", "N."),
                      family = "Paulson",
                      role = "cre",
                      email = "josephpaulson@gmail.com"))
as necessary.

Package CITATION file contains call(s) to old-style personList() or
as.personList().  Please use c() on person objects instead.

The Title field should be in title case. Current version is:
  ‘Statistical analysis for sparse high-throughput sequencing’
In title case that is:
  ‘Statistical Analysis for Sparse High-Throughput Sequencing’

The Description field should not start with the package name,
  'This package' or similar.

The Date field is over a month old.
* checking package namespace information ... OK
* checking package dependencies ... OK
* checking if this is a source package ... OK
* checking if there is a namespace ... OK
* checking for hidden files and directories ... OK
* checking for portable file names ... OK
* checking for sufficient/correct file permissions ... OK
* checking whether package ‘metagenomeSeq’ can be installed ... OK
* checking installed package size ... OK
* checking package directory ... OK
* checking ‘build’ directory ... OK
* checking DESCRIPTION meta-information ... OK
* checking top-level files ... OK
* checking for left-over files ... OK
* checking index information ... OK
* checking package subdirectories ... OK
* checking code files for non-ASCII characters ... OK
* checking R files for syntax errors ... OK
* checking whether the package can be loaded ... OK
* checking whether the package can be loaded with stated dependencies ... OK
* checking whether the package can be unloaded cleanly ... OK
* checking whether the namespace can be loaded with stated dependencies ... OK
* checking whether the namespace can be unloaded cleanly ... OK
* checking loading without being on the library search path ... OK
* checking use of S3 registration ... OK
* checking dependencies in R code ... OK
* checking S3 generic/method consistency ... OK
* checking replacement functions ... OK
* checking foreign function calls ... OK
* checking R code for possible problems ... OK
* checking Rd files ... OK
* checking Rd metadata ... OK
* checking Rd cross-references ... OK
* checking for missing documentation entries ... OK
* checking for code/documentation mismatches ... OK
* checking Rd \usage sections ... OK
* checking Rd contents ... OK
* checking for unstated dependencies in examples ... OK
* checking contents of ‘data’ directory ... OK
* checking data for non-ASCII characters ... OK
* checking data for ASCII and uncompressed saves ... OK
* checking sizes of PDF files under ‘inst/doc’ ...* checking files in ‘vignettes’ ... OK
* checking examples ... NOTE
Examples with CPU (user + system) or elapsed time > 5s
            user system elapsed
wrenchNorm 9.415  0.185   9.602
* checking for unstated dependencies in ‘tests’ ... OK
* checking tests ...
  Running ‘testthat.R’
 OK
* checking for unstated dependencies in vignettes ... OK
* checking package vignettes ... OK
* checking re-building of vignette outputs ... OK
* checking PDF version of manual ... OK
* DONE

Status: 2 NOTEs
See
  ‘/media/volume/teran2_disk/rapidbuild/bbs-3.23-bioc-rapid/meat/metagenomeSeq.Rcheck/00check.log’
for details.


Installation output

metagenomeSeq.Rcheck/00install.out

##############################################################################
##############################################################################
###
### Running command:
###
###   /home/rapidbuild/bbs-3.23-bioc-rapid/R/bin/R CMD INSTALL metagenomeSeq
###
##############################################################################
##############################################################################


* installing to library ‘/media/volume/teran2_disk/rapidbuild/bbs-3.23-bioc-rapid/R/site-library’
* installing *source* package ‘metagenomeSeq’ ...
** this is package ‘metagenomeSeq’ version ‘1.53.0’
** using staged installation
** R
** data
** inst
** byte-compile and prepare package for lazy loading
in method for ‘MRihw’ with signature ‘"fitFeatureModelResults"’: no definition for class “fitFeatureModelResults”
in method for ‘MRihw’ with signature ‘"fitZigResults"’: no definition for class “fitZigResults”
** help
*** installing help indices
** building package indices
** installing vignettes
** testing if installed package can be loaded from temporary location
** testing if installed package can be loaded from final location
** testing if installed package keeps a record of temporary installation path
* DONE (metagenomeSeq)

Tests output

metagenomeSeq.Rcheck/tests/testthat.Rout


R Under development (unstable) (2025-10-28 r88973) -- "Unsuffered Consequences"
Copyright (C) 2025 The R Foundation for Statistical Computing
Platform: x86_64-pc-linux-gnu

R is free software and comes with ABSOLUTELY NO WARRANTY.
You are welcome to redistribute it under certain conditions.
Type 'license()' or 'licence()' for distribution details.

R is a collaborative project with many contributors.
Type 'contributors()' for more information and
'citation()' on how to cite R or R packages in publications.

Type 'demo()' for some demos, 'help()' for on-line help, or
'help.start()' for an HTML browser interface to help.
Type 'q()' to quit R.

> library("testthat")
> packageVersion("metagenomeSeq")
[1] '1.53.0'
> # As suggested for opt-out option on testing by users, 
> # recommended by CRAN: http://adv-r.had.co.nz/Testing.html
> # Previously, best practice was to put all test files in inst/tests 
> # and ensure that R CMD check ran them by putting the following code in tests/test-all.R:  
> # >library(testthat)
> # >library(yourpackage)
> # >test_package("yourpackage")
> # Now, recommended practice is to put your tests in tests/testthat, 
> # and ensure R CMD check runs them by putting the following code in tests/test-all.R:
> # >library(testthat)
> # >test_check("yourpackage")
> # The advantage of this new structure is that the user has control over whether or not tests are installed using the –install-tests parameter to 
> # R CMD install, or INSTALL_opts = c(“–install-tests”) argument to install.packages(). I’m not sure why you wouldn’t want to install the tests, 
> # but now you have the flexibility as requested by CRAN maintainers.
> test_check("metagenomeSeq")
Loading required package: metagenomeSeq
Loading required package: Biobase
Loading required package: BiocGenerics
Loading required package: generics

Attaching package: 'generics'

The following objects are masked from 'package:base':

    as.difftime, as.factor, as.ordered, intersect, is.element, setdiff,
    setequal, union


Attaching package: 'BiocGenerics'

The following objects are masked from 'package:stats':

    IQR, mad, sd, var, xtabs

The following objects are masked from 'package:base':

    Filter, Find, Map, Position, Reduce, anyDuplicated, aperm, append,
    as.data.frame, basename, cbind, colnames, dirname, do.call,
    duplicated, eval, evalq, get, grep, grepl, is.unsorted, lapply,
    mapply, match, mget, order, paste, pmax, pmax.int, pmin, pmin.int,
    rank, rbind, rownames, sapply, saveRDS, table, tapply, unique,
    unsplit, which.max, which.min

Welcome to Bioconductor

    Vignettes contain introductory material; view with
    'browseVignettes()'. To cite Bioconductor, see
    'citation("Biobase")', and for packages 'citation("pkgname")'.

Loading required package: limma

Attaching package: 'limma'

The following object is masked from 'package:BiocGenerics':

    plotMA

Loading required package: glmnet
Loading required package: Matrix
Loaded glmnet 4.1-10
Loading required package: RColorBrewer
[ FAIL 0 | WARN 6 | SKIP 0 | PASS 15 ]

[ FAIL 0 | WARN 6 | SKIP 0 | PASS 15 ]
> 
> proc.time()
   user  system elapsed 
 60.962   1.475  62.447 

Example timings

metagenomeSeq.Rcheck/metagenomeSeq-Ex.timings

nameusersystemelapsed
MRcoefs0.7890.0600.852
MRcounts0.3450.0250.369
MRexperiment-class000
MRfulltable0.6790.0333.706
MRtable0.6630.0020.666
aggregateBySample0.0990.0080.107
aggregateByTaxonomy0.1090.0100.119
biom2MRexperiment0.1350.0040.138
calcNormFactors0.4150.0130.429
correctIndices0.0770.0070.084
correlationTest0.1490.0160.164
cumNorm0.2510.0090.260
cumNormMat0.2620.0260.289
cumNormStat0.4470.0090.456
cumNormStatFast0.1840.0080.192
expSummary0.0680.0080.077
exportMat0.6760.5991.276
exportStats0.2440.0020.246
extractMR0.3960.2790.675
filterData0.1120.0060.119
fitDO0.2430.0031.881
fitFeatureModel0.7020.0470.749
fitLogNormal0.9860.0321.019
fitMultipleTimeSeries1.1470.0181.166
fitPA0.2320.0041.863
fitSSTimeSeries0.2570.0150.272
fitTimeSeries0.2600.0140.275
fitZig1.0030.0181.022
libSize-set0.1950.0010.196
libSize0.1830.0010.184
loadBiom0.0240.0000.024
loadMeta0.0100.0000.012
loadMetaQ000
loadPhenoData0.0040.0000.006
makeLabels000
mergeMRexperiments1.0780.2501.329
newMRexperiment0.0170.0000.018
normFactors-set0.1930.0170.210
normFactors0.1780.0000.177
plotBubble0.1650.0241.749
plotClassTimeSeries0.6340.0230.657
plotCorr0.2610.0160.277
plotFeature0.1050.0110.115
plotGenus0.0820.0230.105
plotMRheatmap1.1550.0381.193
plotOTU0.0910.0090.100
plotOrd0.1370.0080.145
plotRare0.0870.0090.095
plotTimeSeries0.6310.0090.640
posteriorProbs0.9830.0511.035
returnAppropriateObj0.1830.0050.188
ssFit000
ssIntervalCandidate000
ssPerm000
ssPermAnalysis000
trapz000
ts2MRexperiment0.9370.0050.943
uniqueFeatures0.0820.0040.086
wrenchNorm9.4150.1859.602
zigControl000