| Back to Rapid builds (Linux only) of a subset of BioC 3.22 Report updated every 6 hours | 
This page was generated on 2025-10-30 14:25 -0400 (Thu, 30 Oct 2025).
| Hostname | OS | Arch (*) | R version | Installed pkgs | 
|---|---|---|---|---|
| teran2 | Linux (Ubuntu 24.04.3 LTS) | x86_64 | 4.5.1 (2025-06-13) -- "Great Square Root" | 896 | 
| Click on any hostname to see more info about the system (e.g. compilers) (*) as reported by 'uname -p', except on Windows and Mac OS X | ||||
| Package 122/229 | Hostname | OS / Arch | INSTALL | BUILD | CHECK | |||||||
| IHW 1.39.0  (landing page) Nikos Ignatiadis 
 | teran2 | Linux (Ubuntu 24.04.3 LTS) / x86_64 | OK | OK | OK | |||||||
| To the developers/maintainers of the IHW package: - Use the following Renviron settings to reproduce errors and warnings. - If 'R CMD check' started to fail recently on the Linux builder(s) over a missing dependency, add the missing dependency to 'Suggests:' in your DESCRIPTION file. See Renviron.bioc for more information. | 
| Package: IHW | 
| Version: 1.39.0 | 
| Command: /home/rapidbuild/bbs-3.22-bioc-rapid/R/bin/R CMD check --install=check:IHW.install-out.txt --library=/home/rapidbuild/bbs-3.22-bioc-rapid/R/site-library --timings IHW_1.39.0.tar.gz | 
| StartedAt: 2025-10-30 13:42:37 -0400 (Thu, 30 Oct 2025) | 
| EndedAt: 2025-10-30 13:44:06 -0400 (Thu, 30 Oct 2025) | 
| EllapsedTime: 89.2 seconds | 
| RetCode: 0 | 
| Status: OK | 
| CheckDir: IHW.Rcheck | 
| Warnings: 0 | 
##############################################################################
##############################################################################
###
### Running command:
###
###   /home/rapidbuild/bbs-3.22-bioc-rapid/R/bin/R CMD check --install=check:IHW.install-out.txt --library=/home/rapidbuild/bbs-3.22-bioc-rapid/R/site-library --timings IHW_1.39.0.tar.gz
###
##############################################################################
##############################################################################
* using log directory ‘/media/volume/teran2_disk/rapidbuild/bbs-3.22-bioc-rapid/meat/IHW.Rcheck’
* using R version 4.5.1 (2025-06-13)
* using platform: x86_64-pc-linux-gnu
* R was compiled by
    gcc (Ubuntu 13.3.0-6ubuntu2~24.04) 13.3.0
    GNU Fortran (Ubuntu 13.3.0-6ubuntu2~24.04) 13.3.0
* running under: Ubuntu 24.04.3 LTS
* using session charset: UTF-8
* checking for file ‘IHW/DESCRIPTION’ ... OK
* this is package ‘IHW’ version ‘1.39.0’
* checking package namespace information ... OK
* checking package dependencies ... OK
* checking if this is a source package ... OK
* checking if there is a namespace ... OK
* checking for hidden files and directories ... OK
* checking for portable file names ... OK
* checking for sufficient/correct file permissions ... OK
* checking whether package ‘IHW’ can be installed ... OK
* checking installed package size ... OK
* checking package directory ... OK
* checking ‘build’ directory ... OK
* checking DESCRIPTION meta-information ... OK
* checking top-level files ... OK
* checking for left-over files ... OK
* checking index information ... OK
* checking package subdirectories ... OK
* checking code files for non-ASCII characters ... OK
* checking R files for syntax errors ... OK
* checking whether the package can be loaded ... OK
* checking whether the package can be loaded with stated dependencies ... OK
* checking whether the package can be unloaded cleanly ... OK
* checking whether the namespace can be loaded with stated dependencies ... OK
* checking whether the namespace can be unloaded cleanly ... OK
* checking loading without being on the library search path ... OK
* checking dependencies in R code ... OK
* checking S3 generic/method consistency ... OK
* checking replacement functions ... OK
* checking foreign function calls ... OK
* checking R code for possible problems ... NOTE
filter_pvals_for_optim: no visible global function definition for
  ‘p.adjust’
groups_by_filter: no visible global function definition for ‘runif’
ihw.DESeqResults: no visible global function definition for ‘mcols’
ihw.DESeqResults: no visible global function definition for ‘mcols<-’
ihw.DESeqResults: no visible global function definition for ‘metadata’
ihw.DESeqResults: no visible global function definition for
  ‘metadata<-’
ihw.default: no visible global function definition for ‘runif’
ihw.default: no visible global function definition for ‘p.adjust’
ihw_convex: no visible global function definition for ‘gurobi’
ihw_internal: no visible global function definition for ‘p.adjust’
ihw_milp: no visible global function definition for ‘str’
ihw_milp: no visible global function definition for ‘gurobi’
plot_decisionboundary: no visible binding for global variable ‘stratum’
plot_decisionboundary: no visible binding for global variable
  ‘covariate’
plot_decisionboundary: no visible binding for global variable ‘pvalue’
plot_decisionboundary: no visible binding for global variable ‘fold’
thresholds_ihwResult: no visible global function definition for
  ‘na.exclude’
thresholds,ihwResult: no visible global function definition for
  ‘na.exclude’
Undefined global functions or variables:
  covariate fold gurobi mcols mcols<- metadata metadata<- na.exclude
  p.adjust pvalue runif str stratum
Consider adding
  importFrom("stats", "na.exclude", "p.adjust", "runif")
  importFrom("utils", "str")
to your NAMESPACE file.
* checking Rd files ... OK
* checking Rd metadata ... OK
* checking Rd cross-references ... OK
* checking for missing documentation entries ... OK
* checking for code/documentation mismatches ... OK
* checking Rd \usage sections ... OK
* checking Rd contents ... OK
* checking for unstated dependencies in examples ... OK
* checking files in ‘vignettes’ ... OK
* checking examples ... OK
* checking for unstated dependencies in ‘tests’ ... OK
* checking tests ...
  Running ‘testthat.R’
 OK
* checking for unstated dependencies in vignettes ... OK
* checking package vignettes ... OK
* checking re-building of vignette outputs ... OK
* checking PDF version of manual ... OK
* DONE
Status: 1 NOTE
See
  ‘/media/volume/teran2_disk/rapidbuild/bbs-3.22-bioc-rapid/meat/IHW.Rcheck/00check.log’
for details.
IHW.Rcheck/00install.out
############################################################################## ############################################################################## ### ### Running command: ### ### /home/rapidbuild/bbs-3.22-bioc-rapid/R/bin/R CMD INSTALL IHW ### ############################################################################## ############################################################################## * installing to library ‘/media/volume/teran2_disk/rapidbuild/bbs-3.22-bioc-rapid/R/site-library’ * installing *source* package ‘IHW’ ... ** this is package ‘IHW’ version ‘1.39.0’ ** using staged installation ** R ** inst ** byte-compile and prepare package for lazy loading Creating a generic function for ‘nrow’ from package ‘base’ in package ‘IHW’ ** help *** installing help indices ** building package indices ** installing vignettes ** testing if installed package can be loaded from temporary location ** testing if installed package can be loaded from final location ** testing if installed package keeps a record of temporary installation path * DONE (IHW)
IHW.Rcheck/tests/testthat.Rout
R version 4.5.1 (2025-06-13) -- "Great Square Root"
Copyright (C) 2025 The R Foundation for Statistical Computing
Platform: x86_64-pc-linux-gnu
R is free software and comes with ABSOLUTELY NO WARRANTY.
You are welcome to redistribute it under certain conditions.
Type 'license()' or 'licence()' for distribution details.
R is a collaborative project with many contributors.
Type 'contributors()' for more information and
'citation()' on how to cite R or R packages in publications.
Type 'demo()' for some demos, 'help()' for on-line help, or
'help.start()' for an HTML browser interface to help.
Type 'q()' to quit R.
> library("testthat")
> library("IHW")
> 
> test_check("IHW")
List of 3
 $ solution: num [1:2000] 0 0 0 0 0 0 0 0 0 0 ...
 $ objval  : num 70
 $ status  : Named int 0
  ..- attr(*, "names")= chr "TM_OPTIMAL_SOLUTION_FOUND"
NULL
[ FAIL 0 | WARN 3 | SKIP 0 | PASS 34 ]
[ FAIL 0 | WARN 3 | SKIP 0 | PASS 34 ]
> 
> proc.time()
   user  system elapsed 
  6.634   0.203   6.830 
IHW.Rcheck/IHW-Ex.timings
| name | user | system | elapsed | |
| get_bh_threshold | 0.001 | 0.000 | 0.001 | |
| groups_by_filter | 0.002 | 0.000 | 0.002 | |
| ihw.DESeqResults | 0 | 0 | 0 | |
| ihw.default | 2.238 | 0.040 | 2.298 | |
| ihwResult-class | 1.167 | 0.003 | 1.170 | |
| plot-ihwResult-method | 2.093 | 0.052 | 2.144 | |