| Back to Rapid builds (Linux only) of a subset of BioC 3.23 Report updated every 6 hours | 
This page was generated on 2025-10-31 09:43 -0400 (Fri, 31 Oct 2025).
| Hostname | OS | Arch (*) | R version | Installed pkgs | 
|---|---|---|---|---|
| teran2 | Linux (Ubuntu 24.04.3 LTS) | x86_64 | R Under development (unstable) (2025-10-28 r88973) -- "Unsuffered Consequences" | 917 | 
| Click on any hostname to see more info about the system (e.g. compilers) (*) as reported by 'uname -p', except on Windows and Mac OS X | ||||
| Package 144/230 | Hostname | OS / Arch | INSTALL | BUILD | CHECK | |||||||
| minet 3.69.0  (landing page) Patrick E. Meyer 
 | teran2 | Linux (Ubuntu 24.04.3 LTS) / x86_64 | OK | OK | OK | |||||||
| To the developers/maintainers of the minet package: - Use the following Renviron settings to reproduce errors and warnings. - If 'R CMD check' started to fail recently on the Linux builder(s) over a missing dependency, add the missing dependency to 'Suggests:' in your DESCRIPTION file. See Renviron.bioc for more information. | 
| Package: minet | 
| Version: 3.69.0 | 
| Command: /home/rapidbuild/bbs-3.23-bioc-rapid/R/bin/R CMD INSTALL minet | 
| StartedAt: 2025-10-31 06:05:32 -0400 (Fri, 31 Oct 2025) | 
| EndedAt: 2025-10-31 06:05:36 -0400 (Fri, 31 Oct 2025) | 
| EllapsedTime: 4.0 seconds | 
| RetCode: 0 | 
| Status: OK | 
##############################################################################
##############################################################################
###
### Running command:
###
###   /home/rapidbuild/bbs-3.23-bioc-rapid/R/bin/R CMD INSTALL minet
###
##############################################################################
##############################################################################
* installing to library ‘/media/volume/teran2_disk/rapidbuild/bbs-3.23-bioc-rapid/R/site-library’
* installing *source* package ‘minet’ ...
** this is package ‘minet’ version ‘3.69.0’
** using staged installation
** libs
using C++ compiler: ‘g++ (Ubuntu 13.3.0-6ubuntu2~24.04) 13.3.0’
g++ -std=gnu++17 -I"/home/rapidbuild/bbs-3.23-bioc-rapid/R/include" -DNDEBUG   -I/usr/local/include    -fpic  -g -O2  -Wall -Werror=format-security  -c aracne.cpp -o aracne.o
g++ -std=gnu++17 -I"/home/rapidbuild/bbs-3.23-bioc-rapid/R/include" -DNDEBUG   -I/usr/local/include    -fpic  -g -O2  -Wall -Werror=format-security  -c clr.cpp -o clr.o
g++ -std=gnu++17 -I"/home/rapidbuild/bbs-3.23-bioc-rapid/R/include" -DNDEBUG   -I/usr/local/include    -fpic  -g -O2  -Wall -Werror=format-security  -c minet.cpp -o minet.o
g++ -std=gnu++17 -I"/home/rapidbuild/bbs-3.23-bioc-rapid/R/include" -DNDEBUG   -I/usr/local/include    -fpic  -g -O2  -Wall -Werror=format-security  -c mrnet.cpp -o mrnet.o
mrnet.cpp: In function ‘SEXPREC* mrnet(SEXP, SEXP)’:
mrnet.cpp:190:34: warning: comparison of integer expressions of different signedness: ‘int’ and ‘unsigned int’ [-Wsign-compare]
  190 |                   for( int l=0; l<n; ++l )
      |                                 ~^~
g++ -std=gnu++17 -I"/home/rapidbuild/bbs-3.23-bioc-rapid/R/include" -DNDEBUG   -I/usr/local/include    -fpic  -g -O2  -Wall -Werror=format-security  -c validate.cpp -o validate.o
g++ -std=gnu++17 -shared -L/usr/local/lib -o minet.so aracne.o clr.o minet.o mrnet.o validate.o
installing to /media/volume/teran2_disk/rapidbuild/bbs-3.23-bioc-rapid/R/site-library/00LOCK-minet/00new/minet/libs
** R
** data
** inst
** byte-compile and prepare package for lazy loading
** help
*** installing help indices
** building package indices
** testing if installed package can be loaded from temporary location
** checking absolute paths in shared objects and dynamic libraries
** testing if installed package can be loaded from final location
** testing if installed package keeps a record of temporary installation path
* DONE (minet)