| Back to Rapid builds (Linux only) of a subset of BioC 3.22 Report updated every 6 hours | 
This page was generated on 2025-10-30 14:25 -0400 (Thu, 30 Oct 2025).
| Hostname | OS | Arch (*) | R version | Installed pkgs | 
|---|---|---|---|---|
| teran2 | Linux (Ubuntu 24.04.3 LTS) | x86_64 | 4.5.1 (2025-06-13) -- "Great Square Root" | 896 | 
| Click on any hostname to see more info about the system (e.g. compilers) (*) as reported by 'uname -p', except on Windows and Mac OS X | ||||
| Package 167/229 | Hostname | OS / Arch | INSTALL | BUILD | CHECK | |||||||
| pwalign 1.7.0  (landing page) Hervé Pagès 
 | teran2 | Linux (Ubuntu 24.04.3 LTS) / x86_64 | OK | OK | OK | |||||||
| To the developers/maintainers of the pwalign package: - Use the following Renviron settings to reproduce errors and warnings. - If 'R CMD check' started to fail recently on the Linux builder(s) over a missing dependency, add the missing dependency to 'Suggests:' in your DESCRIPTION file. See Renviron.bioc for more information. | 
| Package: pwalign | 
| Version: 1.7.0 | 
| Command: /home/rapidbuild/bbs-3.22-bioc-rapid/R/bin/R CMD check --install=check:pwalign.install-out.txt --library=/home/rapidbuild/bbs-3.22-bioc-rapid/R/site-library --timings pwalign_1.7.0.tar.gz | 
| StartedAt: 2025-10-30 13:52:53 -0400 (Thu, 30 Oct 2025) | 
| EndedAt: 2025-10-30 13:54:39 -0400 (Thu, 30 Oct 2025) | 
| EllapsedTime: 105.3 seconds | 
| RetCode: 0 | 
| Status: OK | 
| CheckDir: pwalign.Rcheck | 
| Warnings: 0 | 
##############################################################################
##############################################################################
###
### Running command:
###
###   /home/rapidbuild/bbs-3.22-bioc-rapid/R/bin/R CMD check --install=check:pwalign.install-out.txt --library=/home/rapidbuild/bbs-3.22-bioc-rapid/R/site-library --timings pwalign_1.7.0.tar.gz
###
##############################################################################
##############################################################################
* using log directory ‘/media/volume/teran2_disk/rapidbuild/bbs-3.22-bioc-rapid/meat/pwalign.Rcheck’
* using R version 4.5.1 (2025-06-13)
* using platform: x86_64-pc-linux-gnu
* R was compiled by
    gcc (Ubuntu 13.3.0-6ubuntu2~24.04) 13.3.0
    GNU Fortran (Ubuntu 13.3.0-6ubuntu2~24.04) 13.3.0
* running under: Ubuntu 24.04.3 LTS
* using session charset: UTF-8
* checking for file ‘pwalign/DESCRIPTION’ ... OK
* this is package ‘pwalign’ version ‘1.7.0’
* package encoding: UTF-8
* checking package namespace information ... OK
* checking package dependencies ... INFO
Package which this enhances but not available for checking: ‘Rmpi’
* checking if this is a source package ... OK
* checking if there is a namespace ... OK
* checking for hidden files and directories ... OK
* checking for portable file names ... OK
* checking for sufficient/correct file permissions ... OK
* checking whether package ‘pwalign’ can be installed ... OK
* used C compiler: ‘gcc (Ubuntu 13.3.0-6ubuntu2~24.04) 13.3.0’
* checking installed package size ... OK
* checking package directory ... OK
* checking ‘build’ directory ... OK
* checking DESCRIPTION meta-information ... OK
* checking top-level files ... OK
* checking for left-over files ... OK
* checking index information ... OK
* checking package subdirectories ... OK
* checking code files for non-ASCII characters ... OK
* checking R files for syntax errors ... OK
* checking whether the package can be loaded ... OK
* checking whether the package can be loaded with stated dependencies ... OK
* checking whether the package can be unloaded cleanly ... OK
* checking whether the namespace can be loaded with stated dependencies ... OK
* checking whether the namespace can be unloaded cleanly ... OK
* checking loading without being on the library search path ... OK
* checking whether startup messages can be suppressed ... OK
* checking dependencies in R code ... OK
* checking S3 generic/method consistency ... OK
* checking replacement functions ... OK
* checking foreign function calls ... OK
* checking R code for possible problems ... OK
* checking Rd files ... OK
* checking Rd metadata ... OK
* checking Rd cross-references ... NOTE
Found the following Rd file(s) with Rd \link{} targets missing package
anchors:
  AlignedXStringSet-class.Rd: XStringSet-class
  PairwiseAlignments-class.Rd: XString, XStringSet, alphabet,
    consensusMatrix, consensusString, XString-class, XStringViews-class
  align-utils.Rd: BString, XStringViews, BStringSet, alphabet,
    consensusMatrix, XString-class, XStringSet-class,
    XStringViews-class, match-utils
  pairwiseAlignment.Rd: XStringSet, XString, XStringQuality,
    QualityScaledXStringSet, matchPattern, vmatchPattern, matchPDict,
    XStringQuality-class
  pid.Rd: match-utils
  predefined_scoring_matrices.Rd: DNAString-class, AAString-class,
    PhredQuality-class, SolexaQuality-class, IlluminaQuality-class
  stringDist.Rd: XStringSet, XStringQuality
  substitution_matrices.Rd: DNAString-class, AAString-class,
    PhredQuality-class, SolexaQuality-class, IlluminaQuality-class
Please provide package anchors for all Rd \link{} targets not in the
package itself and the base packages.
* checking for missing documentation entries ... OK
* checking for code/documentation mismatches ... OK
* checking Rd \usage sections ... OK
* checking Rd contents ... OK
* checking for unstated dependencies in examples ... OK
* checking contents of ‘data’ directory ... OK
* checking data for non-ASCII characters ... OK
* checking data for ASCII and uncompressed saves ... OK
* checking line endings in C/C++/Fortran sources/headers ... OK
* checking compiled code ... NOTE
Note: information on .o files is not available
* checking files in ‘vignettes’ ... OK
* checking examples ... OK
* checking for unstated dependencies in ‘tests’ ... OK
* checking tests ...
  Running ‘run_unitTests.R’
 OK
* checking for unstated dependencies in vignettes ... OK
* checking package vignettes ... OK
* checking re-building of vignette outputs ... OK
* checking PDF version of manual ... OK
* DONE
Status: 2 NOTEs
See
  ‘/media/volume/teran2_disk/rapidbuild/bbs-3.22-bioc-rapid/meat/pwalign.Rcheck/00check.log’
for details.
pwalign.Rcheck/00install.out
##############################################################################
##############################################################################
###
### Running command:
###
###   /home/rapidbuild/bbs-3.22-bioc-rapid/R/bin/R CMD INSTALL pwalign
###
##############################################################################
##############################################################################
* installing to library ‘/media/volume/teran2_disk/rapidbuild/bbs-3.22-bioc-rapid/R/site-library’
* installing *source* package ‘pwalign’ ...
** this is package ‘pwalign’ version ‘1.7.0’
** using staged installation
** libs
using C compiler: ‘gcc (Ubuntu 13.3.0-6ubuntu2~24.04) 13.3.0’
gcc -std=gnu2x -I"/home/rapidbuild/bbs-3.22-bioc-rapid/R/include" -DNDEBUG  -I'/media/volume/teran2_disk/rapidbuild/bbs-3.22-bioc-rapid/R/site-library/S4Vectors/include' -I'/media/volume/teran2_disk/rapidbuild/bbs-3.22-bioc-rapid/R/site-library/IRanges/include' -I'/media/volume/teran2_disk/rapidbuild/bbs-3.22-bioc-rapid/R/site-library/XVector/include' -I'/media/volume/teran2_disk/rapidbuild/bbs-3.22-bioc-rapid/R/site-library/Biostrings/include' -I/usr/local/include    -fpic  -g -O2  -Wall -Werror=format-security -c Biostrings_stubs.c -o Biostrings_stubs.o
gcc -std=gnu2x -I"/home/rapidbuild/bbs-3.22-bioc-rapid/R/include" -DNDEBUG  -I'/media/volume/teran2_disk/rapidbuild/bbs-3.22-bioc-rapid/R/site-library/S4Vectors/include' -I'/media/volume/teran2_disk/rapidbuild/bbs-3.22-bioc-rapid/R/site-library/IRanges/include' -I'/media/volume/teran2_disk/rapidbuild/bbs-3.22-bioc-rapid/R/site-library/XVector/include' -I'/media/volume/teran2_disk/rapidbuild/bbs-3.22-bioc-rapid/R/site-library/Biostrings/include' -I/usr/local/include    -fpic  -g -O2  -Wall -Werror=format-security -c IRanges_stubs.c -o IRanges_stubs.o
gcc -std=gnu2x -I"/home/rapidbuild/bbs-3.22-bioc-rapid/R/include" -DNDEBUG  -I'/media/volume/teran2_disk/rapidbuild/bbs-3.22-bioc-rapid/R/site-library/S4Vectors/include' -I'/media/volume/teran2_disk/rapidbuild/bbs-3.22-bioc-rapid/R/site-library/IRanges/include' -I'/media/volume/teran2_disk/rapidbuild/bbs-3.22-bioc-rapid/R/site-library/XVector/include' -I'/media/volume/teran2_disk/rapidbuild/bbs-3.22-bioc-rapid/R/site-library/Biostrings/include' -I/usr/local/include    -fpic  -g -O2  -Wall -Werror=format-security -c R_init_pairwiseAlignment.c -o R_init_pairwiseAlignment.o
gcc -std=gnu2x -I"/home/rapidbuild/bbs-3.22-bioc-rapid/R/include" -DNDEBUG  -I'/media/volume/teran2_disk/rapidbuild/bbs-3.22-bioc-rapid/R/site-library/S4Vectors/include' -I'/media/volume/teran2_disk/rapidbuild/bbs-3.22-bioc-rapid/R/site-library/IRanges/include' -I'/media/volume/teran2_disk/rapidbuild/bbs-3.22-bioc-rapid/R/site-library/XVector/include' -I'/media/volume/teran2_disk/rapidbuild/bbs-3.22-bioc-rapid/R/site-library/Biostrings/include' -I/usr/local/include    -fpic  -g -O2  -Wall -Werror=format-security -c S4Vectors_stubs.c -o S4Vectors_stubs.o
gcc -std=gnu2x -I"/home/rapidbuild/bbs-3.22-bioc-rapid/R/include" -DNDEBUG  -I'/media/volume/teran2_disk/rapidbuild/bbs-3.22-bioc-rapid/R/site-library/S4Vectors/include' -I'/media/volume/teran2_disk/rapidbuild/bbs-3.22-bioc-rapid/R/site-library/IRanges/include' -I'/media/volume/teran2_disk/rapidbuild/bbs-3.22-bioc-rapid/R/site-library/XVector/include' -I'/media/volume/teran2_disk/rapidbuild/bbs-3.22-bioc-rapid/R/site-library/Biostrings/include' -I/usr/local/include    -fpic  -g -O2  -Wall -Werror=format-security -c XVector_stubs.c -o XVector_stubs.o
gcc -std=gnu2x -I"/home/rapidbuild/bbs-3.22-bioc-rapid/R/include" -DNDEBUG  -I'/media/volume/teran2_disk/rapidbuild/bbs-3.22-bioc-rapid/R/site-library/S4Vectors/include' -I'/media/volume/teran2_disk/rapidbuild/bbs-3.22-bioc-rapid/R/site-library/IRanges/include' -I'/media/volume/teran2_disk/rapidbuild/bbs-3.22-bioc-rapid/R/site-library/XVector/include' -I'/media/volume/teran2_disk/rapidbuild/bbs-3.22-bioc-rapid/R/site-library/Biostrings/include' -I/usr/local/include    -fpic  -g -O2  -Wall -Werror=format-security -c align_pairwiseAlignment.c -o align_pairwiseAlignment.o
gcc -std=gnu2x -I"/home/rapidbuild/bbs-3.22-bioc-rapid/R/include" -DNDEBUG  -I'/media/volume/teran2_disk/rapidbuild/bbs-3.22-bioc-rapid/R/site-library/S4Vectors/include' -I'/media/volume/teran2_disk/rapidbuild/bbs-3.22-bioc-rapid/R/site-library/IRanges/include' -I'/media/volume/teran2_disk/rapidbuild/bbs-3.22-bioc-rapid/R/site-library/XVector/include' -I'/media/volume/teran2_disk/rapidbuild/bbs-3.22-bioc-rapid/R/site-library/Biostrings/include' -I/usr/local/include    -fpic  -g -O2  -Wall -Werror=format-security -c align_utils.c -o align_utils.o
align_utils.c: In function ‘PairwiseAlignmentsSingleSubject_align_aligned’:
align_utils.c:234:78: warning: ‘indelStartPattern’ may be used uninitialized [-Wmaybe-uninitialized]
  234 |                                 if ((numberOfIndelPattern == 0) || (jPattern < indelStartPattern)) {
      |                                                                    ~~~~~~~~~~^~~~~~~~~~~~~~~~~~~~
align_utils.c:223:21: note: ‘indelStartPattern’ was declared here
  223 |                 int indelStartPattern, indelWidthPattern, indelStartSubject, indelWidthSubject;
      |                     ^~~~~~~~~~~~~~~~~
align_utils.c:240:55: warning: ‘indelWidthPattern’ may be used uninitialized [-Wmaybe-uninitialized]
  240 |                                         for (k = 0; k < indelWidthPattern; k++) {
      |                                                     ~~^~~~~~~~~~~~~~~~~~~
align_utils.c:223:40: note: ‘indelWidthPattern’ was declared here
  223 |                 int indelStartPattern, indelWidthPattern, indelStartSubject, indelWidthSubject;
      |                                        ^~~~~~~~~~~~~~~~~
align_utils.c:233:63: warning: ‘indelStartSubject’ may be used uninitialized [-Wmaybe-uninitialized]
  233 |                         if ((numberOfIndelSubject == 0) || (j < indelStartSubject)) {
      |                                                            ~~~^~~~~~~~~~~~~~~~~~~~
align_utils.c:223:59: note: ‘indelStartSubject’ was declared here
  223 |                 int indelStartPattern, indelWidthPattern, indelStartSubject, indelWidthSubject;
      |                                                           ^~~~~~~~~~~~~~~~~
align_utils.c:252:42: warning: ‘indelWidthSubject’ may be used uninitialized [-Wmaybe-uninitialized]
  252 |                                 jPattern += indelWidthSubject;
      |                                 ~~~~~~~~~^~~~~~~~~~~~~~~~~~~~
align_utils.c:223:78: note: ‘indelWidthSubject’ was declared here
  223 |                 int indelStartPattern, indelWidthPattern, indelStartSubject, indelWidthSubject;
      |                                                                              ^~~~~~~~~~~~~~~~~
gcc -std=gnu2x -shared -L/usr/local/lib -o pwalign.so Biostrings_stubs.o IRanges_stubs.o R_init_pairwiseAlignment.o S4Vectors_stubs.o XVector_stubs.o align_pairwiseAlignment.o align_utils.o
installing to /media/volume/teran2_disk/rapidbuild/bbs-3.22-bioc-rapid/R/site-library/00LOCK-pwalign/00new/pwalign/libs
** R
** data
** inst
** byte-compile and prepare package for lazy loading
Creating a new generic function for ‘insertion’ in package ‘pwalign’
Creating a new generic function for ‘deletion’ in package ‘pwalign’
Creating a new generic function for ‘unaligned’ in package ‘pwalign’
Creating a new generic function for ‘aligned’ in package ‘pwalign’
Creating a new generic function for ‘indel’ in package ‘pwalign’
Creating a new generic function for ‘nindel’ in package ‘pwalign’
Creating a new generic function for ‘PairwiseAlignments’ in package ‘pwalign’
Creating a new generic function for ‘pattern’ in package ‘pwalign’
Creating a new generic function for ‘alignedPattern’ in package ‘pwalign’
Creating a new generic function for ‘alignedSubject’ in package ‘pwalign’
Creating a new generic function for ‘PairwiseAlignmentsSingleSubject’ in package ‘pwalign’
Creating a new generic function for ‘nedit’ in package ‘pwalign’
Creating a new generic function for ‘mismatchTable’ in package ‘pwalign’
Creating a new generic function for ‘mismatchSummary’ in package ‘pwalign’
Creating a new generic function for ‘compareStrings’ in package ‘pwalign’
Creating a new generic function for ‘pid’ in package ‘pwalign’
Creating a new generic function for ‘pairwiseAlignment’ in package ‘pwalign’
Creating a new generic function for ‘stringDist’ in package ‘pwalign’
** help
*** installing help indices
** building package indices
** installing vignettes
** testing if installed package can be loaded from temporary location
** checking absolute paths in shared objects and dynamic libraries
** testing if installed package can be loaded from final location
** testing if installed package keeps a record of temporary installation path
* DONE (pwalign)
pwalign.Rcheck/tests/run_unitTests.Rout
R version 4.5.1 (2025-06-13) -- "Great Square Root"
Copyright (C) 2025 The R Foundation for Statistical Computing
Platform: x86_64-pc-linux-gnu
R is free software and comes with ABSOLUTELY NO WARRANTY.
You are welcome to redistribute it under certain conditions.
Type 'license()' or 'licence()' for distribution details.
R is a collaborative project with many contributors.
Type 'contributors()' for more information and
'citation()' on how to cite R or R packages in publications.
Type 'demo()' for some demos, 'help()' for on-line help, or
'help.start()' for an HTML browser interface to help.
Type 'q()' to quit R.
> require("pwalign") || stop("unable to load pwalign package")
Loading required package: pwalign
Loading required package: BiocGenerics
Loading required package: generics
Attaching package: 'generics'
The following objects are masked from 'package:base':
    as.difftime, as.factor, as.ordered, intersect, is.element, setdiff,
    setequal, union
Attaching package: 'BiocGenerics'
The following objects are masked from 'package:stats':
    IQR, mad, sd, var, xtabs
The following objects are masked from 'package:base':
    Filter, Find, Map, Position, Reduce, anyDuplicated, aperm, append,
    as.data.frame, basename, cbind, colnames, dirname, do.call,
    duplicated, eval, evalq, get, grep, grepl, is.unsorted, lapply,
    mapply, match, mget, order, paste, pmax, pmax.int, pmin, pmin.int,
    rank, rbind, rownames, sapply, saveRDS, table, tapply, unique,
    unsplit, which.max, which.min
Loading required package: S4Vectors
Loading required package: stats4
Attaching package: 'S4Vectors'
The following object is masked from 'package:utils':
    findMatches
The following objects are masked from 'package:base':
    I, expand.grid, unname
Loading required package: IRanges
Loading required package: Biostrings
Loading required package: XVector
Loading required package: Seqinfo
Attaching package: 'Biostrings'
The following object is masked from 'package:base':
    strsplit
Attaching package: 'pwalign'
The following objects are masked from 'package:Biostrings':
    PairwiseAlignments, PairwiseAlignmentsSingleSubject, aligned,
    alignedPattern, alignedSubject, compareStrings, deletion,
    errorSubstitutionMatrices, indel, insertion, mismatchSummary,
    mismatchTable, nedit, nindel, nucleotideSubstitutionMatrix,
    pairwiseAlignment, pattern, pid, qualitySubstitutionMatrices,
    stringDist, unaligned, writePairwiseAlignments
[1] TRUE
> pwalign:::.test()
RUNIT TEST PROTOCOL -- Thu Oct 30 13:54:02 2025 
*********************************************** 
Number of test functions: 7 
Number of errors: 0 
Number of failures: 0 
 
1 Test Suite : 
pwalign RUnit Tests - 7 test functions, 0 errors, 0 failures
Number of test functions: 7 
Number of errors: 0 
Number of failures: 0 
> 
> proc.time()
   user  system elapsed 
  6.634   0.504   7.143 
pwalign.Rcheck/pwalign-Ex.timings
| name | user | system | elapsed | |
| AlignedXStringSet-class | 0.050 | 0.002 | 0.052 | |
| InDel-class | 0.060 | 0.015 | 0.076 | |
| PairwiseAlignments-class | 0.345 | 0.050 | 0.395 | |
| PairwiseAlignments-io | 1.553 | 0.066 | 1.620 | |
| align-utils | 0.034 | 0.001 | 0.035 | |
| pairwiseAlignment | 0.587 | 0.052 | 0.638 | |
| phiX174Phage | 0.481 | 0.018 | 0.499 | |
| pid | 0.186 | 0.002 | 0.188 | |
| predefined_scoring_matrices | 0.135 | 0.001 | 0.136 | |
| stringDist | 2.343 | 0.002 | 2.346 | |
| substitution_matrices | 0.333 | 0.000 | 0.333 | |