| Back to Rapid builds (Linux only) of a subset of BioC 3.23 Report updated every 6 hours |
This page was generated on 2025-10-31 09:43 -0400 (Fri, 31 Oct 2025).
| Hostname | OS | Arch (*) | R version | Installed pkgs |
|---|---|---|---|---|
| teran2 | Linux (Ubuntu 24.04.3 LTS) | x86_64 | R Under development (unstable) (2025-10-28 r88973) -- "Unsuffered Consequences" | 917 |
| Click on any hostname to see more info about the system (e.g. compilers) (*) as reported by 'uname -p', except on Windows and Mac OS X | ||||
| Package 112/230 | Hostname | OS / Arch | INSTALL | BUILD | CHECK | |||||||
| gpls 1.83.0 (landing page) Bioconductor Package Maintainer
| teran2 | Linux (Ubuntu 24.04.3 LTS) / x86_64 | OK | OK | WARNINGS | |||||||
|
To the developers/maintainers of the gpls package: - Use the following Renviron settings to reproduce errors and warnings. - If 'R CMD check' started to fail recently on the Linux builder(s) over a missing dependency, add the missing dependency to 'Suggests:' in your DESCRIPTION file. See Renviron.bioc for more information. |
| Package: gpls |
| Version: 1.83.0 |
| Command: /home/rapidbuild/bbs-3.23-bioc-rapid/R/bin/R CMD build --keep-empty-dirs --no-resave-data gpls |
| StartedAt: 2025-10-31 06:54:05 -0400 (Fri, 31 Oct 2025) |
| EndedAt: 2025-10-31 06:54:11 -0400 (Fri, 31 Oct 2025) |
| EllapsedTime: 6.0 seconds |
| RetCode: 0 |
| Status: OK |
| PackageFile: gpls_1.83.0.tar.gz |
| PackageFileSize: 233.3 KiB |
############################################################################## ############################################################################## ### ### Running command: ### ### /home/rapidbuild/bbs-3.23-bioc-rapid/R/bin/R CMD build --keep-empty-dirs --no-resave-data gpls ### ############################################################################## ############################################################################## * checking for file ‘gpls/DESCRIPTION’ ... OK * preparing ‘gpls’: * checking DESCRIPTION meta-information ... OK * installing the package (it is needed to build vignettes) * creating vignettes ... OK * checking for LF line-endings in source and make files and shell scripts * checking for empty or unneeded directories * building ‘gpls_1.83.0.tar.gz’