| Back to Rapid builds (Linux only) of a subset of BioC 3.23 Report updated every 6 hours |
This page was generated on 2025-11-21 10:18 -0500 (Fri, 21 Nov 2025).
| Hostname | OS | Arch (*) | R version | Installed pkgs |
|---|---|---|---|---|
| teran2 | Linux (Ubuntu 24.04.3 LTS) | x86_64 | R Under development (unstable) (2025-10-28 r88973) -- "Unsuffered Consequences" | 917 |
| Click on any hostname to see more info about the system (e.g. compilers) (*) as reported by 'uname -p', except on Windows and Mac OS X | ||||
| Package 45/230 | Hostname | OS / Arch | INSTALL | BUILD | CHECK | |||||||
| bluster 1.21.0 (landing page) Aaron Lun
| teran2 | Linux (Ubuntu 24.04.3 LTS) / x86_64 | OK | OK | OK | |||||||
|
To the developers/maintainers of the bluster package: - Use the following Renviron settings to reproduce errors and warnings. - If 'R CMD check' started to fail recently on the Linux builder(s) over a missing dependency, add the missing dependency to 'Suggests:' in your DESCRIPTION file. See Renviron.bioc for more information. |
| Package: bluster |
| Version: 1.21.0 |
| Command: /home/rapidbuild/bbs-3.23-bioc-rapid/R/bin/R CMD check --install=check:bluster.install-out.txt --library=/home/rapidbuild/bbs-3.23-bioc-rapid/R/site-library --timings bluster_1.21.0.tar.gz |
| StartedAt: 2025-11-21 08:01:09 -0500 (Fri, 21 Nov 2025) |
| EndedAt: 2025-11-21 08:04:17 -0500 (Fri, 21 Nov 2025) |
| EllapsedTime: 188.0 seconds |
| RetCode: 0 |
| Status: OK |
| CheckDir: bluster.Rcheck |
| Warnings: 0 |
##############################################################################
##############################################################################
###
### Running command:
###
### /home/rapidbuild/bbs-3.23-bioc-rapid/R/bin/R CMD check --install=check:bluster.install-out.txt --library=/home/rapidbuild/bbs-3.23-bioc-rapid/R/site-library --timings bluster_1.21.0.tar.gz
###
##############################################################################
##############################################################################
* using log directory ‘/media/volume/teran2_disk/rapidbuild/bbs-3.23-bioc-rapid/meat/bluster.Rcheck’
* using R Under development (unstable) (2025-10-28 r88973)
* using platform: x86_64-pc-linux-gnu
* R was compiled by
gcc (Ubuntu 13.3.0-6ubuntu2~24.04) 13.3.0
GNU Fortran (Ubuntu 13.3.0-6ubuntu2~24.04) 13.3.0
* running under: Ubuntu 24.04.3 LTS
* using session charset: UTF-8
* checking for file ‘bluster/DESCRIPTION’ ... OK
* this is package ‘bluster’ version ‘1.21.0’
* package encoding: UTF-8
* checking CRAN incoming feasibility ... NOTE
Maintainer: ‘Aaron Lun <infinite.monkeys.with.keyboards@gmail.com>’
Unknown, possibly misspelled, fields in DESCRIPTION:
‘git_url’ ‘git_branch’ ‘git_last_commit’ ‘git_last_commit_date’
* checking package namespace information ... OK
* checking package dependencies ... OK
* checking if this is a source package ... OK
* checking if there is a namespace ... OK
* checking for hidden files and directories ... OK
* checking for portable file names ... OK
* checking for sufficient/correct file permissions ... OK
* checking whether package ‘bluster’ can be installed ... OK
* used C++ compiler: ‘g++ (Ubuntu 13.3.0-6ubuntu2~24.04) 13.3.0’
* checking C++ specification ... OK
* checking installed package size ... OK
* checking package directory ... OK
* checking ‘build’ directory ... OK
* checking DESCRIPTION meta-information ... OK
* checking top-level files ... OK
* checking for left-over files ... OK
* checking index information ... OK
* checking package subdirectories ... OK
* checking code files for non-ASCII characters ... OK
* checking R files for syntax errors ... OK
* checking whether the package can be loaded ... OK
* checking whether the package can be loaded with stated dependencies ... OK
* checking whether the package can be unloaded cleanly ... OK
* checking whether the namespace can be loaded with stated dependencies ... OK
* checking whether the namespace can be unloaded cleanly ... OK
* checking loading without being on the library search path ... OK
* checking use of S3 registration ... OK
* checking dependencies in R code ... OK
* checking S3 generic/method consistency ... OK
* checking replacement functions ... OK
* checking foreign function calls ... OK
* checking R code for possible problems ... OK
* checking Rd files ... OK
* checking Rd metadata ... OK
* checking Rd cross-references ... NOTE
Found the following Rd file(s) with Rd \link{} targets missing package
anchors:
AgnesParam-class.Rd: agnes
ClaraParam-class.Rd: clara
DbscanParam-class.Rd: BiocNeighborParam-class
DianaParam-class.Rd: diana
DmmParam-class.Rd: BiocParallelParam-class
NNGraphParam-class.Rd: BiocNeighborParam-class, communities,
cluster_louvain, cluster_walktrap
PamParam-class.Rd: pam
approxSilhouette.Rd: DataFrame-class
clusterSweep.Rd: BiocParallelParam-class, List-class, DataFrame-class
linkClusters.Rd: graph
makeSNNGraph.Rd: BiocNeighborParam-class, findKNN, graph, make_graph,
cluster_walktrap, cluster_louvain
mergeCommunities.Rd: graph, cut_at
neighborPurity.Rd: BiocNeighborParam-class, findNeighbors,
DataFrame-class
nestedClusters.Rd: DataFrame-class
pairwiseModularity.Rd: graph, modularity, as.undirected
Please provide package anchors for all Rd \link{} targets not in the
package itself and the base packages.
* checking for missing documentation entries ... OK
* checking for code/documentation mismatches ... OK
* checking Rd \usage sections ... OK
* checking Rd contents ... OK
* checking for unstated dependencies in examples ... OK
* checking line endings in C/C++/Fortran sources/headers ... OK
* checking compiled code ... INFO
Note: information on .o files is not available
* checking files in ‘vignettes’ ... OK
* checking examples ... NOTE
Examples with CPU (user + system) or elapsed time > 5s
user system elapsed
MbkmeansParam-class 4.852 0.172 5.024
* checking for unstated dependencies in ‘tests’ ... OK
* checking tests ...
Running ‘testthat.R’
OK
* checking for unstated dependencies in vignettes ... OK
* checking package vignettes ... OK
* checking re-building of vignette outputs ... OK
* checking PDF version of manual ... OK
* DONE
Status: 3 NOTEs
See
‘/media/volume/teran2_disk/rapidbuild/bbs-3.23-bioc-rapid/meat/bluster.Rcheck/00check.log’
for details.
bluster.Rcheck/00install.out
############################################################################## ############################################################################## ### ### Running command: ### ### /home/rapidbuild/bbs-3.23-bioc-rapid/R/bin/R CMD INSTALL bluster ### ############################################################################## ############################################################################## * installing to library ‘/media/volume/teran2_disk/rapidbuild/bbs-3.23-bioc-rapid/R/site-library’ * installing *source* package ‘bluster’ ... ** this is package ‘bluster’ version ‘1.21.0’ ** using staged installation ** libs using C++ compiler: ‘g++ (Ubuntu 13.3.0-6ubuntu2~24.04) 13.3.0’ using C++17 g++ -std=gnu++17 -I"/home/rapidbuild/bbs-3.23-bioc-rapid/R/include" -DNDEBUG -I'/media/volume/teran2_disk/rapidbuild/bbs-3.23-bioc-rapid/R/site-library/Rcpp/include' -I'/media/volume/teran2_disk/rapidbuild/bbs-3.23-bioc-rapid/R/site-library/assorthead/include' -I/usr/local/include -fpic -g -O2 -Wall -Werror=format-security -c RcppExports.cpp -o RcppExports.o g++ -std=gnu++17 -I"/home/rapidbuild/bbs-3.23-bioc-rapid/R/include" -DNDEBUG -I'/media/volume/teran2_disk/rapidbuild/bbs-3.23-bioc-rapid/R/site-library/Rcpp/include' -I'/media/volume/teran2_disk/rapidbuild/bbs-3.23-bioc-rapid/R/site-library/assorthead/include' -I/usr/local/include -fpic -g -O2 -Wall -Werror=format-security -c build_snn.cpp -o build_snn.o g++ -std=gnu++17 -I"/home/rapidbuild/bbs-3.23-bioc-rapid/R/include" -DNDEBUG -I'/media/volume/teran2_disk/rapidbuild/bbs-3.23-bioc-rapid/R/site-library/Rcpp/include' -I'/media/volume/teran2_disk/rapidbuild/bbs-3.23-bioc-rapid/R/site-library/assorthead/include' -I/usr/local/include -fpic -g -O2 -Wall -Werror=format-security -c sum_neighbor_weights.cpp -o sum_neighbor_weights.o g++ -std=gnu++17 -shared -L/usr/local/lib -o bluster.so RcppExports.o build_snn.o sum_neighbor_weights.o installing to /media/volume/teran2_disk/rapidbuild/bbs-3.23-bioc-rapid/R/site-library/00LOCK-bluster/00new/bluster/libs ** R ** inst ** byte-compile and prepare package for lazy loading ** help *** installing help indices ** building package indices ** installing vignettes ** testing if installed package can be loaded from temporary location ** checking absolute paths in shared objects and dynamic libraries ** testing if installed package can be loaded from final location ** testing if installed package keeps a record of temporary installation path * DONE (bluster)
bluster.Rcheck/tests/testthat.Rout
R Under development (unstable) (2025-10-28 r88973) -- "Unsuffered Consequences"
Copyright (C) 2025 The R Foundation for Statistical Computing
Platform: x86_64-pc-linux-gnu
R is free software and comes with ABSOLUTELY NO WARRANTY.
You are welcome to redistribute it under certain conditions.
Type 'license()' or 'licence()' for distribution details.
R is a collaborative project with many contributors.
Type 'contributors()' for more information and
'citation()' on how to cite R or R packages in publications.
Type 'demo()' for some demos, 'help()' for on-line help, or
'help.start()' for an HTML browser interface to help.
Type 'q()' to quit R.
> library(testthat)
> library(bluster)
> test_check("bluster")
Warning: stack imbalance in '<-', 77 then 79
Warning: stack imbalance in '{', 73 then 75
[ FAIL 0 | WARN 1 | SKIP 0 | PASS 2249 ]
[ FAIL 0 | WARN 1 | SKIP 0 | PASS 2249 ]
>
> proc.time()
user system elapsed
30.472 0.643 31.118
bluster.Rcheck/bluster-Ex.timings
| name | user | system | elapsed | |
| AffinityParam-class | 0.888 | 0.067 | 0.954 | |
| AgnesParam-class | 0.016 | 0.000 | 0.016 | |
| ClaraParam-class | 0.012 | 0.001 | 0.014 | |
| DbscanParam-class | 0.019 | 0.000 | 0.020 | |
| DianaParam-class | 0.012 | 0.001 | 0.014 | |
| DmmParam-class | 0.812 | 0.059 | 0.881 | |
| HclustParam-class | 0.059 | 0.011 | 0.081 | |
| KmeansParam-class | 0.007 | 0.000 | 0.007 | |
| MbkmeansParam-class | 4.852 | 0.172 | 5.024 | |
| NNGraphParam-class | 0.032 | 0.006 | 0.038 | |
| PamParam-class | 0.012 | 0.002 | 0.014 | |
| SomParam-class | 0.034 | 0.007 | 0.041 | |
| TwoStepParam-class | 0.309 | 0.008 | 0.318 | |
| approxSilhouette | 0.037 | 0.016 | 0.054 | |
| bootstrapStability | 0.099 | 0.026 | 0.125 | |
| clusterRMSD | 0.004 | 0.000 | 0.004 | |
| clusterRows | 0.379 | 0.016 | 0.395 | |
| clusterSweep | 0.266 | 0.001 | 0.267 | |
| compareClusterings | 0.097 | 0.002 | 0.101 | |
| defaultArguments | 0.002 | 0.000 | 0.001 | |
| linkClusters | 0.039 | 0.000 | 0.038 | |
| makeSNNGraph | 0.636 | 0.001 | 0.636 | |
| mergeCommunities | 0.017 | 0.000 | 0.017 | |
| neighborPurity | 0.051 | 0.000 | 0.051 | |
| nestedClusters | 0.022 | 0.001 | 0.023 | |
| pairwiseModularity | 0.471 | 0.005 | 0.476 | |
| pairwiseRand | 0.008 | 0.000 | 0.008 | |