| Back to Rapid builds (Linux only) of a subset of BioC 3.23 Report updated every 6 hours |
This page was generated on 2025-11-07 10:09 -0500 (Fri, 07 Nov 2025).
| Hostname | OS | Arch (*) | R version | Installed pkgs |
|---|---|---|---|---|
| teran2 | Linux (Ubuntu 24.04.3 LTS) | x86_64 | R Under development (unstable) (2025-10-28 r88973) -- "Unsuffered Consequences" | 917 |
| Click on any hostname to see more info about the system (e.g. compilers) (*) as reported by 'uname -p', except on Windows and Mac OS X | ||||
| Package 118/230 | Hostname | OS / Arch | INSTALL | BUILD | CHECK | |||||||
| gypsum 1.7.0 (landing page) Aaron Lun
| teran2 | Linux (Ubuntu 24.04.3 LTS) / x86_64 | OK | OK | OK | |||||||
|
To the developers/maintainers of the gypsum package: - Use the following Renviron settings to reproduce errors and warnings. - If 'R CMD check' started to fail recently on the Linux builder(s) over a missing dependency, add the missing dependency to 'Suggests:' in your DESCRIPTION file. See Renviron.bioc for more information. |
| Package: gypsum |
| Version: 1.7.0 |
| Command: /home/rapidbuild/bbs-3.23-bioc-rapid/R/bin/R CMD check --install=check:gypsum.install-out.txt --library=/home/rapidbuild/bbs-3.23-bioc-rapid/R/site-library --timings gypsum_1.7.0.tar.gz |
| StartedAt: 2025-11-07 08:47:56 -0500 (Fri, 07 Nov 2025) |
| EndedAt: 2025-11-07 08:48:36 -0500 (Fri, 07 Nov 2025) |
| EllapsedTime: 40.0 seconds |
| RetCode: 0 |
| Status: OK |
| CheckDir: gypsum.Rcheck |
| Warnings: 0 |
##############################################################################
##############################################################################
###
### Running command:
###
### /home/rapidbuild/bbs-3.23-bioc-rapid/R/bin/R CMD check --install=check:gypsum.install-out.txt --library=/home/rapidbuild/bbs-3.23-bioc-rapid/R/site-library --timings gypsum_1.7.0.tar.gz
###
##############################################################################
##############################################################################
* using log directory ‘/media/volume/teran2_disk/rapidbuild/bbs-3.23-bioc-rapid/meat/gypsum.Rcheck’
* using R Under development (unstable) (2025-10-28 r88973)
* using platform: x86_64-pc-linux-gnu
* R was compiled by
gcc (Ubuntu 13.3.0-6ubuntu2~24.04) 13.3.0
GNU Fortran (Ubuntu 13.3.0-6ubuntu2~24.04) 13.3.0
* running under: Ubuntu 24.04.3 LTS
* using session charset: UTF-8
* checking for file ‘gypsum/DESCRIPTION’ ... OK
* this is package ‘gypsum’ version ‘1.7.0’
* checking CRAN incoming feasibility ... NOTE
Maintainer: ‘Aaron Lun <infinite.monkeys.with.keyboards@gmail.com>’
License components with restrictions and base license permitting such:
MIT + file LICENSE
File 'LICENSE':
Copyright 2023 Aaron Lun
Permission is hereby granted, free of charge, to any person obtaining a copy of
this software and associated documentation files (the "Software"), to deal in
the Software without restriction, including without limitation the rights to
use, copy, modify, merge, publish, distribute, sublicense, and/or sell copies
of the Software, and to permit persons to whom the Software is furnished to do
so, subject to the following conditions:
The above copyright notice and this permission notice shall be included in all
copies or substantial portions of the Software.
THE SOFTWARE IS PROVIDED "AS IS", WITHOUT WARRANTY OF ANY KIND, EXPRESS OR
IMPLIED, INCLUDING BUT NOT LIMITED TO THE WARRANTIES OF MERCHANTABILITY,
FITNESS FOR A PARTICULAR PURPOSE AND NONINFRINGEMENT. IN NO EVENT SHALL THE
AUTHORS OR COPYRIGHT HOLDERS BE LIABLE FOR ANY CLAIM, DAMAGES OR OTHER
LIABILITY, WHETHER IN AN ACTION OF CONTRACT, TORT OR OTHERWISE, ARISING FROM,
OUT OF OR IN CONNECTION WITH THE SOFTWARE OR THE USE OR OTHER DEALINGS IN THE
SOFTWARE.
Unknown, possibly misspelled, fields in DESCRIPTION:
‘git_url’ ‘git_branch’ ‘git_last_commit’ ‘git_last_commit_date’
The Title field should be in title case. Current version is:
‘Interface to the gypsum REST API’
In title case that is:
‘Interface to the Gypsum REST API’
The Description field contains
Client for the gypsum REST API (https://gypsum.artifactdb.com), a
https://github.com/ArtifactDB/gypsum-worker for more details.
Please enclose URLs in angle brackets (<...>).
The Date field is over a month old.
* checking package namespace information ... OK
* checking package dependencies ... OK
* checking if this is a source package ... OK
* checking if there is a namespace ... OK
* checking for hidden files and directories ... OK
* checking for portable file names ... OK
* checking for sufficient/correct file permissions ... OK
* checking whether package ‘gypsum’ can be installed ... OK
* checking installed package size ... OK
* checking package directory ... OK
* checking ‘build’ directory ... OK
* checking DESCRIPTION meta-information ... NOTE
License stub is invalid DCF.
* checking top-level files ... OK
* checking for left-over files ... OK
* checking index information ... OK
* checking package subdirectories ... OK
* checking code files for non-ASCII characters ... OK
* checking R files for syntax errors ... OK
* checking whether the package can be loaded ... OK
* checking whether the package can be loaded with stated dependencies ... OK
* checking whether the package can be unloaded cleanly ... OK
* checking whether the namespace can be loaded with stated dependencies ... OK
* checking whether the namespace can be unloaded cleanly ... OK
* checking loading without being on the library search path ... OK
* checking use of S3 registration ... OK
* checking dependencies in R code ... OK
* checking S3 generic/method consistency ... OK
* checking replacement functions ... OK
* checking foreign function calls ... OK
* checking R code for possible problems ... OK
* checking Rd files ... OK
* checking Rd metadata ... OK
* checking Rd cross-references ... OK
* checking for missing documentation entries ... OK
* checking for code/documentation mismatches ... OK
* checking Rd \usage sections ... OK
* checking Rd contents ... OK
* checking for unstated dependencies in examples ... OK
* checking files in ‘vignettes’ ... OK
* checking examples ... OK
* checking for unstated dependencies in ‘tests’ ... OK
* checking tests ...
Running ‘testthat.R’
OK
* checking for unstated dependencies in vignettes ... OK
* checking package vignettes ... OK
* checking re-building of vignette outputs ... OK
* checking PDF version of manual ... OK
* DONE
Status: 2 NOTEs
See
‘/media/volume/teran2_disk/rapidbuild/bbs-3.23-bioc-rapid/meat/gypsum.Rcheck/00check.log’
for details.
gypsum.Rcheck/00install.out
############################################################################## ############################################################################## ### ### Running command: ### ### /home/rapidbuild/bbs-3.23-bioc-rapid/R/bin/R CMD INSTALL gypsum ### ############################################################################## ############################################################################## * installing to library ‘/media/volume/teran2_disk/rapidbuild/bbs-3.23-bioc-rapid/R/site-library’ * installing *source* package ‘gypsum’ ... ** this is package ‘gypsum’ version ‘1.7.0’ ** using staged installation ** R ** inst ** byte-compile and prepare package for lazy loading ** help *** installing help indices ** building package indices ** installing vignettes ** testing if installed package can be loaded from temporary location ** testing if installed package can be loaded from final location ** testing if installed package keeps a record of temporary installation path * DONE (gypsum)
gypsum.Rcheck/tests/testthat.Rout
R Under development (unstable) (2025-10-28 r88973) -- "Unsuffered Consequences"
Copyright (C) 2025 The R Foundation for Statistical Computing
Platform: x86_64-pc-linux-gnu
R is free software and comes with ABSOLUTELY NO WARRANTY.
You are welcome to redistribute it under certain conditions.
Type 'license()' or 'licence()' for distribution details.
R is a collaborative project with many contributors.
Type 'contributors()' for more information and
'citation()' on how to cite R or R packages in publications.
Type 'demo()' for some demos, 'help()' for on-line help, or
'help.start()' for an HTML browser interface to help.
Type 'q()' to quit R.
> library(testthat)
> library(gypsum)
> test_check("gypsum")
[ FAIL 0 | WARN 0 | SKIP 13 | PASS 252 ]
══ Skipped tests (13) ══════════════════════════════════════════════════════════
• is.na(gh_token) is TRUE (13): 'test-accessToken.R:5:5', 'test-latest.R:5:5',
'test-permissions.R:5:5', 'test-probation.R:5:5', 'test-probation.R:28:5',
'test-quota.R:5:5', 'test-quota.R:23:5', 'test-remove.R:5:5',
'test-unlockProject.R:5:5', 'test-upload.R:5:5', 'test-upload.R:55:5',
'test-upload.R:89:5', 'test-upload.R:107:5'
[ FAIL 0 | WARN 0 | SKIP 13 | PASS 252 ]
>
> proc.time()
user system elapsed
2.596 0.217 14.720
gypsum.Rcheck/gypsum-Ex.timings
| name | user | system | elapsed | |
| abortUpload | 0.001 | 0.000 | 0.001 | |
| accessToken | 0 | 0 | 0 | |
| approveProbation | 0 | 0 | 0 | |
| cacheDirectory | 0.000 | 0.001 | 0.001 | |
| cloneVersion | 0.003 | 0.001 | 0.005 | |
| completeUpload | 0.001 | 0.001 | 0.001 | |
| createProject | 0 | 0 | 0 | |
| fetchLatest | 0.047 | 0.002 | 0.231 | |
| fetchManifest | 0 | 0 | 0 | |
| fetchMetadataDatabase | 0.051 | 0.003 | 0.200 | |
| fetchMetadataSchema | 0.000 | 0.000 | 0.001 | |
| fetchPermissions | 0.003 | 0.001 | 0.111 | |
| fetchQuota | 0.003 | 0.001 | 0.120 | |
| fetchSummary | 0.001 | 0.001 | 0.001 | |
| fetchUsage | 0.003 | 0.000 | 0.144 | |
| formatObjectMetadata | 0.571 | 0.043 | 0.614 | |
| listAssets | 0.005 | 0.000 | 0.140 | |
| listFiles | 0.004 | 0.000 | 0.105 | |
| listProjects | 0 | 0 | 0 | |
| listVersions | 0.003 | 0.000 | 0.105 | |
| prepareDirectoryUpload | 0.002 | 0.001 | 0.003 | |
| publicS3Config | 0.001 | 0.000 | 0.003 | |
| refreshLatest | 0 | 0 | 0 | |
| refreshUsage | 0 | 0 | 0 | |
| rejectProbation | 0.000 | 0.000 | 0.001 | |
| removeAsset | 0.001 | 0.000 | 0.000 | |
| removeProject | 0 | 0 | 0 | |
| removeVersion | 0 | 0 | 0 | |
| resolveLinks | 0.024 | 0.001 | 1.008 | |
| restUrl | 0 | 0 | 0 | |
| saveFile | 0.001 | 0.000 | 0.001 | |
| saveVersion | 0 | 0 | 0 | |
| searchMetadata | 0.374 | 0.013 | 0.469 | |
| setPermissions | 0.001 | 0.001 | 0.000 | |
| setQuota | 0 | 0 | 0 | |
| startUpload | 0.001 | 0.000 | 0.000 | |
| translateTextQuery | 0.029 | 0.011 | 0.040 | |
| unlockProject | 0.001 | 0.001 | 0.000 | |
| uploadDirectory | 0.000 | 0.000 | 0.001 | |
| uploadFiles | 0.001 | 0.000 | 0.001 | |
| validateMetadata | 0.290 | 0.046 | 0.304 | |