Back to Build/check report for BioC 3.23:   simplified   long
A[B]CDEFGHIJKLMNOPQRSTUVWXYZ

This page was generated on 2025-10-31 08:33 -0400 (Fri, 31 Oct 2025).

HostnameOSArch (*)R versionInstalled pkgs
nebbiolo1Linux (Ubuntu 24.04.3 LTS)x86_64R Under development (unstable) (2025-10-20 r88955) -- "Unsuffered Consequences" 4428
Click on any hostname to see more info about the system (e.g. compilers)      (*) as reported by 'uname -p', except on Windows and Mac OS X

All results for package BiocGenerics


To the developers/maintainers of the BiocGenerics package:
- Allow up to 24 hours (and sometimes 48 hours) for your latest push to git@git.bioconductor.org:packages/BiocGenerics.git to reflect on this report. See Troubleshooting Build Report for more information.
- Use the following Renviron settings to reproduce errors and warnings.
- If 'R CMD check' started to fail recently on the Linux builder(s) over a missing dependency, add the missing dependency to 'Suggests:' in your DESCRIPTION file. See Renviron.bioc for more information.

raw results

Package 188/2321HostnameOS / ArchINSTALLBUILDCHECKBUILD BIN
BiocGenerics 0.57.0  (landing page)
Hervé Pagès
Snapshot Date: 2025-10-30 13:40 -0400 (Thu, 30 Oct 2025)
git_url: https://git.bioconductor.org/packages/BiocGenerics
git_branch: devel
git_last_commit: 5fcc999
git_last_commit_date: 2025-10-29 14:48:01 -0400 (Wed, 29 Oct 2025)
nebbiolo1Linux (Ubuntu 24.04.3 LTS) / x86_64  OK    OK    WARNINGS  YES



Results for Bioconductor software packages that depend directly on package BiocGenerics

QUICK STATSOS / ArchINSTALLBUILDCHECKBUILD BIN
nebbiolo1Linux (Ubuntu 24.04.3 LTS) / x86_64
062440
0187315
04859208
Package 1/502HostnameOS / ArchINSTALLBUILDCHECKBUILD BIN
a4Preproc 1.59.0  (landing page)
Laure Cougnaud
git_last_commit: 921a89b
git_last_commit_date: 2025-10-29 10:07:23 -0400
nebbiolo1Linux (Ubuntu 24.04.3 LTS) / x86_64  OK    ERROR  skipped
Package 2/502HostnameOS / ArchINSTALLBUILDCHECKBUILD BIN
ACME 2.67.0  (landing page)
Sean Davis
git_last_commit: 299474e
git_last_commit_date: 2025-10-29 09:59:16 -0400
nebbiolo1Linux (Ubuntu 24.04.3 LTS) / x86_64  OK    OK    WARNINGS  YES
Package 3/502HostnameOS / ArchINSTALLBUILDCHECKBUILD BIN
affy 1.89.0  (landing page)
Robert D. Shear
git_last_commit: b2e5a66
git_last_commit_date: 2025-10-29 09:42:08 -0400
nebbiolo1Linux (Ubuntu 24.04.3 LTS) / x86_64  OK    ERROR  skipped
Package 4/502HostnameOS / ArchINSTALLBUILDCHECKBUILD BIN
affycoretools 1.83.0  (landing page)
James W. MacDonald
git_last_commit: c6a0b37
git_last_commit_date: 2025-10-29 09:57:11 -0400
nebbiolo1Linux (Ubuntu 24.04.3 LTS) / x86_64  ERROR    ERROR  skipped
Package 5/502HostnameOS / ArchINSTALLBUILDCHECKBUILD BIN
affylmGUI 1.85.0  (landing page)
Gordon Smyth
git_last_commit: 6df4f72
git_last_commit_date: 2025-10-29 09:54:46 -0400
nebbiolo1Linux (Ubuntu 24.04.3 LTS) / x86_64  OK    OK    OK  NO, package depends on 'affy' which is not available
Package 6/502HostnameOS / ArchINSTALLBUILDCHECKBUILD BIN
affyPLM 1.87.0  (landing page)
Ben Bolstad
git_last_commit: 53a03e9
git_last_commit_date: 2025-10-29 09:53:58 -0400
nebbiolo1Linux (Ubuntu 24.04.3 LTS) / x86_64  OK    ERROR  skipped
Package 7/502HostnameOS / ArchINSTALLBUILDCHECKBUILD BIN
alabaster.bumpy 1.11.0  (landing page)
Aaron Lun
git_last_commit: 08f8924
git_last_commit_date: 2025-10-29 11:21:24 -0400
nebbiolo1Linux (Ubuntu 24.04.3 LTS) / x86_64  OK    OK    OK  NO, package depends on 'BumpyMatrix' which is not available
Package 8/502HostnameOS / ArchINSTALLBUILDCHECKBUILD BIN
alabaster.files 1.9.0  (landing page)
Aaron Lun
git_last_commit: 32a02ee
git_last_commit_date: 2025-10-29 11:24:01 -0400
nebbiolo1Linux (Ubuntu 24.04.3 LTS) / x86_64  OK    OK    OK  NO, package depends on 'Rsamtools' which is not available
Package 9/502HostnameOS / ArchINSTALLBUILDCHECKBUILD BIN
alabaster.matrix 1.11.0  (landing page)
Aaron Lun
git_last_commit: c5028de
git_last_commit_date: 2025-10-29 11:21:14 -0400
nebbiolo1Linux (Ubuntu 24.04.3 LTS) / x86_64  OK    OK    OK  NO, package depends on 'DelayedArray' which is not available
Package 10/502HostnameOS / ArchINSTALLBUILDCHECKBUILD BIN
alabaster.ranges 1.11.0  (landing page)
Aaron Lun
git_last_commit: 283afd5
git_last_commit_date: 2025-10-29 11:21:11 -0400
nebbiolo1Linux (Ubuntu 24.04.3 LTS) / x86_64  OK    OK    OK  NO, package depends on 'GenomicRanges' which is not available
Package 11/502HostnameOS / ArchINSTALLBUILDCHECKBUILD BIN
alabaster.se 1.11.0  (landing page)
Aaron Lun
git_last_commit: 6b3a91e
git_last_commit_date: 2025-10-29 11:21:17 -0400
nebbiolo1Linux (Ubuntu 24.04.3 LTS) / x86_64  OK    OK    OK  NO, package depends on 'SummarizedExperiment' which is not available
Package 12/502HostnameOS / ArchINSTALLBUILDCHECKBUILD BIN
AllelicImbalance 1.49.0  (landing page)
Jesper R Gadin
git_last_commit: d78bb64
git_last_commit_date: 2025-10-29 10:16:36 -0400
nebbiolo1Linux (Ubuntu 24.04.3 LTS) / x86_64  OK    ERROR  skipped
Package 13/502HostnameOS / ArchINSTALLBUILDCHECKBUILD BIN
altcdfenvs 2.73.0  (landing page)
Laurent Gautier
git_last_commit: 2798b4f
git_last_commit_date: 2025-10-29 09:54:38 -0400
nebbiolo1Linux (Ubuntu 24.04.3 LTS) / x86_64  OK    ERROR  skipped
Package 14/502HostnameOS / ArchINSTALLBUILDCHECKBUILD BIN
amplican 1.33.0  (landing page)
Eivind Valen
git_last_commit: 244fde2
git_last_commit_date: 2025-10-29 10:40:44 -0400
nebbiolo1Linux (Ubuntu 24.04.3 LTS) / x86_64  ERROR    ERROR  skipped
Package 15/502HostnameOS / ArchINSTALLBUILDCHECKBUILD BIN
annmap 1.53.0  (landing page)
Chris Wirth
git_last_commit: d64521e
git_last_commit_date: 2025-10-29 10:11:14 -0400
nebbiolo1Linux (Ubuntu 24.04.3 LTS) / x86_64  OK    OK    WARNINGS  NO, package depends on 'GenomicRanges' which is not available
Package 16/502HostnameOS / ArchINSTALLBUILDCHECKBUILD BIN
annotate 1.89.0  (landing page)
Bioconductor Package Maintainer
git_last_commit: a7eff2c
git_last_commit_date: 2025-10-29 09:23:46 -0400
nebbiolo1Linux (Ubuntu 24.04.3 LTS) / x86_64  OK    ERROR  skipped
Package 17/502HostnameOS / ArchINSTALLBUILDCHECKBUILD BIN
AnnotationDbi 1.73.0  (landing page)
Bioconductor Package Maintainer
git_last_commit: ecf9140
git_last_commit_date: 2025-10-29 09:58:44 -0400
nebbiolo1Linux (Ubuntu 24.04.3 LTS) / x86_64  OK    ERROR  skipped
Package 18/502HostnameOS / ArchINSTALLBUILDCHECKBUILD BIN
AnnotationForge 1.53.0  (landing page)
Bioconductor Package Maintainer
git_last_commit: a113c77
git_last_commit_date: 2025-10-29 10:11:26 -0400
nebbiolo1Linux (Ubuntu 24.04.3 LTS) / x86_64  OK    ERROR  skipped
Package 19/502HostnameOS / ArchINSTALLBUILDCHECKBUILD BIN
AnnotationHub 4.1.0  (landing page)
Bioconductor Package Maintainer
git_last_commit: 027c4b7
git_last_commit_date: 2025-10-29 10:14:23 -0400
nebbiolo1Linux (Ubuntu 24.04.3 LTS) / x86_64  OK    OK    OK  NO, package depends on 'AnnotationDbi' which is not available
Package 20/502HostnameOS / ArchINSTALLBUILDCHECKBUILD BIN
AnnotationHubData 1.41.0  (landing page)
Bioconductor Package Maintainer
git_last_commit: 932837e
git_last_commit_date: 2025-10-29 10:27:35 -0400
nebbiolo1Linux (Ubuntu 24.04.3 LTS) / x86_64  ERROR    ERROR  skipped
Package 21/502HostnameOS / ArchINSTALLBUILDCHECKBUILD BIN
ASpli 2.21.0  (landing page)
Ariel Chernomoretz
git_last_commit: 6fd6add
git_last_commit_date: 2025-10-29 10:33:32 -0400
nebbiolo1Linux (Ubuntu 24.04.3 LTS) / x86_64  OK    OK    WARNINGS  NO, package depends on 'AnnotationDbi' which is not available
Package 22/502HostnameOS / ArchINSTALLBUILDCHECKBUILD BIN
ATACseqQC 1.35.0  (landing page)
Jianhong Ou
git_last_commit: 938226b
git_last_commit_date: 2025-10-29 10:38:34 -0400
nebbiolo1Linux (Ubuntu 24.04.3 LTS) / x86_64  ERROR    ERROR  skipped
Package 23/502HostnameOS / ArchINSTALLBUILDCHECKBUILD BIN
ATACseqTFEA 1.13.0  (landing page)
Jianhong Ou
git_last_commit: e0054ea
git_last_commit_date: 2025-10-29 11:18:13 -0400
nebbiolo1Linux (Ubuntu 24.04.3 LTS) / x86_64  OK    ERROR  skipped
Package 24/502HostnameOS / ArchINSTALLBUILDCHECKBUILD BIN
atena 1.17.0  (landing page)
Robert Castelo
git_last_commit: 2209be2
git_last_commit_date: 2025-10-29 11:12:14 -0400
nebbiolo1Linux (Ubuntu 24.04.3 LTS) / x86_64  OK    ERROR  skipped
Package 25/502HostnameOS / ArchINSTALLBUILDCHECKBUILD BIN
AUCell 1.33.0  (landing page)
Gert Hulselmans
git_last_commit: cf45038
git_last_commit_date: 2025-10-29 10:40:49 -0400
nebbiolo1Linux (Ubuntu 24.04.3 LTS) / x86_64  OK    OK    OK  NO, package depends on 'DelayedArray' which is not available
Package 26/502HostnameOS / ArchINSTALLBUILDCHECKBUILD BIN
autonomics 1.19.0  (landing page)
Aditya Bhagwat
git_last_commit: 9fc1276
git_last_commit_date: 2025-10-29 11:06:51 -0400
nebbiolo1Linux (Ubuntu 24.04.3 LTS) / x86_64  OK    OK    ERROR  
Package 27/502HostnameOS / ArchINSTALLBUILDCHECKBUILD BIN
bambu 3.13.0  (landing page)
Ying Chen
git_last_commit: a438673
git_last_commit_date: 2025-10-29 11:03:46 -0400
nebbiolo1Linux (Ubuntu 24.04.3 LTS) / x86_64  OK    ERROR  skipped
Package 28/502HostnameOS / ArchINSTALLBUILDCHECKBUILD BIN
bamsignals 1.43.0  (landing page)
Johannes Helmuth
git_last_commit: d16fe7d
git_last_commit_date: 2025-10-29 10:24:39 -0400
nebbiolo1Linux (Ubuntu 24.04.3 LTS) / x86_64  OK    OK    OK  NO, package depends on 'IRanges' which is not available
Package 29/502HostnameOS / ArchINSTALLBUILDCHECKBUILD BIN
BASiCS 2.23.0  (landing page)
Catalina Vallejos
git_last_commit: c192aba
git_last_commit_date: 2025-10-29 10:41:03 -0400
nebbiolo1Linux (Ubuntu 24.04.3 LTS) / x86_64  OK    OK    WARNINGS  NO, package depends on 'SingleCellExperiment' which is not available
Package 30/502HostnameOS / ArchINSTALLBUILDCHECKBUILD BIN
batchelor 1.27.0  (landing page)
Aaron Lun
git_last_commit: bb31e4b
git_last_commit_date: 2025-10-29 10:51:04 -0400
nebbiolo1Linux (Ubuntu 24.04.3 LTS) / x86_64  OK    OK    OK  NO, package depends on 'SingleCellExperiment' which is not available
Package 31/502HostnameOS / ArchINSTALLBUILDCHECKBUILD BIN
beachmat 2.27.0  (landing page)
Aaron Lun
git_last_commit: 06edf7e
git_last_commit_date: 2025-10-29 10:39:35 -0400
nebbiolo1Linux (Ubuntu 24.04.3 LTS) / x86_64  OK    OK    OK  NO, package depends on 'DelayedArray' which is not available
Package 32/502HostnameOS / ArchINSTALLBUILDCHECKBUILD BIN
beadarray 2.61.0  (landing page)
Mark Dunning
git_last_commit: 0cd2969
git_last_commit_date: 2025-10-29 09:57:32 -0400
nebbiolo1Linux (Ubuntu 24.04.3 LTS) / x86_64  OK    ERROR  skipped
Package 33/502HostnameOS / ArchINSTALLBUILDCHECKBUILD BIN
bigmelon 1.37.0  (landing page)
Leonard C. Schalkwyk
git_last_commit: 142a0e8
git_last_commit_date: 2025-10-29 10:34:27 -0400
nebbiolo1Linux (Ubuntu 24.04.3 LTS) / x86_64  ERROR    ERROR  skipped
Package 34/502HostnameOS / ArchINSTALLBUILDCHECKBUILD BIN
bioassayR 1.49.0  (landing page)
Thomas Girke
git_last_commit: dff449a
git_last_commit_date: 2025-10-29 10:16:39 -0400
nebbiolo1Linux (Ubuntu 24.04.3 LTS) / x86_64  OK    OK    OK  NO, package depends on 'ChemmineR' which is not available
Package 35/502HostnameOS / ArchINSTALLBUILDCHECKBUILD BIN
Biobase 2.71.0  (landing page)
Bioconductor Package Maintainer
git_last_commit: 94f68ab
git_last_commit_date: 2025-10-29 09:23:41 -0400
nebbiolo1Linux (Ubuntu 24.04.3 LTS) / x86_64  OK    OK    OK  YES
Package 36/502HostnameOS / ArchINSTALLBUILDCHECKBUILD BIN
Bioc.gff 1.1.0  (landing page)
Bioconductor Package Maintainer
git_last_commit: a3d3863
git_last_commit_date: 2025-10-29 11:37:35 -0400
nebbiolo1Linux (Ubuntu 24.04.3 LTS) / x86_64  OK    ERROR  skipped
Package 37/502HostnameOS / ArchINSTALLBUILDCHECKBUILD BIN
BiocBook 1.9.0  (landing page)
Jacques Serizay
git_last_commit: fed98cf
git_last_commit_date: 2025-10-29 11:25:47 -0400
nebbiolo1Linux (Ubuntu 24.04.3 LTS) / x86_64  OK    ERROR  skipped
Package 38/502HostnameOS / ArchINSTALLBUILDCHECKBUILD BIN
biocGraph 1.73.0  (landing page)
Florian Hahne
git_last_commit: 68d8be3
git_last_commit_date: 2025-10-29 09:59:36 -0400
nebbiolo1Linux (Ubuntu 24.04.3 LTS) / x86_64  OK    ERROR  skipped
Package 39/502HostnameOS / ArchINSTALLBUILDCHECKBUILD BIN
BiocHail 1.11.0  (landing page)
Vincent Carey
git_last_commit: 87779e5
git_last_commit_date: 2025-10-29 11:23:05 -0400
nebbiolo1Linux (Ubuntu 24.04.3 LTS) / x86_64  OK    OK    OK  YES
Package 40/502HostnameOS / ArchINSTALLBUILDCHECKBUILD BIN
BiocIO 1.21.0  (landing page)
Marcel Ramos
git_last_commit: 884e288
git_last_commit_date: 2025-10-29 11:01:39 -0400
nebbiolo1Linux (Ubuntu 24.04.3 LTS) / x86_64  OK    OK    OK  YES
Package 41/502HostnameOS / ArchINSTALLBUILDCHECKBUILD BIN
BiocSingular 1.27.0  (landing page)
Aaron Lun
git_last_commit: 2f19618
git_last_commit_date: 2025-10-29 10:50:05 -0400
nebbiolo1Linux (Ubuntu 24.04.3 LTS) / x86_64  OK    OK    WARNINGS  NO, package depends on 'DelayedArray' which is not available
Package 42/502HostnameOS / ArchINSTALLBUILDCHECKBUILD BIN
Biostrings 2.79.0  (landing page)
Hervé Pagès
git_last_commit: fb3d330
git_last_commit_date: 2025-10-29 14:50:40 -0400
nebbiolo1Linux (Ubuntu 24.04.3 LTS) / x86_64  OK    ERROR  skipped
Package 43/502HostnameOS / ArchINSTALLBUILDCHECKBUILD BIN
biotmle 1.35.0  (landing page)
Nima Hejazi
git_last_commit: 5690334
git_last_commit_date: 2025-10-29 10:38:19 -0400
nebbiolo1Linux (Ubuntu 24.04.3 LTS) / x86_64  OK    OK    OK  NO, package depends on 'SummarizedExperiment' which is not available
Package 44/502HostnameOS / ArchINSTALLBUILDCHECKBUILD BIN
biovizBase 1.59.0  (landing page)
Michael Lawrence
git_last_commit: 7895cbf
git_last_commit_date: 2025-10-29 10:09:04 -0400
nebbiolo1Linux (Ubuntu 24.04.3 LTS) / x86_64  OK    OK    ERROR  
Package 45/502HostnameOS / ArchINSTALLBUILDCHECKBUILD BIN
biscuiteer 1.25.0  (landing page)
Jacob Morrison
git_last_commit: c74f865
git_last_commit_date: 2025-10-29 10:55:16 -0400
nebbiolo1Linux (Ubuntu 24.04.3 LTS) / x86_64  ERROR    ERROR  skipped
Package 46/502HostnameOS / ArchINSTALLBUILDCHECKBUILD BIN
BiSeq 1.51.0  (landing page)
Katja Hebestreit
git_last_commit: 6c33e6b
git_last_commit_date: 2025-10-29 10:14:44 -0400
nebbiolo1Linux (Ubuntu 24.04.3 LTS) / x86_64  OK    OK    OK  NO, package depends on 'IRanges' which is not available
Package 47/502HostnameOS / ArchINSTALLBUILDCHECKBUILD BIN
blima 1.45.0  (landing page)
Vojtěch Kulvait
git_last_commit: 171a351
git_last_commit_date: 2025-10-29 10:19:35 -0400
nebbiolo1Linux (Ubuntu 24.04.3 LTS) / x86_64  OK    ERROR  skipped
Package 48/502HostnameOS / ArchINSTALLBUILDCHECKBUILD BIN
bnbc 1.33.0  (landing page)
Kipper Fletez-Brant
git_last_commit: dc2adb8
git_last_commit_date: 2025-10-29 10:41:29 -0400
nebbiolo1Linux (Ubuntu 24.04.3 LTS) / x86_64  OK    ERROR  skipped
Package 49/502HostnameOS / ArchINSTALLBUILDCHECKBUILD BIN
breakpointR 1.29.0  (landing page)
David Porubsky
git_last_commit: 5469268
git_last_commit_date: 2025-10-29 10:47:40 -0400
nebbiolo1Linux (Ubuntu 24.04.3 LTS) / x86_64  OK    OK    OK  NO, package depends on 'GenomicRanges' which is not available
Package 50/502HostnameOS / ArchINSTALLBUILDCHECKBUILD BIN
BrowserViz 2.33.0  (landing page)
Arkadiusz Gladki
git_last_commit: 0964377
git_last_commit_date: 2025-10-29 10:24:18 -0400
nebbiolo1Linux (Ubuntu 24.04.3 LTS) / x86_64  OK    OK    OK  YES
Package 51/502HostnameOS / ArchINSTALLBUILDCHECKBUILD BIN
BSgenome 1.79.0  (landing page)
Hervé Pagès
git_last_commit: ed2fb58
git_last_commit_date: 2025-10-29 14:47:19 -0400
nebbiolo1Linux (Ubuntu 24.04.3 LTS) / x86_64  OK    ERROR  skipped
Package 52/502HostnameOS / ArchINSTALLBUILDCHECKBUILD BIN
BSgenomeForge 1.11.0  (landing page)
Hervé Pagès
git_last_commit: c7d1729
git_last_commit_date: 2025-10-29 14:46:49 -0400
nebbiolo1Linux (Ubuntu 24.04.3 LTS) / x86_64  OK    OK    ERROR  
Package 53/502HostnameOS / ArchINSTALLBUILDCHECKBUILD BIN
bsseq 1.47.0  (landing page)
Kasper Daniel Hansen
git_last_commit: a627872
git_last_commit_date: 2025-10-29 10:11:31 -0400
nebbiolo1Linux (Ubuntu 24.04.3 LTS) / x86_64  OK    OK    ERROR  
Package 54/502HostnameOS / ArchINSTALLBUILDCHECKBUILD BIN
BubbleTree 2.41.0  (landing page)
Todd Creasy , Wei Zhu
git_last_commit: ec3708e
git_last_commit_date: 2025-10-29 10:24:01 -0400
nebbiolo1Linux (Ubuntu 24.04.3 LTS) / x86_64  OK    ERROR  skipped
Package 55/502HostnameOS / ArchINSTALLBUILDCHECKBUILD BIN
bumphunter 1.53.0  (landing page)
Tamilselvi Guharaj
git_last_commit: 19ed02f
git_last_commit_date: 2025-10-29 10:13:01 -0400
nebbiolo1Linux (Ubuntu 24.04.3 LTS) / x86_64  OK    OK    OK  NO, package depends on 'IRanges' which is not available
Package 56/502HostnameOS / ArchINSTALLBUILDCHECKBUILD BIN
BUSpaRse 1.25.0  (landing page)
Lambda Moses
git_last_commit: 031e018
git_last_commit_date: 2025-10-29 10:53:52 -0400
nebbiolo1Linux (Ubuntu 24.04.3 LTS) / x86_64  OK    ERROR  skipped
Package 57/502HostnameOS / ArchINSTALLBUILDCHECKBUILD BIN
CAGEfightR 1.31.0  (landing page)
Malte Thodberg
git_last_commit: c45462c
git_last_commit_date: 2025-10-29 10:45:17 -0400
nebbiolo1Linux (Ubuntu 24.04.3 LTS) / x86_64  OK    ERROR  skipped
Package 58/502HostnameOS / ArchINSTALLBUILDCHECKBUILD BIN
CAGEr 2.17.0  (landing page)
Charles Plessy
git_last_commit: 0a93a41
git_last_commit_date: 2025-10-29 10:13:45 -0400
nebbiolo1Linux (Ubuntu 24.04.3 LTS) / x86_64  OK    ERROR  skipped
Package 59/502HostnameOS / ArchINSTALLBUILDCHECKBUILD BIN
Cardinal 3.13.0  (landing page)
Kylie Ariel Bemis
git_last_commit: 2d83be5
git_last_commit_date: 2025-10-29 10:23:51 -0400
nebbiolo1Linux (Ubuntu 24.04.3 LTS) / x86_64  OK    OK    OK  YES
Package 60/502HostnameOS / ArchINSTALLBUILDCHECKBUILD BIN
casper 2.45.0  (landing page)
David Rossell
git_last_commit: 8f208d9
git_last_commit_date: 2025-10-29 10:13:21 -0400
nebbiolo1Linux (Ubuntu 24.04.3 LTS) / x86_64  ERROR    ERROR  skipped
Package 61/502HostnameOS / ArchINSTALLBUILDCHECKBUILD BIN
Category 2.77.0  (landing page)
Bioconductor Package Maintainer
git_last_commit: 6850286
git_last_commit_date: 2025-10-29 09:56:37 -0400
nebbiolo1Linux (Ubuntu 24.04.3 LTS) / x86_64  OK    ERROR  skipped
Package 62/502HostnameOS / ArchINSTALLBUILDCHECKBUILD BIN
categoryCompare 1.55.0  (landing page)
Robert M. Flight
git_last_commit: 22bf171
git_last_commit_date: 2025-10-29 10:11:00 -0400
nebbiolo1Linux (Ubuntu 24.04.3 LTS) / x86_64  OK    ERROR  skipped
Package 63/502HostnameOS / ArchINSTALLBUILDCHECKBUILD BIN
celaref 1.29.0  (landing page)
Sarah Williams
git_last_commit: 20dbb3d
git_last_commit_date: 2025-10-29 10:46:48 -0400
nebbiolo1Linux (Ubuntu 24.04.3 LTS) / x86_64  OK    OK    OK  NO, package depends on 'SummarizedExperiment' which is not available
Package 64/502HostnameOS / ArchINSTALLBUILDCHECKBUILD BIN
CellBench 1.27.0  (landing page)
Shian Su
git_last_commit: ecbe643
git_last_commit_date: 2025-10-29 10:50:23 -0400
nebbiolo1Linux (Ubuntu 24.04.3 LTS) / x86_64  OK    OK    OK  NO, package depends on 'SingleCellExperiment' which is not available
Package 65/502HostnameOS / ArchINSTALLBUILDCHECKBUILD BIN
CellMixS 1.27.0  (landing page)
Almut Lütge
git_last_commit: 4692bc3
git_last_commit_date: 2025-10-29 10:51:12 -0400
nebbiolo1Linux (Ubuntu 24.04.3 LTS) / x86_64  OK    OK    OK  NO, package depends on 'scater' which is not available
Package 66/502HostnameOS / ArchINSTALLBUILDCHECKBUILD BIN
CellTrails 1.29.0  (landing page)
Daniel Ellwanger
git_last_commit: 75d815a
git_last_commit_date: 2025-10-29 10:46:02 -0400
nebbiolo1Linux (Ubuntu 24.04.3 LTS) / x86_64  OK    OK    ERROR  
Package 67/502HostnameOS / ArchINSTALLBUILDCHECKBUILD BIN
cfDNAPro 1.17.0  (landing page)
Haichao Wang
git_last_commit: fef4aa4
git_last_commit_date: 2025-10-29 11:11:06 -0400
nebbiolo1Linux (Ubuntu 24.04.3 LTS) / x86_64  ERROR    ERROR  skipped
Package 68/502HostnameOS / ArchINSTALLBUILDCHECKBUILD BIN
cghMCR 1.69.0  (landing page)
J. Zhang
git_last_commit: 310f992
git_last_commit_date: 2025-10-29 09:57:58 -0400
nebbiolo1Linux (Ubuntu 24.04.3 LTS) / x86_64  OK    OK    WARNINGS  NO, package depends on 'CNTools' which is not available
Package 69/502HostnameOS / ArchINSTALLBUILDCHECKBUILD BIN
ChemmineOB 1.49.0  (landing page)
Thomas Girke
git_last_commit: f44ed31
git_last_commit_date: 2025-10-29 10:16:04 -0400
nebbiolo1Linux (Ubuntu 24.04.3 LTS) / x86_64  OK    OK    WARNINGS  YES
Package 70/502HostnameOS / ArchINSTALLBUILDCHECKBUILD BIN
ChemmineR 3.63.0  (landing page)
Thomas Girke
git_last_commit: f944c2b
git_last_commit_date: 2025-10-29 10:01:35 -0400
nebbiolo1Linux (Ubuntu 24.04.3 LTS) / x86_64  OK    OK    ERROR  
Package 71/502HostnameOS / ArchINSTALLBUILDCHECKBUILD BIN
ChIPComp 1.41.0  (landing page)
Li Chen
git_last_commit: 6f90f75
git_last_commit_date: 2025-10-29 10:27:22 -0400
nebbiolo1Linux (Ubuntu 24.04.3 LTS) / x86_64  ERROR    ERROR  skipped
Package 72/502HostnameOS / ArchINSTALLBUILDCHECKBUILD BIN
chipenrich 2.35.0  (landing page)
Kai Wang
git_last_commit: 93dd65a
git_last_commit_date: 2025-10-29 10:16:16 -0400
nebbiolo1Linux (Ubuntu 24.04.3 LTS) / x86_64  ERROR    ERROR  skipped
Package 73/502HostnameOS / ArchINSTALLBUILDCHECKBUILD BIN
ChIPpeakAnno 3.45.0  (landing page)
Jianhong Ou
git_last_commit: 2e00e23
git_last_commit_date: 2025-10-29 10:03:18 -0400
nebbiolo1Linux (Ubuntu 24.04.3 LTS) / x86_64  ERROR    ERROR  skipped
Package 74/502HostnameOS / ArchINSTALLBUILDCHECKBUILD BIN
ChIPQC 1.47.0  (landing page)
Tom Carroll , Rory Stark
git_last_commit: 8be4dc7
git_last_commit_date: 2025-10-29 10:18:53 -0400
nebbiolo1Linux (Ubuntu 24.04.3 LTS) / x86_64  ERROR    ERROR  skipped
Package 75/502HostnameOS / ArchINSTALLBUILDCHECKBUILD BIN
ChIPseeker 1.47.0  (landing page)
Guangchuang Yu
git_last_commit: e1ac8e1
git_last_commit_date: 2025-10-29 10:19:25 -0400
nebbiolo1Linux (Ubuntu 24.04.3 LTS) / x86_64  OK    ERROR  skipped
Package 76/502HostnameOS / ArchINSTALLBUILDCHECKBUILD BIN
chipseq 1.61.0  (landing page)
Bioconductor Package Maintainer
git_last_commit: f81d061
git_last_commit_date: 2025-10-29 10:02:59 -0400
nebbiolo1Linux (Ubuntu 24.04.3 LTS) / x86_64  OK    ERROR  skipped
Package 77/502HostnameOS / ArchINSTALLBUILDCHECKBUILD BIN
ChIPseqR 1.65.0  (landing page)
Peter Humburg
git_last_commit: 7948588
git_last_commit_date: 2025-10-29 10:03:52 -0400
nebbiolo1Linux (Ubuntu 24.04.3 LTS) / x86_64  OK    OK    OK  NO, package depends on 'Biostrings' which is not available
Package 78/502HostnameOS / ArchINSTALLBUILDCHECKBUILD BIN
ChromHeatMap 1.65.0  (landing page)
Tim F. Rayner
git_last_commit: d47e520
git_last_commit_date: 2025-10-29 10:03:49 -0400
nebbiolo1Linux (Ubuntu 24.04.3 LTS) / x86_64  OK    ERROR  skipped
Package 79/502HostnameOS / ArchINSTALLBUILDCHECKBUILD BIN
chromVAR 1.33.0  (landing page)
Alicia Schep
git_last_commit: 1730858
git_last_commit_date: 2025-10-29 10:41:16 -0400
nebbiolo1Linux (Ubuntu 24.04.3 LTS) / x86_64  OK    ERROR  skipped
Package 80/502HostnameOS / ArchINSTALLBUILDCHECKBUILD BIN
cicero 1.29.0  (landing page)
Hannah Pliner
git_last_commit: dcca6ae
git_last_commit_date: 2025-10-29 10:47:55 -0400
nebbiolo1Linux (Ubuntu 24.04.3 LTS) / x86_64  OK    OK    OK  NO, package depends on 'Gviz' which is not available
Package 81/502HostnameOS / ArchINSTALLBUILDCHECKBUILD BIN
cigarillo 1.1.0  (landing page)
Hervé Pagès
git_last_commit: f89db3d
git_last_commit_date: 2025-10-29 11:39:18 -0400
nebbiolo1Linux (Ubuntu 24.04.3 LTS) / x86_64  OK    OK    ERROR  
Package 82/502HostnameOS / ArchINSTALLBUILDCHECKBUILD BIN
CircSeqAlignTk 1.13.0  (landing page)
Jianqiang Sun
git_last_commit: 4415fca
git_last_commit_date: 2025-10-29 11:19:05 -0400
nebbiolo1Linux (Ubuntu 24.04.3 LTS) / x86_64  OK    OK    OK  NO, package depends on 'Biostrings' which is not available
Package 83/502HostnameOS / ArchINSTALLBUILDCHECKBUILD BIN
CleanUpRNAseq 1.5.0  (landing page)
Haibo Liu
git_last_commit: 4f653f6
git_last_commit_date: 2025-10-29 11:31:19 -0400
nebbiolo1Linux (Ubuntu 24.04.3 LTS) / x86_64  OK    OK    ERROR  
Package 84/502HostnameOS / ArchINSTALLBUILDCHECKBUILD BIN
clusterExperiment 2.31.0  (landing page)
Elizabeth Purdom
git_last_commit: dc97d45
git_last_commit_date: 2025-10-29 10:33:07 -0400
nebbiolo1Linux (Ubuntu 24.04.3 LTS) / x86_64  OK    OK    WARNINGS  NO, package depends on 'SingleCellExperiment' which is not available
Package 85/502HostnameOS / ArchINSTALLBUILDCHECKBUILD BIN
clusterSeq 1.35.0  (landing page)
Samuel Granjeaud
git_last_commit: de26638
git_last_commit_date: 2025-10-29 10:35:57 -0400
nebbiolo1Linux (Ubuntu 24.04.3 LTS) / x86_64  OK    OK    OK  NO, package depends on 'baySeq' which is not available
Package 86/502HostnameOS / ArchINSTALLBUILDCHECKBUILD BIN
cn.mops 1.57.0  (landing page)
Gundula Povysil
git_last_commit: 79a0901
git_last_commit_date: 2025-10-29 10:09:41 -0400
nebbiolo1Linux (Ubuntu 24.04.3 LTS) / x86_64  OK    OK    OK  NO, package depends on 'GenomicRanges' which is not available
Package 87/502HostnameOS / ArchINSTALLBUILDCHECKBUILD BIN
CNEr 1.47.0  (landing page)
Boris Lenhard Damir Baranasic
git_last_commit: 4d7f8ce
git_last_commit_date: 2025-10-29 10:18:00 -0400
nebbiolo1Linux (Ubuntu 24.04.3 LTS) / x86_64  OK    ERROR  skipped
Package 88/502HostnameOS / ArchINSTALLBUILDCHECKBUILD BIN
CNVPanelizer 1.43.0  (landing page)
Thomas Wolf
git_last_commit: 6ed963e
git_last_commit_date: 2025-10-29 10:26:34 -0400
nebbiolo1Linux (Ubuntu 24.04.3 LTS) / x86_64  OK    OK    OK  NO, package depends on 'GenomicRanges' which is not available
Package 89/502HostnameOS / ArchINSTALLBUILDCHECKBUILD BIN
CNVRanger 1.27.0  (landing page)
Ludwig Geistlinger
git_last_commit: 16600ca
git_last_commit_date: 2025-10-29 10:49:57 -0400
nebbiolo1Linux (Ubuntu 24.04.3 LTS) / x86_64  OK    ERROR  skipped
Package 90/502HostnameOS / ArchINSTALLBUILDCHECKBUILD BIN
COCOA 2.25.0  (landing page)
John Lawson
git_last_commit: a245a29
git_last_commit_date: 2025-10-29 10:48:30 -0400
nebbiolo1Linux (Ubuntu 24.04.3 LTS) / x86_64  OK    OK    OK  NO, package depends on 'GenomicRanges' which is not available
Package 91/502HostnameOS / ArchINSTALLBUILDCHECKBUILD BIN
codelink 1.79.0  (landing page)
Diego Diez
git_last_commit: 28ca5f2
git_last_commit_date: 2025-10-29 09:57:29 -0400
nebbiolo1Linux (Ubuntu 24.04.3 LTS) / x86_64  OK    OK    OK  NO, package depends on 'annotate' which is not available
Package 92/502HostnameOS / ArchINSTALLBUILDCHECKBUILD BIN
cola 2.17.0  (landing page)
Zuguang Gu
git_last_commit: 7589392
git_last_commit_date: 2025-10-29 10:49:39 -0400
nebbiolo1Linux (Ubuntu 24.04.3 LTS) / x86_64  OK    OK    ERROR  
Package 93/502HostnameOS / ArchINSTALLBUILDCHECKBUILD BIN
compEpiTools 1.45.0  (landing page)
Mattia Furlan
git_last_commit: 949eb04
git_last_commit_date: 2025-10-29 10:20:59 -0400
nebbiolo1Linux (Ubuntu 24.04.3 LTS) / x86_64  OK    ERROR  skipped
Package 94/502HostnameOS / ArchINSTALLBUILDCHECKBUILD BIN
CompoundDb 1.15.0  (landing page)
Johannes Rainer
git_last_commit: c48af8f
git_last_commit_date: 2025-10-29 11:14:42 -0400
nebbiolo1Linux (Ubuntu 24.04.3 LTS) / x86_64  OK    OK    OK  NO, package depends on 'AnnotationFilter' which is not available
Package 95/502HostnameOS / ArchINSTALLBUILDCHECKBUILD BIN
concordexR 1.11.0  (landing page)
Kayla Jackson
git_last_commit: 7b24dc8
git_last_commit_date: 2025-10-29 11:22:42 -0400
nebbiolo1Linux (Ubuntu 24.04.3 LTS) / x86_64  OK    OK    WARNINGS  NO, package depends on 'DelayedArray' which is not available
Package 96/502HostnameOS / ArchINSTALLBUILDCHECKBUILD BIN
consensusDE 1.29.0  (landing page)
Ashley J. Waardenberg
git_last_commit: e69df52
git_last_commit_date: 2025-10-29 10:48:35 -0400
nebbiolo1Linux (Ubuntu 24.04.3 LTS) / x86_64  ERROR    ERROR  skipped
Package 97/502HostnameOS / ArchINSTALLBUILDCHECKBUILD BIN
consensusSeekeR 1.39.0  (landing page)
Astrid Deschênes
git_last_commit: 35fd991
git_last_commit_date: 2025-10-29 10:28:45 -0400
nebbiolo1Linux (Ubuntu 24.04.3 LTS) / x86_64  OK    OK    OK  NO, package depends on 'IRanges' which is not available
Package 98/502HostnameOS / ArchINSTALLBUILDCHECKBUILD BIN
CoreGx 2.15.0  (landing page)
Benjamin Haibe-Kains
git_last_commit: e18fa83
git_last_commit_date: 2025-10-29 10:59:21 -0400
nebbiolo1Linux (Ubuntu 24.04.3 LTS) / x86_64  OK    OK    OK  NO, package depends on 'SummarizedExperiment' which is not available
Package 99/502HostnameOS / ArchINSTALLBUILDCHECKBUILD BIN
crisprBase 1.15.0  (landing page)
Jean-Philippe Fortin
git_last_commit: 8c55499
git_last_commit_date: 2025-10-29 11:14:18 -0400
nebbiolo1Linux (Ubuntu 24.04.3 LTS) / x86_64  OK    OK    WARNINGS  NO, package depends on 'Biostrings' which is not available
Package 100/502HostnameOS / ArchINSTALLBUILDCHECKBUILD BIN
crisprBowtie 1.15.0  (landing page)
Jean-Philippe Fortin
git_last_commit: 5838b33
git_last_commit_date: 2025-10-29 11:15:03 -0400
nebbiolo1Linux (Ubuntu 24.04.3 LTS) / x86_64  OK    OK    ERROR  
Package 101/502HostnameOS / ArchINSTALLBUILDCHECKBUILD BIN
crisprBwa 1.15.0  (landing page)
Jean-Philippe Fortin
git_last_commit: cff26fd
git_last_commit_date: 2025-10-29 11:16:38 -0400
nebbiolo1Linux (Ubuntu 24.04.3 LTS) / x86_64  OK    ERROR  skipped
Package 102/502HostnameOS / ArchINSTALLBUILDCHECKBUILD BIN
crisprDesign 1.13.0  (landing page)
Jean-Philippe Fortin
git_last_commit: dd162c8
git_last_commit_date: 2025-10-29 11:17:54 -0400
nebbiolo1Linux (Ubuntu 24.04.3 LTS) / x86_64  OK    ERROR  skipped
Package 103/502HostnameOS / ArchINSTALLBUILDCHECKBUILD BIN
crisprScore 1.15.0  (landing page)
Jean-Philippe Fortin
git_last_commit: 8b5dc77
git_last_commit_date: 2025-10-29 11:14:23 -0400
nebbiolo1Linux (Ubuntu 24.04.3 LTS) / x86_64  OK    OK    OK  NO, package depends on 'Biostrings' which is not available
Package 104/502HostnameOS / ArchINSTALLBUILDCHECKBUILD BIN
CRISPRseek 1.51.0  (landing page)
Lihua Julie Zhu
git_last_commit: 0934262
git_last_commit_date: 2025-10-29 10:17:22 -0400
nebbiolo1Linux (Ubuntu 24.04.3 LTS) / x86_64  OK    ERROR  skipped
Package 105/502HostnameOS / ArchINSTALLBUILDCHECKBUILD BIN
crisprShiny 1.7.0  (landing page)
Jean-Philippe Fortin
git_last_commit: e4da799
git_last_commit_date: 2025-10-29 11:28:01 -0400
nebbiolo1Linux (Ubuntu 24.04.3 LTS) / x86_64  OK    OK    ERROR  
Package 106/502HostnameOS / ArchINSTALLBUILDCHECKBUILD BIN
crisprViz 1.13.0  (landing page)
Jean-Philippe Fortin
git_last_commit: e839b44
git_last_commit_date: 2025-10-29 11:18:46 -0400
nebbiolo1Linux (Ubuntu 24.04.3 LTS) / x86_64  OK    ERROR  skipped
Package 107/502HostnameOS / ArchINSTALLBUILDCHECKBUILD BIN
crlmm 1.69.0  (landing page)
Benilton S Carvalho
git_last_commit: 51993cf
git_last_commit_date: 2025-10-29 10:02:32 -0400
nebbiolo1Linux (Ubuntu 24.04.3 LTS) / x86_64  OK    ERROR  skipped
Package 108/502HostnameOS / ArchINSTALLBUILDCHECKBUILD BIN
csaw 1.45.0  (landing page)
Aaron Lun
git_last_commit: 39b0f81
git_last_commit_date: 2025-10-29 10:22:22 -0400
nebbiolo1Linux (Ubuntu 24.04.3 LTS) / x86_64  OK    OK    ERROR  
Package 109/502HostnameOS / ArchINSTALLBUILDCHECKBUILD BIN
CTexploreR 1.7.0  (landing page)
Axelle Loriot
git_last_commit: db48290
git_last_commit_date: 2025-10-29 11:26:51 -0400
nebbiolo1Linux (Ubuntu 24.04.3 LTS) / x86_64  OK    OK    OK  NO, package depends on 'CTdata' which is not available
Package 110/502HostnameOS / ArchINSTALLBUILDCHECKBUILD BIN
cummeRbund 2.53.0  (landing page)
Loyal A. Goff
git_last_commit: 793c3a1
git_last_commit_date: 2025-10-29 10:09:10 -0400
nebbiolo1Linux (Ubuntu 24.04.3 LTS) / x86_64  OK    ERROR  skipped
Package 111/502HostnameOS / ArchINSTALLBUILDCHECKBUILD BIN
CuratedAtlasQueryR 1.9.0  (landing page)
Stefano Mangiola
git_last_commit: 0ecd53b
git_last_commit_date: 2025-10-29 11:24:15 -0400
nebbiolo1Linux (Ubuntu 24.04.3 LTS) / x86_64  OK    OK    OK  NO, package depends on 'SummarizedExperiment' which is not available
Package 112/502HostnameOS / ArchINSTALLBUILDCHECKBUILD BIN
cydar 1.35.0  (landing page)
Aaron Lun
git_last_commit: d8b7be4
git_last_commit_date: 2025-10-29 10:37:34 -0400
nebbiolo1Linux (Ubuntu 24.04.3 LTS) / x86_64  OK    OK    OK  NO, package depends on 'SingleCellExperiment' which is not available
Package 113/502HostnameOS / ArchINSTALLBUILDCHECKBUILD BIN
dada2 1.39.0  (landing page)
Benjamin Callahan
git_last_commit: 29f93c2
git_last_commit_date: 2025-10-29 10:30:17 -0400
nebbiolo1Linux (Ubuntu 24.04.3 LTS) / x86_64  OK    OK    WARNINGS  NO, package depends on 'Biostrings' which is not available
Package 114/502HostnameOS / ArchINSTALLBUILDCHECKBUILD BIN
dagLogo 1.49.0  (landing page)
Jianhong Ou
git_last_commit: 73a5187
git_last_commit_date: 2025-10-29 10:16:42 -0400
nebbiolo1Linux (Ubuntu 24.04.3 LTS) / x86_64  OK    OK    OK  NO, package depends on 'Biostrings' which is not available
Package 115/502HostnameOS / ArchINSTALLBUILDCHECKBUILD BIN
DAMEfinder 1.23.0  (landing page)
Stephany Orjuela
git_last_commit: cb8c833
git_last_commit_date: 2025-10-29 10:56:31 -0400
nebbiolo1Linux (Ubuntu 24.04.3 LTS) / x86_64  OK    ERROR  skipped
Package 116/502HostnameOS / ArchINSTALLBUILDCHECKBUILD BIN
dandelionR 1.3.0  (landing page)
Kelvin Tuong
git_last_commit: 29dd237
git_last_commit_date: 2025-10-29 11:34:23 -0400
nebbiolo1Linux (Ubuntu 24.04.3 LTS) / x86_64  OK    OK    OK  NO, package depends on 'destiny' which is not available
Package 117/502HostnameOS / ArchINSTALLBUILDCHECKBUILD BIN
ddCt 1.67.0  (landing page)
Jitao David Zhang
git_last_commit: cd8a4fe
git_last_commit_date: 2025-10-29 10:03:15 -0400
nebbiolo1Linux (Ubuntu 24.04.3 LTS) / x86_64  OK    OK    WARNINGS  YES
Package 118/502HostnameOS / ArchINSTALLBUILDCHECKBUILD BIN
decompTumor2Sig 2.27.0  (landing page)
Rosario M. Piro
git_last_commit: d30b743
git_last_commit_date: 2025-10-29 10:49:06 -0400
nebbiolo1Linux (Ubuntu 24.04.3 LTS) / x86_64  ERROR    ERROR  skipped
Package 119/502HostnameOS / ArchINSTALLBUILDCHECKBUILD BIN
deconvR 1.17.0  (landing page)
Irem B. Gündüz
git_last_commit: 25b6419
git_last_commit_date: 2025-10-29 11:13:19 -0400
nebbiolo1Linux (Ubuntu 24.04.3 LTS) / x86_64  OK    OK    OK  NO, package depends on 'methylKit' which is not available
Package 120/502HostnameOS / ArchINSTALLBUILDCHECKBUILD BIN
DegCre 1.7.0  (landing page)
Brian S. Roberts
git_last_commit: 97a3d4d
git_last_commit_date: 2025-10-29 11:28:34 -0400
nebbiolo1Linux (Ubuntu 24.04.3 LTS) / x86_64  ERROR    ERROR  skipped
Package 121/502HostnameOS / ArchINSTALLBUILDCHECKBUILD BIN
DEGreport 1.47.0  (landing page)
Lorena Pantano
git_last_commit: 792957e
git_last_commit_date: 2025-10-29 10:19:57 -0400
nebbiolo1Linux (Ubuntu 24.04.3 LTS) / x86_64  OK    OK    OK  NO, package depends on 'ComplexHeatmap' which is not available
Package 122/502HostnameOS / ArchINSTALLBUILDCHECKBUILD BIN
DelayedArray 0.37.0  (landing page)
Hervé Pagès
git_last_commit: a1ebb83
git_last_commit_date: 2025-10-29 14:49:13 -0400
nebbiolo1Linux (Ubuntu 24.04.3 LTS) / x86_64  OK    OK    WARNINGS  NO, package depends on 'IRanges' which is not available
Package 123/502HostnameOS / ArchINSTALLBUILDCHECKBUILD BIN
DelayedDataFrame 1.27.0  (landing page)
Qian Liu
git_last_commit: 7dcd028
git_last_commit_date: 2025-10-29 10:49:14 -0400
nebbiolo1Linux (Ubuntu 24.04.3 LTS) / x86_64  OK    OK    OK  NO, package depends on 'DelayedArray' which is not available
Package 124/502HostnameOS / ArchINSTALLBUILDCHECKBUILD BIN
demuxSNP 1.9.0  (landing page)
Michael Lynch
git_last_commit: e594034
git_last_commit_date: 2025-10-29 11:23:27 -0400
nebbiolo1Linux (Ubuntu 24.04.3 LTS) / x86_64  OK    ERROR  skipped
Package 125/502HostnameOS / ArchINSTALLBUILDCHECKBUILD BIN
derfinder 1.45.0  (landing page)
Leonardo Collado-Torres
git_last_commit: 946e0b8
git_last_commit_date: 2025-10-29 10:21:48 -0400
nebbiolo1Linux (Ubuntu 24.04.3 LTS) / x86_64  OK    ERROR  skipped
Package 126/502HostnameOS / ArchINSTALLBUILDCHECKBUILD BIN
DEScan2 1.31.0  (landing page)
Dario Righelli
git_last_commit: 788dce2
git_last_commit_date: 2025-10-29 10:43:48 -0400
nebbiolo1Linux (Ubuntu 24.04.3 LTS) / x86_64  ERROR    ERROR  skipped
Package 127/502HostnameOS / ArchINSTALLBUILDCHECKBUILD BIN
DESeq2 1.51.0  (landing page)
Michael Love
git_last_commit: 3323082
git_last_commit_date: 2025-10-29 10:13:48 -0400
nebbiolo1Linux (Ubuntu 24.04.3 LTS) / x86_64  OK    OK    OK  NO, package depends on 'IRanges' which is not available
Package 128/502HostnameOS / ArchINSTALLBUILDCHECKBUILD BIN
DESpace 2.3.0  (landing page)
Peiying Cai
git_last_commit: 8879de2
git_last_commit_date: 2025-10-29 11:22:00 -0400
nebbiolo1Linux (Ubuntu 24.04.3 LTS) / x86_64  OK    OK    OK  NO, package depends on 'SpatialExperiment' which is not available
Package 129/502HostnameOS / ArchINSTALLBUILDCHECKBUILD BIN
destiny 3.25.0  (landing page)
Philipp Angerer
git_last_commit: 424224a
git_last_commit_date: 2025-10-29 11:14:40 -0400
nebbiolo1Linux (Ubuntu 24.04.3 LTS) / x86_64  OK    ERROR  skipped
Package 130/502HostnameOS / ArchINSTALLBUILDCHECKBUILD BIN
DEWSeq 1.25.0  (landing page)
bioinformatics team Hentze
git_last_commit: 065d2b7
git_last_commit_date: 2025-10-29 10:55:18 -0400
nebbiolo1Linux (Ubuntu 24.04.3 LTS) / x86_64  OK    OK    OK  NO, package depends on 'DESeq2' which is not available
Package 131/502HostnameOS / ArchINSTALLBUILDCHECKBUILD BIN
DEXSeq 1.57.0  (landing page)
Alejandro Reyes
git_last_commit: db6ed7c
git_last_commit_date: 2025-10-29 10:07:54 -0400
nebbiolo1Linux (Ubuntu 24.04.3 LTS) / x86_64  OK    OK    OK  NO, package depends on 'SummarizedExperiment' which is not available
Package 132/502HostnameOS / ArchINSTALLBUILDCHECKBUILD BIN
DFplyr 1.5.0  (landing page)
Jonathan Carroll
git_last_commit: 98a6c4d
git_last_commit_date: 2025-10-29 11:32:58 -0400
nebbiolo1Linux (Ubuntu 24.04.3 LTS) / x86_64  OK    OK    OK  YES
Package 133/502HostnameOS / ArchINSTALLBUILDCHECKBUILD BIN
diffcoexp 1.31.0  (landing page)
Wenbin Wei
git_last_commit: 8943d77
git_last_commit_date: 2025-10-29 10:43:50 -0400
nebbiolo1Linux (Ubuntu 24.04.3 LTS) / x86_64  OK    OK    OK  NO, package depends on 'SummarizedExperiment' which is not available
Package 134/502HostnameOS / ArchINSTALLBUILDCHECKBUILD BIN
diffHic 1.43.0  (landing page)
Aaron Lun , Gordon Smyth , Hannah Coughlin
git_last_commit: c909cdb
git_last_commit_date: 2025-10-29 10:25:47 -0400
nebbiolo1Linux (Ubuntu 24.04.3 LTS) / x86_64  OK    OK    ERROR  
Package 135/502HostnameOS / ArchINSTALLBUILDCHECKBUILD BIN
dinoR 1.7.0  (landing page)
Michaela Schwaiger
git_last_commit: ad3d7ac
git_last_commit_date: 2025-10-29 11:28:52 -0400
nebbiolo1Linux (Ubuntu 24.04.3 LTS) / x86_64  OK    OK    OK  NO, package depends on 'SummarizedExperiment' which is not available
Package 136/502HostnameOS / ArchINSTALLBUILDCHECKBUILD BIN
DirichletMultinomial 1.53.0  (landing page)
Martin Morgan
git_last_commit: 673d30b
git_last_commit_date: 2025-10-29 10:11:03 -0400
nebbiolo1Linux (Ubuntu 24.04.3 LTS) / x86_64  OK    OK    WARNINGS  NO, package depends on 'IRanges' which is not available
Package 137/502HostnameOS / ArchINSTALLBUILDCHECKBUILD BIN
DiscoRhythm 1.27.0  (landing page)
Matthew Carlucci
git_last_commit: 15d7b60
git_last_commit_date: 2025-10-29 10:51:20 -0400
nebbiolo1Linux (Ubuntu 24.04.3 LTS) / x86_64  OK    OK    OK  NO, package depends on 'SummarizedExperiment' which is not available
Package 138/502HostnameOS / ArchINSTALLBUILDCHECKBUILD BIN
DNAfusion 1.13.0  (landing page)
Christoffer Trier Maansson
git_last_commit: a0e0c9e
git_last_commit_date: 2025-10-29 11:19:47 -0400
nebbiolo1Linux (Ubuntu 24.04.3 LTS) / x86_64  ERROR    ERROR  skipped
Package 139/502HostnameOS / ArchINSTALLBUILDCHECKBUILD BIN
dreamlet 1.9.0  (landing page)
Gabriel Hoffman
git_last_commit: dfc1aac
git_last_commit_date: 2025-10-29 11:25:03 -0400
nebbiolo1Linux (Ubuntu 24.04.3 LTS) / x86_64  OK    OK    OK  NO, package depends on 'SingleCellExperiment' which is not available
Package 140/502HostnameOS / ArchINSTALLBUILDCHECKBUILD BIN
DRIMSeq 1.39.0  (landing page)
Malgorzata Nowicka
git_last_commit: 9076908
git_last_commit_date: 2025-10-29 10:30:52 -0400
nebbiolo1Linux (Ubuntu 24.04.3 LTS) / x86_64  OK    OK    WARNINGS  NO, package depends on 'GenomicRanges' which is not available
Package 141/502HostnameOS / ArchINSTALLBUILDCHECKBUILD BIN
DropletUtils 1.31.0  (landing page)
Jonathan Griffiths
git_last_commit: 92de364
git_last_commit_date: 2025-10-29 10:42:43 -0400
nebbiolo1Linux (Ubuntu 24.04.3 LTS) / x86_64  OK    OK    WARNINGS  NO, package depends on 'SingleCellExperiment' which is not available
Package 142/502HostnameOS / ArchINSTALLBUILDCHECKBUILD BIN
DrugVsDisease 2.53.0  (landing page)
j. Saez-Rodriguez
git_last_commit: 6483099
git_last_commit_date: 2025-10-29 10:13:26 -0400
nebbiolo1Linux (Ubuntu 24.04.3 LTS) / x86_64  ERROR    ERROR  skipped
Package 143/502HostnameOS / ArchINSTALLBUILDCHECKBUILD BIN
easyRNASeq 2.47.0  (landing page)
Nicolas Delhomme
git_last_commit: 1cb9a73
git_last_commit_date: 2025-10-29 10:10:00 -0400
nebbiolo1Linux (Ubuntu 24.04.3 LTS) / x86_64  OK    OK    ERROR  
Package 144/502HostnameOS / ArchINSTALLBUILDCHECKBUILD BIN
EBImage 4.53.0  (landing page)
Andrzej Oleś
git_last_commit: ee2451f
git_last_commit_date: 2025-10-29 09:57:46 -0400
nebbiolo1Linux (Ubuntu 24.04.3 LTS) / x86_64  OK    OK    OK  YES
Package 145/502HostnameOS / ArchINSTALLBUILDCHECKBUILD BIN
EDASeq 2.45.0  (landing page)
Davide Risso
git_last_commit: 1f147bc
git_last_commit_date: 2025-10-29 10:08:53 -0400
nebbiolo1Linux (Ubuntu 24.04.3 LTS) / x86_64  OK    OK    OK  NO, package depends on 'ShortRead' which is not available
Package 146/502HostnameOS / ArchINSTALLBUILDCHECKBUILD BIN
eiR 1.51.0  (landing page)
Thomas Girke
git_last_commit: f6360f0
git_last_commit_date: 2025-10-29 10:14:17 -0400
nebbiolo1Linux (Ubuntu 24.04.3 LTS) / x86_64  OK    OK    OK  NO, package depends on 'ChemmineR' which is not available
Package 147/502HostnameOS / ArchINSTALLBUILDCHECKBUILD BIN
eisaR 1.23.0  (landing page)
Michael Stadler
git_last_commit: 6549e0d
git_last_commit_date: 2025-10-29 10:57:32 -0400
nebbiolo1Linux (Ubuntu 24.04.3 LTS) / x86_64  OK    ERROR  skipped
Package 148/502HostnameOS / ArchINSTALLBUILDCHECKBUILD BIN
ELViS 1.3.0  (landing page)
Jin-Young Lee
git_last_commit: 7ceb696
git_last_commit_date: 2025-10-29 11:34:26 -0400
nebbiolo1Linux (Ubuntu 24.04.3 LTS) / x86_64  OK    OK    OK  NO, package depends on 'ComplexHeatmap' which is not available
Package 149/502HostnameOS / ArchINSTALLBUILDCHECKBUILD BIN
enhancerHomologSearch 1.17.0  (landing page)
Jianhong Ou
git_last_commit: aec9810
git_last_commit_date: 2025-10-29 11:11:19 -0400
nebbiolo1Linux (Ubuntu 24.04.3 LTS) / x86_64  OK    ERROR  skipped
Package 150/502HostnameOS / ArchINSTALLBUILDCHECKBUILD BIN
EnrichDO 1.5.0  (landing page)
Hongyu Fu
git_last_commit: cb44ad0
git_last_commit_date: 2025-10-29 11:31:56 -0400
nebbiolo1Linux (Ubuntu 24.04.3 LTS) / x86_64  OK    OK    OK  YES
Package 151/502HostnameOS / ArchINSTALLBUILDCHECKBUILD BIN
ensembldb 2.35.0  (landing page)
Johannes Rainer
git_last_commit: a74ca18
git_last_commit_date: 2025-10-29 10:24:50 -0400
nebbiolo1Linux (Ubuntu 24.04.3 LTS) / x86_64  OK    ERROR  skipped
Package 152/502HostnameOS / ArchINSTALLBUILDCHECKBUILD BIN
epialleleR 1.19.0  (landing page)
Oleksii Nikolaienko
git_last_commit: 03134b1
git_last_commit_date: 2025-10-29 11:09:21 -0400
nebbiolo1Linux (Ubuntu 24.04.3 LTS) / x86_64  OK    OK    OK  NO, package depends on 'GenomicRanges' which is not available
Package 153/502HostnameOS / ArchINSTALLBUILDCHECKBUILD BIN
EpiCompare 1.15.0  (landing page)
Hiranyamaya Dash
git_last_commit: 0531069
git_last_commit_date: 2025-10-29 11:16:54 -0400
nebbiolo1Linux (Ubuntu 24.04.3 LTS) / x86_64  OK    OK    ERROR  
Package 154/502HostnameOS / ArchINSTALLBUILDCHECKBUILD BIN
epigenomix 1.51.0  (landing page)
Hans-Ulrich Klein
git_last_commit: 5563ca4
git_last_commit_date: 2025-10-29 10:13:59 -0400
nebbiolo1Linux (Ubuntu 24.04.3 LTS) / x86_64  OK    OK    OK  NO, package depends on 'IRanges' which is not available
Package 155/502HostnameOS / ArchINSTALLBUILDCHECKBUILD BIN
epimutacions 1.15.0  (landing page)
Dolors Pelegri-Siso
git_last_commit: 9c5c202
git_last_commit_date: 2025-10-29 11:16:20 -0400
nebbiolo1Linux (Ubuntu 24.04.3 LTS) / x86_64  ERROR    ERROR  skipped
Package 156/502HostnameOS / ArchINSTALLBUILDCHECKBUILD BIN
epistack 1.17.0  (landing page)
DEVAILLY Guillaume
git_last_commit: d86c320
git_last_commit_date: 2025-10-29 11:13:05 -0400
nebbiolo1Linux (Ubuntu 24.04.3 LTS) / x86_64  OK    OK    OK  NO, package depends on 'GenomicRanges' which is not available
Package 157/502HostnameOS / ArchINSTALLBUILDCHECKBUILD BIN
EpiTxDb 1.23.0  (landing page)
Felix G.M. Ernst
git_last_commit: 23585ca
git_last_commit_date: 2025-10-29 10:57:35 -0400
nebbiolo1Linux (Ubuntu 24.04.3 LTS) / x86_64  OK    ERROR  skipped
Package 158/502HostnameOS / ArchINSTALLBUILDCHECKBUILD BIN
epivizrChart 1.33.0  (landing page)
Hector Corrada Bravo
git_last_commit: 2ed0205
git_last_commit_date: 2025-10-29 10:39:40 -0400
nebbiolo1Linux (Ubuntu 24.04.3 LTS) / x86_64  ERROR    ERROR  skipped
Package 159/502HostnameOS / ArchINSTALLBUILDCHECKBUILD BIN
epivizrStandalone 1.39.0  (landing page)
Hector Corrada Bravo
git_last_commit: 8cbf848
git_last_commit_date: 2025-10-29 10:32:19 -0400
nebbiolo1Linux (Ubuntu 24.04.3 LTS) / x86_64  ERROR    ERROR  skipped
Package 160/502HostnameOS / ArchINSTALLBUILDCHECKBUILD BIN
esATAC 1.33.0  (landing page)
Zheng Wei
git_last_commit: 90d779d
git_last_commit_date: 2025-10-29 10:42:12 -0400
nebbiolo1Linux (Ubuntu 24.04.3 LTS) / x86_64  ERROR    ERROR  skipped
Package 161/502HostnameOS / ArchINSTALLBUILDCHECKBUILD BIN
ExperimentHub 3.1.0  (landing page)
Bioconductor Package Maintainer
git_last_commit: 9d5eefe
git_last_commit_date: 2025-10-29 10:30:19 -0400
nebbiolo1Linux (Ubuntu 24.04.3 LTS) / x86_64  OK    OK    WARNINGS  NO, package depends on 'AnnotationHub' which is not available
Package 162/502HostnameOS / ArchINSTALLBUILDCHECKBUILD BIN
ExperimentHubData 1.37.0  (landing page)
Bioconductor Package Maintainer
git_last_commit: a49276f
git_last_commit_date: 2025-10-29 10:30:22 -0400
nebbiolo1Linux (Ubuntu 24.04.3 LTS) / x86_64  ERROR    ERROR  skipped
Package 163/502HostnameOS / ArchINSTALLBUILDCHECKBUILD BIN
factR 1.13.0  (landing page)
Fursham Hamid
git_last_commit: 20ced47
git_last_commit_date: 2025-10-29 11:17:33 -0400
nebbiolo1Linux (Ubuntu 24.04.3 LTS) / x86_64  OK    ERROR  skipped
Package 164/502HostnameOS / ArchINSTALLBUILDCHECKBUILD BIN
FamAgg 1.39.0  (landing page)
Johannes Rainer
git_last_commit: e1e4503
git_last_commit_date: 2025-10-29 10:28:55 -0400
nebbiolo1Linux (Ubuntu 24.04.3 LTS) / x86_64  OK    OK    OK  YES
Package 165/502HostnameOS / ArchINSTALLBUILDCHECKBUILD BIN
fastseg 1.57.0  (landing page)
Alexander Blume
git_last_commit: 15a937a
git_last_commit_date: 2025-10-29 10:09:44 -0400
nebbiolo1Linux (Ubuntu 24.04.3 LTS) / x86_64  OK    OK    OK  NO, package depends on 'GenomicRanges' which is not available
Package 166/502HostnameOS / ArchINSTALLBUILDCHECKBUILD BIN
ffpe 1.55.0  (landing page)
Levi Waldron
git_last_commit: a3c8d6b
git_last_commit_date: 2025-10-29 10:10:29 -0400
nebbiolo1Linux (Ubuntu 24.04.3 LTS) / x86_64  ERROR    ERROR  skipped
Package 167/502HostnameOS / ArchINSTALLBUILDCHECKBUILD BIN
FindIT2 1.17.0  (landing page)
Guandong Shang
git_last_commit: 6e3f32a
git_last_commit_date: 2025-10-29 11:10:30 -0400
nebbiolo1Linux (Ubuntu 24.04.3 LTS) / x86_64  OK    ERROR  skipped
Package 168/502HostnameOS / ArchINSTALLBUILDCHECKBUILD BIN
FLAMES 2.5.0  (landing page)
Changqing Wang
git_last_commit: 0d7a2ee
git_last_commit_date: 2025-10-29 11:10:46 -0400
nebbiolo1Linux (Ubuntu 24.04.3 LTS) / x86_64  OK    OK    ERROR  
Package 169/502HostnameOS / ArchINSTALLBUILDCHECKBUILD BIN
flowBin 1.47.0  (landing page)
Kieran O'Neill
git_last_commit: aafb320
git_last_commit_date: 2025-10-29 10:17:38 -0400
nebbiolo1Linux (Ubuntu 24.04.3 LTS) / x86_64  OK    OK    OK  YES
Package 170/502HostnameOS / ArchINSTALLBUILDCHECKBUILD BIN
flowClust 3.49.0  (landing page)
Greg Finak , Mike Jiang
git_last_commit: 24bd31c
git_last_commit_date: 2025-10-29 10:00:22 -0400
nebbiolo1Linux (Ubuntu 24.04.3 LTS) / x86_64  OK    OK    WARNINGS  YES
Package 171/502HostnameOS / ArchINSTALLBUILDCHECKBUILD BIN
flowCore 2.23.0  (landing page)
Mike Jiang
git_last_commit: 215e624
git_last_commit_date: 2025-10-29 09:58:38 -0400
nebbiolo1Linux (Ubuntu 24.04.3 LTS) / x86_64  OK    OK    WARNINGS  YES
Package 172/502HostnameOS / ArchINSTALLBUILDCHECKBUILD BIN
flowFP 1.69.0  (landing page)
Herb Holyst , Wade Rogers
git_last_commit: ff6ba06
git_last_commit_date: 2025-10-29 10:03:05 -0400
nebbiolo1Linux (Ubuntu 24.04.3 LTS) / x86_64  OK    OK    OK  YES
Package 173/502HostnameOS / ArchINSTALLBUILDCHECKBUILD BIN
FlowSOM 2.19.0  (landing page)
Sofie Van Gassen
git_last_commit: 3c00c1d
git_last_commit_date: 2025-10-29 10:23:19 -0400
nebbiolo1Linux (Ubuntu 24.04.3 LTS) / x86_64  OK    OK    OK  YES
Package 174/502HostnameOS / ArchINSTALLBUILDCHECKBUILD BIN
flowSpecs 1.25.0  (landing page)
Jakob Theorell
git_last_commit: 07a0d9f
git_last_commit_date: 2025-10-29 10:54:23 -0400
nebbiolo1Linux (Ubuntu 24.04.3 LTS) / x86_64  OK    OK    OK  YES
Package 175/502HostnameOS / ArchINSTALLBUILDCHECKBUILD BIN
flowStats 4.23.0  (landing page)
Greg Finak , Mike Jiang
git_last_commit: cc57dce
git_last_commit_date: 2025-10-29 10:02:44 -0400
nebbiolo1Linux (Ubuntu 24.04.3 LTS) / x86_64  OK    OK    WARNINGS  NO, package depends on 'flowWorkspace' which is not available
Package 176/502HostnameOS / ArchINSTALLBUILDCHECKBUILD BIN
flowWorkspace 4.23.0  (landing page)
Greg Finak , Mike Jiang
git_last_commit: 824996d
git_last_commit_date: 2025-10-29 10:07:43 -0400
nebbiolo1Linux (Ubuntu 24.04.3 LTS) / x86_64  OK    OK    WARNINGS  NO, package depends on 'DelayedArray' which is not available
Package 177/502HostnameOS / ArchINSTALLBUILDCHECKBUILD BIN
fmcsR 1.53.0  (landing page)
Thomas Girke
git_last_commit: 6151e9b
git_last_commit_date: 2025-10-29 10:11:54 -0400
nebbiolo1Linux (Ubuntu 24.04.3 LTS) / x86_64  OK    OK    WARNINGS  NO, package depends on 'ChemmineR' which is not available
Package 178/502HostnameOS / ArchINSTALLBUILDCHECKBUILD BIN
FRASER 2.7.0  (landing page)
Christian Mertes
git_last_commit: ecd421c
git_last_commit_date: 2025-10-29 10:58:54 -0400
nebbiolo1Linux (Ubuntu 24.04.3 LTS) / x86_64  ERROR    ERROR  skipped
Package 179/502HostnameOS / ArchINSTALLBUILDCHECKBUILD BIN
frma 1.63.0  (landing page)
Matthew N. McCall
git_last_commit: 06e0f3f
git_last_commit_date: 2025-10-29 10:04:08 -0400
nebbiolo1Linux (Ubuntu 24.04.3 LTS) / x86_64  OK    ERROR  skipped
Package 180/502HostnameOS / ArchINSTALLBUILDCHECKBUILD BIN
GA4GHclient 1.35.0  (landing page)
Welliton Souza
git_last_commit: 22fbbfa
git_last_commit_date: 2025-10-29 10:37:37 -0400
nebbiolo1Linux (Ubuntu 24.04.3 LTS) / x86_64  OK    OK    OK  NO, package depends on 'Biostrings' which is not available
Package 181/502HostnameOS / ArchINSTALLBUILDCHECKBUILD BIN
GA4GHshiny 1.33.0  (landing page)
Welliton Souza
git_last_commit: ae5f20b
git_last_commit_date: 2025-10-29 10:38:45 -0400
nebbiolo1Linux (Ubuntu 24.04.3 LTS) / x86_64  OK    OK    OK  NO, package depends on 'GA4GHclient' which is not available
Package 182/502HostnameOS / ArchINSTALLBUILDCHECKBUILD BIN
gcapc 1.35.0  (landing page)
Mingxiang Teng
git_last_commit: ffa3e8b
git_last_commit_date: 2025-10-29 10:35:52 -0400
nebbiolo1Linux (Ubuntu 24.04.3 LTS) / x86_64  OK    ERROR  skipped
Package 183/502HostnameOS / ArchINSTALLBUILDCHECKBUILD BIN
gDNAx 1.9.0  (landing page)
Robert Castelo
git_last_commit: 64d243e
git_last_commit_date: 2025-10-29 11:24:57 -0400
nebbiolo1Linux (Ubuntu 24.04.3 LTS) / x86_64  OK    ERROR  skipped
Package 184/502HostnameOS / ArchINSTALLBUILDCHECKBUILD BIN
GDSArray 1.31.0  (landing page)
Xiuwen Zheng
git_last_commit: 4ed315e
git_last_commit_date: 2025-10-29 10:44:25 -0400
nebbiolo1Linux (Ubuntu 24.04.3 LTS) / x86_64  OK    OK    OK  NO, package depends on 'DelayedArray' which is not available
Package 185/502HostnameOS / ArchINSTALLBUILDCHECKBUILD BIN
geneAttribution 1.37.0  (landing page)
Arthur Wuster
git_last_commit: 0aa99f2
git_last_commit_date: 2025-10-29 10:34:06 -0400
nebbiolo1Linux (Ubuntu 24.04.3 LTS) / x86_64  OK    OK    ERROR  
Package 186/502HostnameOS / ArchINSTALLBUILDCHECKBUILD BIN
geneClassifiers 1.35.0  (landing page)
R Kuiper
git_last_commit: c28693f
git_last_commit_date: 2025-10-29 10:36:50 -0400
nebbiolo1Linux (Ubuntu 24.04.3 LTS) / x86_64  OK    OK    OK  YES
Package 187/502HostnameOS / ArchINSTALLBUILDCHECKBUILD BIN
geneplotter 1.89.0  (landing page)
Bioconductor Package Maintainer
git_last_commit: 0a5a7d6
git_last_commit_date: 2025-10-29 09:41:50 -0400
nebbiolo1Linux (Ubuntu 24.04.3 LTS) / x86_64  OK    ERROR  skipped
Package 188/502HostnameOS / ArchINSTALLBUILDCHECKBUILD BIN
GENESIS 2.41.0  (landing page)
Stephanie M. Gogarten
git_last_commit: 035a040
git_last_commit_date: 2025-10-29 10:24:42 -0400
nebbiolo1Linux (Ubuntu 24.04.3 LTS) / x86_64  OK    OK    OK  NO, package depends on 'GenomicRanges' which is not available
Package 189/502HostnameOS / ArchINSTALLBUILDCHECKBUILD BIN
GenomAutomorphism 1.13.0  (landing page)
Robersy Sanchez
git_last_commit: 7283b3b
git_last_commit_date: 2025-10-29 11:17:59 -0400
nebbiolo1Linux (Ubuntu 24.04.3 LTS) / x86_64  OK    OK    OK  NO, package depends on 'Biostrings' which is not available
Package 190/502HostnameOS / ArchINSTALLBUILDCHECKBUILD BIN
GenomeInfoDb 1.47.0  (landing page)
Hervé Pagès
git_last_commit: f31cf8b
git_last_commit_date: 2025-10-29 14:52:07 -0400
nebbiolo1Linux (Ubuntu 24.04.3 LTS) / x86_64  OK    ERROR  skipped
Package 191/502HostnameOS / ArchINSTALLBUILDCHECKBUILD BIN
genomeIntervals 1.67.0  (landing page)
Julien Gagneur
git_last_commit: 8406dc4
git_last_commit_date: 2025-10-29 10:02:26 -0400
nebbiolo1Linux (Ubuntu 24.04.3 LTS) / x86_64  OK    OK    WARNINGS  NO, package depends on 'Seqinfo' which is not available
Package 192/502HostnameOS / ArchINSTALLBUILDCHECKBUILD BIN
GenomicAlignments 1.47.0  (landing page)
Hervé Pagès
git_last_commit: 085e9df
git_last_commit_date: 2025-10-29 14:50:25 -0400
nebbiolo1Linux (Ubuntu 24.04.3 LTS) / x86_64  OK    ERROR  skipped
Package 193/502HostnameOS / ArchINSTALLBUILDCHECKBUILD BIN
GenomicFeatures 1.63.1  (landing page)
H. Pagès
git_last_commit: d92f2d0
git_last_commit_date: 2025-10-30 02:00:29 -0400
nebbiolo1Linux (Ubuntu 24.04.3 LTS) / x86_64  OK    ERROR  skipped
Package 194/502HostnameOS / ArchINSTALLBUILDCHECKBUILD BIN
GenomicFiles 1.47.0  (landing page)
Bioconductor Package Maintainer
git_last_commit: 76a7462
git_last_commit_date: 2025-10-29 10:19:18 -0400
nebbiolo1Linux (Ubuntu 24.04.3 LTS) / x86_64  OK    OK    OK  NO, package depends on 'GenomicRanges' which is not available
Package 195/502HostnameOS / ArchINSTALLBUILDCHECKBUILD BIN
GenomicInteractions 1.45.0  (landing page)
Liz Ing-Simmons
git_last_commit: c3eb720
git_last_commit_date: 2025-10-29 10:21:43 -0400
nebbiolo1Linux (Ubuntu 24.04.3 LTS) / x86_64  OK    OK    OK  NO, package depends on 'InteractionSet' which is not available
Package 196/502HostnameOS / ArchINSTALLBUILDCHECKBUILD BIN
GenomicPlot 1.9.0  (landing page)
Shuye Pu
git_last_commit: 6794637
git_last_commit_date: 2025-10-29 11:24:51 -0400
nebbiolo1Linux (Ubuntu 24.04.3 LTS) / x86_64  ERROR    ERROR  skipped
Package 197/502HostnameOS / ArchINSTALLBUILDCHECKBUILD BIN
GenomicRanges 1.63.0  (landing page)
Hervé Pagès
git_last_commit: 1dfb82d
git_last_commit_date: 2025-10-29 14:50:52 -0400
nebbiolo1Linux (Ubuntu 24.04.3 LTS) / x86_64  OK    ERROR  skipped
Package 198/502HostnameOS / ArchINSTALLBUILDCHECKBUILD BIN
GenomicScores 2.23.0  (landing page)
Robert Castelo
git_last_commit: fce182e
git_last_commit_date: 2025-10-29 10:38:07 -0400
nebbiolo1Linux (Ubuntu 24.04.3 LTS) / x86_64  OK    ERROR  skipped
Package 199/502HostnameOS / ArchINSTALLBUILDCHECKBUILD BIN
GenomicTuples 1.45.0  (landing page)
Peter Hickey
git_last_commit: 8f1b003
git_last_commit_date: 2025-10-29 10:22:11 -0400
nebbiolo1Linux (Ubuntu 24.04.3 LTS) / x86_64  OK    OK    OK  NO, package depends on 'GenomicRanges' which is not available
Package 200/502HostnameOS / ArchINSTALLBUILDCHECKBUILD BIN
GenVisR 1.43.0  (landing page)
Zachary Skidmore
git_last_commit: e398c9b
git_last_commit_date: 2025-10-29 10:29:36 -0400
nebbiolo1Linux (Ubuntu 24.04.3 LTS) / x86_64  OK    OK    ERROR  
Package 201/502HostnameOS / ArchINSTALLBUILDCHECKBUILD BIN
geomeTriD 1.5.0  (landing page)
Jianhong Ou
git_last_commit: d93feea
git_last_commit_date: 2025-10-29 11:32:13 -0400
nebbiolo1Linux (Ubuntu 24.04.3 LTS) / x86_64  OK    OK    ERROR  
Package 202/502HostnameOS / ArchINSTALLBUILDCHECKBUILD BIN
GeomxTools 3.15.0  (landing page)
Maddy Griswold
git_last_commit: 2ccee05
git_last_commit_date: 2025-10-29 11:05:52 -0400
nebbiolo1Linux (Ubuntu 24.04.3 LTS) / x86_64  OK    OK    OK  NO, package depends on 'NanoStringNCTools' which is not available
Package 203/502HostnameOS / ArchINSTALLBUILDCHECKBUILD BIN
ggbio 1.59.0  (landing page)
Michael Lawrence
git_last_commit: 6c3efb9
git_last_commit_date: 2025-10-29 10:09:27 -0400
nebbiolo1Linux (Ubuntu 24.04.3 LTS) / x86_64  ERROR    ERROR  skipped
Package 204/502HostnameOS / ArchINSTALLBUILDCHECKBUILD BIN
gINTomics 1.7.0  (landing page)
Angelo Velle
git_last_commit: 4cacafe
git_last_commit_date: 2025-10-29 11:30:01 -0400
nebbiolo1Linux (Ubuntu 24.04.3 LTS) / x86_64  ERROR    ERROR  skipped
Package 205/502HostnameOS / ArchINSTALLBUILDCHECKBUILD BIN
glmGamPoi 1.23.0  (landing page)
Constantin Ahlmann-Eltze
git_last_commit: 23ac45d
git_last_commit_date: 2025-10-29 10:58:15 -0400
nebbiolo1Linux (Ubuntu 24.04.3 LTS) / x86_64  OK    OK    WARNINGS  NO, package depends on 'beachmat' which is not available
Package 206/502HostnameOS / ArchINSTALLBUILDCHECKBUILD BIN
gmapR 1.53.0  (landing page)
Michael Lawrence
git_last_commit: f0b8dac
git_last_commit_date: 2025-10-29 10:11:34 -0400
nebbiolo1Linux (Ubuntu 24.04.3 LTS) / x86_64  OK    ERROR  skipped
Package 207/502HostnameOS / ArchINSTALLBUILDCHECKBUILD BIN
gmoviz 1.23.0  (landing page)
Kathleen Zeglinski
git_last_commit: 13acb8f
git_last_commit_date: 2025-10-29 10:57:48 -0400
nebbiolo1Linux (Ubuntu 24.04.3 LTS) / x86_64  OK    OK    OK  NO, package depends on 'GenomicRanges' which is not available
Package 208/502HostnameOS / ArchINSTALLBUILDCHECKBUILD BIN
goseq 1.63.0  (landing page)
Federico Marini
git_last_commit: 9833b83
git_last_commit_date: 2025-10-29 10:04:46 -0400
nebbiolo1Linux (Ubuntu 24.04.3 LTS) / x86_64  OK    OK    OK  NO, package depends on 'AnnotationDbi' which is not available
Package 209/502HostnameOS / ArchINSTALLBUILDCHECKBUILD BIN
GOTHiC 1.47.0  (landing page)
Borbala Mifsud
git_last_commit: 7af2557
git_last_commit_date: 2025-10-29 10:52:56 -0400
nebbiolo1Linux (Ubuntu 24.04.3 LTS) / x86_64  OK    OK    OK  NO, package depends on 'GenomicRanges' which is not available
Package 210/502HostnameOS / ArchINSTALLBUILDCHECKBUILD BIN
graph 1.89.0  (landing page)
Bioconductor Package Maintainer
git_last_commit: dbe17f7
git_last_commit_date: 2025-10-29 09:42:14 -0400
nebbiolo1Linux (Ubuntu 24.04.3 LTS) / x86_64  OK    OK    OK  YES
Package 211/502HostnameOS / ArchINSTALLBUILDCHECKBUILD BIN
GSEABase 1.73.0  (landing page)
Bioconductor Package Maintainer
git_last_commit: 40d4be6
git_last_commit_date: 2025-10-29 09:59:33 -0400
nebbiolo1Linux (Ubuntu 24.04.3 LTS) / x86_64  OK    ERROR  skipped
Package 212/502HostnameOS / ArchINSTALLBUILDCHECKBUILD BIN
GSVA 2.5.0  (landing page)
Robert Castelo
git_last_commit: a714c64
git_last_commit_date: 2025-10-29 10:07:40 -0400
nebbiolo1Linux (Ubuntu 24.04.3 LTS) / x86_64  OK    ERROR  skipped
Package 213/502HostnameOS / ArchINSTALLBUILDCHECKBUILD BIN
GUIDEseq 1.41.0  (landing page)
Lihua Julie Zhu
git_last_commit: 4a812cc
git_last_commit_date: 2025-10-29 10:28:16 -0400
nebbiolo1Linux (Ubuntu 24.04.3 LTS) / x86_64  ERROR    ERROR  skipped
Package 214/502HostnameOS / ArchINSTALLBUILDCHECKBUILD BIN
Gviz 1.55.0  (landing page)
Robert Ivanek
git_last_commit: 6339846
git_last_commit_date: 2025-10-29 10:10:17 -0400
nebbiolo1Linux (Ubuntu 24.04.3 LTS) / x86_64  OK    ERROR  skipped
Package 215/502HostnameOS / ArchINSTALLBUILDCHECKBUILD BIN
h5mread 1.3.0  (landing page)
Hervé Pagès
git_last_commit: 376f55f
git_last_commit_date: 2025-10-29 14:49:58 -0400
nebbiolo1Linux (Ubuntu 24.04.3 LTS) / x86_64  OK    OK    WARNINGS  NO, package depends on 'SparseArray' which is not available
Package 216/502HostnameOS / ArchINSTALLBUILDCHECKBUILD BIN
HDF5Array 1.39.0  (landing page)
Hervé Pagès
git_last_commit: 538f969
git_last_commit_date: 2025-10-29 12:21:26 -0400
nebbiolo1Linux (Ubuntu 24.04.3 LTS) / x86_64  OK    OK    OK  NO, package depends on 'SparseArray' which is not available
Package 217/502HostnameOS / ArchINSTALLBUILDCHECKBUILD BIN
heatmaps 1.35.0  (landing page)
Malcolm Perry
git_last_commit: dd77fbc
git_last_commit_date: 2025-10-29 10:38:31 -0400
nebbiolo1Linux (Ubuntu 24.04.3 LTS) / x86_64  OK    ERROR  skipped
Package 218/502HostnameOS / ArchINSTALLBUILDCHECKBUILD BIN
HelloRanges 1.37.0  (landing page)
Michael Lawrence
git_last_commit: 38fc888
git_last_commit_date: 2025-10-29 10:35:10 -0400
nebbiolo1Linux (Ubuntu 24.04.3 LTS) / x86_64  OK    OK    OK  NO, package depends on 'IRanges' which is not available
Package 219/502HostnameOS / ArchINSTALLBUILDCHECKBUILD BIN
hermes 1.15.0  (landing page)
Daniel Sabanés Bové
git_last_commit: da21eaa
git_last_commit_date: 2025-10-29 11:14:07 -0400
nebbiolo1Linux (Ubuntu 24.04.3 LTS) / x86_64  OK    OK    OK  NO, package depends on 'SummarizedExperiment' which is not available
Package 220/502HostnameOS / ArchINSTALLBUILDCHECKBUILD BIN
HicAggR 1.7.0  (landing page)
Olivier Cuvier
git_last_commit: 7e29b61
git_last_commit_date: 2025-10-29 11:30:21 -0400
nebbiolo1Linux (Ubuntu 24.04.3 LTS) / x86_64  OK    OK    WARNINGS  NO, package depends on 'InteractionSet' which is not available
Package 221/502HostnameOS / ArchINSTALLBUILDCHECKBUILD BIN
HiCDOC 1.13.0  (landing page)
Maigné Élise
git_last_commit: 6ee95b8
git_last_commit_date: 2025-10-29 11:17:41 -0400
nebbiolo1Linux (Ubuntu 24.04.3 LTS) / x86_64  ERROR    ERROR  skipped
Package 222/502HostnameOS / ArchINSTALLBUILDCHECKBUILD BIN
HiCExperiment 1.11.0  (landing page)
Jacques Serizay
git_last_commit: ba6af4b
git_last_commit_date: 2025-10-29 11:21:02 -0400
nebbiolo1Linux (Ubuntu 24.04.3 LTS) / x86_64  OK    OK    OK  NO, package depends on 'InteractionSet' which is not available
Package 223/502HostnameOS / ArchINSTALLBUILDCHECKBUILD BIN
HiContacts 1.13.0  (landing page)
Jacques Serizay
git_last_commit: 0b86ddb
git_last_commit_date: 2025-10-29 11:18:51 -0400
nebbiolo1Linux (Ubuntu 24.04.3 LTS) / x86_64  OK    OK    ERROR  
Package 224/502HostnameOS / ArchINSTALLBUILDCHECKBUILD BIN
HiCParser 1.3.0  (landing page)
Maigné Élise
git_last_commit: a19d833
git_last_commit_date: 2025-10-29 11:34:38 -0400
nebbiolo1Linux (Ubuntu 24.04.3 LTS) / x86_64  OK    OK    OK  NO, package depends on 'InteractionSet' which is not available
Package 225/502HostnameOS / ArchINSTALLBUILDCHECKBUILD BIN
HiLDA 1.25.0  (landing page)
Zhi Yang
git_last_commit: 0c7e75a
git_last_commit_date: 2025-10-29 10:53:14 -0400
nebbiolo1Linux (Ubuntu 24.04.3 LTS) / x86_64  ERROR    ERROR  skipped
Package 226/502HostnameOS / ArchINSTALLBUILDCHECKBUILD BIN
hopach 2.71.0  (landing page)
Katherine S. Pollard
git_last_commit: b2873e5
git_last_commit_date: 2025-10-29 09:55:32 -0400
nebbiolo1Linux (Ubuntu 24.04.3 LTS) / x86_64  OK    OK    OK  YES
Package 227/502HostnameOS / ArchINSTALLBUILDCHECKBUILD BIN
icetea 1.29.0  (landing page)
Vivek Bhardwaj
git_last_commit: 2bfbdfd
git_last_commit_date: 2025-10-29 10:45:57 -0400
nebbiolo1Linux (Ubuntu 24.04.3 LTS) / x86_64  ERROR    ERROR  skipped
Package 228/502HostnameOS / ArchINSTALLBUILDCHECKBUILD BIN
igvR 1.31.0  (landing page)
Arkadiusz Gladki
git_last_commit: 62be310
git_last_commit_date: 2025-10-29 10:45:01 -0400
nebbiolo1Linux (Ubuntu 24.04.3 LTS) / x86_64  OK    OK    OK  NO, package depends on 'GenomicRanges' which is not available
Package 229/502HostnameOS / ArchINSTALLBUILDCHECKBUILD BIN
igvShiny 1.7.0  (landing page)
Arkadiusz Gladki
git_last_commit: bda3441
git_last_commit_date: 2025-10-29 11:27:34 -0400
nebbiolo1Linux (Ubuntu 24.04.3 LTS) / x86_64  ERROR    ERROR  skipped
Package 230/502HostnameOS / ArchINSTALLBUILDCHECKBUILD BIN
IHW 1.39.0  (landing page)
Nikos Ignatiadis
git_last_commit: 129deec
git_last_commit_date: 2025-10-29 10:29:39 -0400
nebbiolo1Linux (Ubuntu 24.04.3 LTS) / x86_64  OK    OK    OK  YES
Package 231/502HostnameOS / ArchINSTALLBUILDCHECKBUILD BIN
IMAS 1.35.0  (landing page)
Seonggyun Han
git_last_commit: 8fb5523
git_last_commit_date: 2025-10-29 10:38:10 -0400
nebbiolo1Linux (Ubuntu 24.04.3 LTS) / x86_64  OK    ERROR  skipped
Package 232/502HostnameOS / ArchINSTALLBUILDCHECKBUILD BIN
infercnv 1.27.0  (landing page)
Christophe Georgescu
git_last_commit: 4e0174e
git_last_commit_date: 2025-10-29 10:52:07 -0400
nebbiolo1Linux (Ubuntu 24.04.3 LTS) / x86_64  OK    OK    OK  NO, package depends on 'SummarizedExperiment' which is not available
Package 233/502HostnameOS / ArchINSTALLBUILDCHECKBUILD BIN
INSPEcT 1.41.0  (landing page)
Stefano de Pretis
git_last_commit: 54a4fbd
git_last_commit_date: 2025-10-29 10:26:37 -0400
nebbiolo1Linux (Ubuntu 24.04.3 LTS) / x86_64  ERROR    ERROR  skipped
Package 234/502HostnameOS / ArchINSTALLBUILDCHECKBUILD BIN
InTAD 1.31.0  (landing page)
Konstantin Okonechnikov
git_last_commit: c1355bb
git_last_commit_date: 2025-10-29 10:44:46 -0400
nebbiolo1Linux (Ubuntu 24.04.3 LTS) / x86_64  OK    OK    OK  NO, package depends on 'IRanges' which is not available
Package 235/502HostnameOS / ArchINSTALLBUILDCHECKBUILD BIN
intansv 1.51.0  (landing page)
Wen Yao
git_last_commit: ae06b25
git_last_commit_date: 2025-10-29 10:15:39 -0400
nebbiolo1Linux (Ubuntu 24.04.3 LTS) / x86_64  ERROR    ERROR  skipped
Package 236/502HostnameOS / ArchINSTALLBUILDCHECKBUILD BIN
InteractionSet 1.39.0  (landing page)
Aaron Lun
git_last_commit: 3862179
git_last_commit_date: 2025-10-29 10:31:52 -0400
nebbiolo1Linux (Ubuntu 24.04.3 LTS) / x86_64  OK    OK    OK  NO, package depends on 'GenomicRanges' which is not available
Package 237/502HostnameOS / ArchINSTALLBUILDCHECKBUILD BIN
IntEREst 1.35.0  (landing page)
Ali Oghabian
git_last_commit: 0e454ed
git_last_commit_date: 2025-10-29 10:37:18 -0400
nebbiolo1Linux (Ubuntu 24.04.3 LTS) / x86_64  OK    ERROR  skipped
Package 238/502HostnameOS / ArchINSTALLBUILDCHECKBUILD BIN
IONiseR 2.35.0  (landing page)
Mike Smith
git_last_commit: c0803bd
git_last_commit_date: 2025-10-29 10:26:28 -0400
nebbiolo1Linux (Ubuntu 24.04.3 LTS) / x86_64  OK    OK    OK  NO, package depends on 'ShortRead' which is not available
Package 239/502HostnameOS / ArchINSTALLBUILDCHECKBUILD BIN
IRanges 2.45.0  (landing page)
Hervé Pagès
git_last_commit: 167f22b
git_last_commit_date: 2025-10-29 14:51:39 -0400
nebbiolo1Linux (Ubuntu 24.04.3 LTS) / x86_64  OK    OK    ERROR  
Package 240/502HostnameOS / ArchINSTALLBUILDCHECKBUILD BIN
iSEE 2.23.0  (landing page)
Kevin Rue-Albrecht
git_last_commit: bbed327
git_last_commit_date: 2025-10-29 10:43:55 -0400
nebbiolo1Linux (Ubuntu 24.04.3 LTS) / x86_64  OK    OK    OK  NO, package depends on 'SummarizedExperiment' which is not available
Package 241/502HostnameOS / ArchINSTALLBUILDCHECKBUILD BIN
ISLET 1.13.0  (landing page)
Hao Feng
git_last_commit: 6b4e816
git_last_commit_date: 2025-10-29 11:18:35 -0400
nebbiolo1Linux (Ubuntu 24.04.3 LTS) / x86_64  OK    OK    OK  NO, package depends on 'SummarizedExperiment' which is not available
Package 242/502HostnameOS / ArchINSTALLBUILDCHECKBUILD BIN
IsoformSwitchAnalyzeR 2.11.0  (landing page)
Kristoffer Vitting-Seerup
git_last_commit: dc055b6
git_last_commit_date: 2025-10-29 10:38:58 -0400
nebbiolo1Linux (Ubuntu 24.04.3 LTS) / x86_64  OK    OK    ERROR  
Package 243/502HostnameOS / ArchINSTALLBUILDCHECKBUILD BIN
isomiRs 1.39.0  (landing page)
Lorena Pantano
git_last_commit: feed20d
git_last_commit_date: 2025-10-29 10:31:12 -0400
nebbiolo1Linux (Ubuntu 24.04.3 LTS) / x86_64  OK    OK    ERROR  
Package 244/502HostnameOS / ArchINSTALLBUILDCHECKBUILD BIN
IVAS 2.31.0  (landing page)
Seonggyun Han
git_last_commit: 0b3f358
git_last_commit_date: 2025-10-29 10:23:46 -0400
nebbiolo1Linux (Ubuntu 24.04.3 LTS) / x86_64  OK    OK    WARNINGS  NO, package depends on 'GenomicFeatures' which is not available
Package 245/502HostnameOS / ArchINSTALLBUILDCHECKBUILD BIN
KCsmart 2.69.0  (landing page)
Jorma de Ronde
git_last_commit: fc58ed6
git_last_commit_date: 2025-10-29 10:01:32 -0400
nebbiolo1Linux (Ubuntu 24.04.3 LTS) / x86_64  OK    OK    WARNINGS  YES
Package 246/502HostnameOS / ArchINSTALLBUILDCHECKBUILD BIN
ldblock 1.41.0  (landing page)
VJ Carey
git_last_commit: 4c2fa2e
git_last_commit_date: 2025-10-29 10:27:30 -0400
nebbiolo1Linux (Ubuntu 24.04.3 LTS) / x86_64  OK    OK    ERROR  
Package 247/502HostnameOS / ArchINSTALLBUILDCHECKBUILD BIN
lefser 1.21.0  (landing page)
Sehyun Oh
git_last_commit: d77aa04
git_last_commit_date: 2025-10-29 11:04:25 -0400
nebbiolo1Linux (Ubuntu 24.04.3 LTS) / x86_64  OK    OK    OK  NO, package depends on 'SummarizedExperiment' which is not available
Package 248/502HostnameOS / ArchINSTALLBUILDCHECKBUILD BIN
lemur 1.9.0  (landing page)
Constantin Ahlmann-Eltze
git_last_commit: 2426da6
git_last_commit_date: 2025-10-29 11:26:19 -0400
nebbiolo1Linux (Ubuntu 24.04.3 LTS) / x86_64  OK    OK    WARNINGS  NO, package depends on 'SingleCellExperiment' which is not available
Package 249/502HostnameOS / ArchINSTALLBUILDCHECKBUILD BIN
linkSet 1.1.0  (landing page)
Gilbert Han
git_last_commit: bdadbdd
git_last_commit_date: 2025-10-29 11:37:12 -0400
nebbiolo1Linux (Ubuntu 24.04.3 LTS) / x86_64  OK    ERROR  skipped
Package 250/502HostnameOS / ArchINSTALLBUILDCHECKBUILD BIN
lisaClust 1.19.0  (landing page)
Ellis Patrick
git_last_commit: f25f3da
git_last_commit_date: 2025-10-29 11:06:59 -0400
nebbiolo1Linux (Ubuntu 24.04.3 LTS) / x86_64  OK    OK    OK  NO, package depends on 'spicyR' which is not available
Package 251/502HostnameOS / ArchINSTALLBUILDCHECKBUILD BIN
LOLA 1.41.0  (landing page)
Nathan Sheffield
git_last_commit: 9e64bce
git_last_commit_date: 2025-10-29 10:27:40 -0400
nebbiolo1Linux (Ubuntu 24.04.3 LTS) / x86_64  OK    OK    ERROR  
Package 252/502HostnameOS / ArchINSTALLBUILDCHECKBUILD BIN
maaslin3 1.3.0  (landing page)
William Nickols
git_last_commit: b274055
git_last_commit_date: 2025-10-29 11:33:46 -0400
nebbiolo1Linux (Ubuntu 24.04.3 LTS) / x86_64  OK    OK    OK  NO, package depends on 'SummarizedExperiment' which is not available
Package 253/502HostnameOS / ArchINSTALLBUILDCHECKBUILD BIN
mariner 1.11.0  (landing page)
Eric Davis
git_last_commit: bc186bb
git_last_commit_date: 2025-10-29 11:23:11 -0400
nebbiolo1Linux (Ubuntu 24.04.3 LTS) / x86_64  OK    OK    ERROR  
Package 254/502HostnameOS / ArchINSTALLBUILDCHECKBUILD BIN
maser 1.29.0  (landing page)
Diogo F.T. Veiga
git_last_commit: a5a5f37
git_last_commit_date: 2025-10-29 10:45:34 -0400
nebbiolo1Linux (Ubuntu 24.04.3 LTS) / x86_64  OK    OK    OK  NO, package depends on 'GenomicRanges' which is not available
Package 255/502HostnameOS / ArchINSTALLBUILDCHECKBUILD BIN
MAST 1.37.0  (landing page)
Andrew McDavid
git_last_commit: 29ffa2b
git_last_commit_date: 2025-10-29 10:34:54 -0400
nebbiolo1Linux (Ubuntu 24.04.3 LTS) / x86_64  OK    OK    OK  NO, package depends on 'SingleCellExperiment' which is not available
Package 256/502HostnameOS / ArchINSTALLBUILDCHECKBUILD BIN
matter 2.13.0  (landing page)
Kylie A. Bemis
git_last_commit: 79e109f
git_last_commit_date: 2025-10-29 10:34:59 -0400
nebbiolo1Linux (Ubuntu 24.04.3 LTS) / x86_64  OK    OK    OK  YES
Package 257/502HostnameOS / ArchINSTALLBUILDCHECKBUILD BIN
MBASED 1.45.0  (landing page)
Oleg Mayba
git_last_commit: cd4e120
git_last_commit_date: 2025-10-29 10:21:07 -0400
nebbiolo1Linux (Ubuntu 24.04.3 LTS) / x86_64  OK    OK    OK  NO, package depends on 'GenomicRanges' which is not available
Package 258/502HostnameOS / ArchINSTALLBUILDCHECKBUILD BIN
MEAL 1.41.0  (landing page)
Xavier Escribà Montagut
git_last_commit: 7b303c8
git_last_commit_date: 2025-10-29 10:28:05 -0400
nebbiolo1Linux (Ubuntu 24.04.3 LTS) / x86_64  ERROR    ERROR  skipped
Package 259/502HostnameOS / ArchINSTALLBUILDCHECKBUILD BIN
meshr 2.17.0  (landing page)
Koki Tsuyuzaki
git_last_commit: edcebb9
git_last_commit_date: 2025-10-29 10:19:23 -0400
nebbiolo1Linux (Ubuntu 24.04.3 LTS) / x86_64  OK    OK    OK  NO, package depends on 'MeSHDbi' which is not available
Package 260/502HostnameOS / ArchINSTALLBUILDCHECKBUILD BIN
MetaboAnnotation 1.15.0  (landing page)
Johannes Rainer
git_last_commit: 0232707
git_last_commit_date: 2025-10-29 11:14:44 -0400
nebbiolo1Linux (Ubuntu 24.04.3 LTS) / x86_64  OK    OK    OK  NO, package depends on 'Spectra' which is not available
Package 261/502HostnameOS / ArchINSTALLBUILDCHECKBUILD BIN
metaMS 1.47.0  (landing page)
Yann Guitton
git_last_commit: baee3fd
git_last_commit_date: 2025-10-29 10:19:03 -0400
nebbiolo1Linux (Ubuntu 24.04.3 LTS) / x86_64  OK    OK    OK  NO, package depends on 'CAMERA' which is not available
Package 262/502HostnameOS / ArchINSTALLBUILDCHECKBUILD BIN
metaseqR2 1.23.0  (landing page)
Panagiotis Moulos
git_last_commit: 25b9df1
git_last_commit_date: 2025-10-29 10:59:18 -0400
nebbiolo1Linux (Ubuntu 24.04.3 LTS) / x86_64  OK    OK    OK  NO, package depends on 'DESeq2' which is not available
Package 263/502HostnameOS / ArchINSTALLBUILDCHECKBUILD BIN
methInheritSim 1.33.0  (landing page)
Pascal Belleau
git_last_commit: 6ebe1c9
git_last_commit_date: 2025-10-29 10:38:50 -0400
nebbiolo1Linux (Ubuntu 24.04.3 LTS) / x86_64  OK    OK    OK  NO, package depends on 'methylKit' which is not available
Package 264/502HostnameOS / ArchINSTALLBUILDCHECKBUILD BIN
MethylAid 1.45.0  (landing page)
L.J.Sinke
git_last_commit: 4bb83e1
git_last_commit_date: 2025-10-29 10:19:42 -0400
nebbiolo1Linux (Ubuntu 24.04.3 LTS) / x86_64  OK    ERROR  skipped
Package 265/502HostnameOS / ArchINSTALLBUILDCHECKBUILD BIN
methylPipe 1.45.0  (landing page)
Mattia Furlan
git_last_commit: 1246c88
git_last_commit_date: 2025-10-29 10:21:09 -0400
nebbiolo1Linux (Ubuntu 24.04.3 LTS) / x86_64  OK    ERROR  skipped
Package 266/502HostnameOS / ArchINSTALLBUILDCHECKBUILD BIN
methylumi 2.57.0  (landing page)
Sean Davis
git_last_commit: dcf4f3c
git_last_commit_date: 2025-10-29 10:02:53 -0400
nebbiolo1Linux (Ubuntu 24.04.3 LTS) / x86_64  ERROR    ERROR  skipped
Package 267/502HostnameOS / ArchINSTALLBUILDCHECKBUILD BIN
MGnifyR 1.7.0  (landing page)
Tuomas Borman
git_last_commit: d6f3e14
git_last_commit_date: 2025-10-29 11:28:57 -0400
nebbiolo1Linux (Ubuntu 24.04.3 LTS) / x86_64  OK    OK    OK  NO, package depends on 'MultiAssayExperiment' which is not available
Package 268/502HostnameOS / ArchINSTALLBUILDCHECKBUILD BIN
mia 1.19.0  (landing page)
Tuomas Borman
git_last_commit: ba530f5
git_last_commit_date: 2025-10-29 11:07:20 -0400
nebbiolo1Linux (Ubuntu 24.04.3 LTS) / x86_64  OK    OK    OK  NO, package depends on 'MultiAssayExperiment' which is not available
Package 269/502HostnameOS / ArchINSTALLBUILDCHECKBUILD BIN
miaViz 1.19.0  (landing page)
Tuomas Borman
git_last_commit: 5a360e5
git_last_commit_date: 2025-10-29 11:07:33 -0400
nebbiolo1Linux (Ubuntu 24.04.3 LTS) / x86_64  OK    OK    OK  NO, package depends on 'mia' which is not available
Package 270/502HostnameOS / ArchINSTALLBUILDCHECKBUILD BIN
miloR 2.7.0  (landing page)
Mike Morgan
git_last_commit: 6c5c6a3
git_last_commit_date: 2025-10-29 11:08:58 -0400
nebbiolo1Linux (Ubuntu 24.04.3 LTS) / x86_64  OK    OK    OK  NO, package depends on 'SingleCellExperiment' which is not available
Package 271/502HostnameOS / ArchINSTALLBUILDCHECKBUILD BIN
mimager 1.35.0  (landing page)
Aaron Wolen
git_last_commit: 86a8e49
git_last_commit_date: 2025-10-29 10:36:18 -0400
nebbiolo1Linux (Ubuntu 24.04.3 LTS) / x86_64  OK    ERROR  skipped
Package 272/502HostnameOS / ArchINSTALLBUILDCHECKBUILD BIN
MineICA 1.51.0  (landing page)
Anne Biton
git_last_commit: b926f54
git_last_commit_date: 2025-10-29 10:13:40 -0400
nebbiolo1Linux (Ubuntu 24.04.3 LTS) / x86_64  ERROR    ERROR  skipped
Package 273/502HostnameOS / ArchINSTALLBUILDCHECKBUILD BIN
minfi 1.57.0  (landing page)
Kasper Daniel Hansen
git_last_commit: 36249fb
git_last_commit_date: 2025-10-29 10:09:18 -0400
nebbiolo1Linux (Ubuntu 24.04.3 LTS) / x86_64  OK    ERROR  skipped
Package 274/502HostnameOS / ArchINSTALLBUILDCHECKBUILD BIN
MinimumDistance 1.55.0  (landing page)
Robert Scharpf
git_last_commit: 3e07ba2
git_last_commit_date: 2025-10-29 10:10:57 -0400
nebbiolo1Linux (Ubuntu 24.04.3 LTS) / x86_64  ERROR    ERROR  skipped
Package 275/502HostnameOS / ArchINSTALLBUILDCHECKBUILD BIN
MIRA 1.33.0  (landing page)
John Lawson
git_last_commit: 0ed001d
git_last_commit_date: 2025-10-29 10:41:11 -0400
nebbiolo1Linux (Ubuntu 24.04.3 LTS) / x86_64  OK    OK    OK  NO, package depends on 'IRanges' which is not available
Package 276/502HostnameOS / ArchINSTALLBUILDCHECKBUILD BIN
MiRaGE 1.53.0  (landing page)
Y-h. Taguchi
git_last_commit: 700ec14
git_last_commit_date: 2025-10-29 10:11:09 -0400
nebbiolo1Linux (Ubuntu 24.04.3 LTS) / x86_64  OK    ERROR  skipped
Package 277/502HostnameOS / ArchINSTALLBUILDCHECKBUILD BIN
missMethyl 1.45.0  (landing page)
Belinda Phipson
git_last_commit: 886b656
git_last_commit_date: 2025-10-29 10:20:32 -0400
nebbiolo1Linux (Ubuntu 24.04.3 LTS) / x86_64  ERROR    ERROR  skipped
Package 278/502HostnameOS / ArchINSTALLBUILDCHECKBUILD BIN
mist 1.3.0  (landing page)
Daoyu Duan
git_last_commit: ba089b8
git_last_commit_date: 2025-10-29 11:33:35 -0400
nebbiolo1Linux (Ubuntu 24.04.3 LTS) / x86_64  OK    OK    WARNINGS  NO, package depends on 'rtracklayer' which is not available
Package 279/502HostnameOS / ArchINSTALLBUILDCHECKBUILD BIN
MLInterfaces 1.91.0  (landing page)
Vincent Carey
git_last_commit: e9c6af4
git_last_commit_date: 2025-10-29 09:55:18 -0400
nebbiolo1Linux (Ubuntu 24.04.3 LTS) / x86_64  OK    ERROR  skipped
Package 280/502HostnameOS / ArchINSTALLBUILDCHECKBUILD BIN
mobileRNA 1.7.0  (landing page)
Katie Jeynes-Cupper
git_last_commit: 035276e
git_last_commit_date: 2025-10-29 11:28:04 -0400
nebbiolo1Linux (Ubuntu 24.04.3 LTS) / x86_64  OK    OK    ERROR  
Package 281/502HostnameOS / ArchINSTALLBUILDCHECKBUILD BIN
Modstrings 1.27.0  (landing page)
Felix G.M. Ernst
git_last_commit: ee94a6e
git_last_commit_date: 2025-10-29 10:50:29 -0400
nebbiolo1Linux (Ubuntu 24.04.3 LTS) / x86_64  OK    OK    OK  NO, package depends on 'Biostrings' which is not available
Package 282/502HostnameOS / ArchINSTALLBUILDCHECKBUILD BIN
mogsa 1.45.0  (landing page)
Chen Meng
git_last_commit: 51a848b
git_last_commit_date: 2025-10-29 10:25:17 -0400
nebbiolo1Linux (Ubuntu 24.04.3 LTS) / x86_64  OK    OK    OK  NO, package depends on 'graphite' which is not available
Package 283/502HostnameOS / ArchINSTALLBUILDCHECKBUILD BIN
monaLisa 1.17.0  (landing page)
Michael Stadler
git_last_commit: abfee88
git_last_commit_date: 2025-10-29 11:12:31 -0400
nebbiolo1Linux (Ubuntu 24.04.3 LTS) / x86_64  OK    ERROR  skipped
Package 284/502HostnameOS / ArchINSTALLBUILDCHECKBUILD BIN
monocle 2.39.0  (landing page)
Cole Trapnell
git_last_commit: 1349852
git_last_commit_date: 2025-10-29 10:19:37 -0400
nebbiolo1Linux (Ubuntu 24.04.3 LTS) / x86_64  OK    OK    OK  YES
Package 285/502HostnameOS / ArchINSTALLBUILDCHECKBUILD BIN
Moonlight2R 1.9.0  (landing page)
Matteo Tiberti
git_last_commit: b5e3244
git_last_commit_date: 2025-10-29 11:25:19 -0400
nebbiolo1Linux (Ubuntu 24.04.3 LTS) / x86_64  OK    OK    OK  NO, package depends on 'clusterProfiler' which is not available
Package 286/502HostnameOS / ArchINSTALLBUILDCHECKBUILD BIN
Motif2Site 1.15.0  (landing page)
Peyman Zarrineh
git_last_commit: c1fd6d7
git_last_commit_date: 2025-10-29 11:15:00 -0400
nebbiolo1Linux (Ubuntu 24.04.3 LTS) / x86_64  OK    ERROR  skipped
Package 287/502HostnameOS / ArchINSTALLBUILDCHECKBUILD BIN
motifbreakR 2.25.0  (landing page)
Simon Gert Coetzee
git_last_commit: 21e6965
git_last_commit_date: 2025-10-29 10:27:43 -0400
nebbiolo1Linux (Ubuntu 24.04.3 LTS) / x86_64  OK    ERROR  skipped
Package 288/502HostnameOS / ArchINSTALLBUILDCHECKBUILD BIN
MotifDb 1.53.0  (landing page)
Paul Shannon
git_last_commit: 69a2754
git_last_commit_date: 2025-10-29 10:11:46 -0400
nebbiolo1Linux (Ubuntu 24.04.3 LTS) / x86_64  OK    OK    WARNINGS  NO, package depends on 'IRanges' which is not available
Package 289/502HostnameOS / ArchINSTALLBUILDCHECKBUILD BIN
mpra 1.33.0  (landing page)
Leslie Myint
git_last_commit: df59fd8
git_last_commit_date: 2025-10-29 10:42:02 -0400
nebbiolo1Linux (Ubuntu 24.04.3 LTS) / x86_64  OK    OK    OK  NO, package depends on 'SummarizedExperiment' which is not available
Package 290/502HostnameOS / ArchINSTALLBUILDCHECKBUILD BIN
msa 1.43.0  (landing page)
Ulrich Bodenhofer
git_last_commit: 817cb68
git_last_commit_date: 2025-10-29 10:25:53 -0400
nebbiolo1Linux (Ubuntu 24.04.3 LTS) / x86_64  OK    OK    WARNINGS  NO, package depends on 'Biostrings' which is not available
Package 291/502HostnameOS / ArchINSTALLBUILDCHECKBUILD BIN
MsBackendSql 1.11.0  (landing page)
Johannes Rainer
git_last_commit: edb1158
git_last_commit_date: 2025-10-29 11:20:33 -0400
nebbiolo1Linux (Ubuntu 24.04.3 LTS) / x86_64  OK    OK    OK  NO, package depends on 'Spectra' which is not available
Package 292/502HostnameOS / ArchINSTALLBUILDCHECKBUILD BIN
MsExperiment 1.13.0  (landing page)
Laurent Gatto
git_last_commit: 18b0bf2
git_last_commit_date: 2025-10-29 11:18:49 -0400
nebbiolo1Linux (Ubuntu 24.04.3 LTS) / x86_64  OK    OK    OK  NO, package depends on 'IRanges' which is not available
Package 293/502HostnameOS / ArchINSTALLBUILDCHECKBUILD BIN
MSnbase 2.37.0  (landing page)
Laurent Gatto
git_last_commit: 3ca1ea4
git_last_commit_date: 2025-10-29 10:06:57 -0400
nebbiolo1Linux (Ubuntu 24.04.3 LTS) / x86_64  OK    OK    OK  NO, package depends on 'PSMatch' which is not available
Package 294/502HostnameOS / ArchINSTALLBUILDCHECKBUILD BIN
MSnID 1.45.0  (landing page)
Vlad Petyuk
git_last_commit: 7607478
git_last_commit_date: 2025-10-29 10:21:36 -0400
nebbiolo1Linux (Ubuntu 24.04.3 LTS) / x86_64  OK    OK    OK  NO, package depends on 'MSnbase' which is not available
Package 295/502HostnameOS / ArchINSTALLBUILDCHECKBUILD BIN
MultiAssayExperiment 1.37.0  (landing page)
Marcel Ramos
git_last_commit: bcc9a96
git_last_commit_date: 2025-10-29 10:31:09 -0400
nebbiolo1Linux (Ubuntu 24.04.3 LTS) / x86_64  OK    OK    OK  NO, package depends on 'SummarizedExperiment' which is not available
Package 296/502HostnameOS / ArchINSTALLBUILDCHECKBUILD BIN
multicrispr 1.21.0  (landing page)
Aditya Bhagwat
git_last_commit: 67e223f
git_last_commit_date: 2025-10-29 10:59:55 -0400
nebbiolo1Linux (Ubuntu 24.04.3 LTS) / x86_64  OK    ERROR  skipped
Package 297/502HostnameOS / ArchINSTALLBUILDCHECKBUILD BIN
MultiDataSet 1.39.0  (landing page)
Xavier Escribà Montagut
git_last_commit: 5045884
git_last_commit_date: 2025-10-29 10:31:59 -0400
nebbiolo1Linux (Ubuntu 24.04.3 LTS) / x86_64  OK    OK    ERROR  
Package 298/502HostnameOS / ArchINSTALLBUILDCHECKBUILD BIN
multiMiR 1.33.0  (landing page)
Spencer Mahaffey
git_last_commit: a6fc7f8
git_last_commit_date: 2025-10-29 10:40:52 -0400
nebbiolo1Linux (Ubuntu 24.04.3 LTS) / x86_64  OK    OK    OK  NO, package depends on 'AnnotationDbi' which is not available
Package 299/502HostnameOS / ArchINSTALLBUILDCHECKBUILD BIN
MultimodalExperiment 1.11.0  (landing page)
Lucas Schiffer
git_last_commit: 14f0df6
git_last_commit_date: 2025-10-29 11:23:19 -0400
nebbiolo1Linux (Ubuntu 24.04.3 LTS) / x86_64  OK    OK    OK  NO, package depends on 'IRanges' which is not available
Package 300/502HostnameOS / ArchINSTALLBUILDCHECKBUILD BIN
multtest 2.67.0  (landing page)
Katherine S. Pollard
git_last_commit: 877b1b4
git_last_commit_date: 2025-10-29 09:41:53 -0400
nebbiolo1Linux (Ubuntu 24.04.3 LTS) / x86_64  OK    OK    WARNINGS  YES
Package 301/502HostnameOS / ArchINSTALLBUILDCHECKBUILD BIN
mumosa 1.19.0  (landing page)
Aaron Lun
git_last_commit: 67c3814
git_last_commit_date: 2025-10-29 11:05:15 -0400
nebbiolo1Linux (Ubuntu 24.04.3 LTS) / x86_64  OK    OK    OK  NO, package depends on 'SingleCellExperiment' which is not available
Package 302/502HostnameOS / ArchINSTALLBUILDCHECKBUILD BIN
MutationalPatterns 3.21.0  (landing page)
Mark van Roosmalen
git_last_commit: b3f3115
git_last_commit_date: 2025-10-29 10:35:07 -0400
nebbiolo1Linux (Ubuntu 24.04.3 LTS) / x86_64  OK    ERROR  skipped
Package 303/502HostnameOS / ArchINSTALLBUILDCHECKBUILD BIN
mutscan 1.1.0  (landing page)
Charlotte Soneson
git_last_commit: 30e3669
git_last_commit_date: 2025-10-29 11:37:32 -0400
nebbiolo1Linux (Ubuntu 24.04.3 LTS) / x86_64  OK    OK    OK  NO, package depends on 'SummarizedExperiment' which is not available
Package 304/502HostnameOS / ArchINSTALLBUILDCHECKBUILD BIN
mzR 2.45.0  (landing page)
Steffen Neumann
git_last_commit: b483816
git_last_commit_date: 2025-10-29 10:08:33 -0400
nebbiolo1Linux (Ubuntu 24.04.3 LTS) / x86_64  OK    OK    WARNINGS  YES
Package 305/502HostnameOS / ArchINSTALLBUILDCHECKBUILD BIN
NADfinder 1.35.0  (landing page)
Jianhong Ou
git_last_commit: 7e7a887
git_last_commit_date: 2025-10-29 10:37:48 -0400
nebbiolo1Linux (Ubuntu 24.04.3 LTS) / x86_64  ERROR    ERROR  skipped
Package 306/502HostnameOS / ArchINSTALLBUILDCHECKBUILD BIN
NanoStringNCTools 1.19.0  (landing page)
Maddy Griswold
git_last_commit: 47660a8
git_last_commit_date: 2025-10-29 11:05:46 -0400
nebbiolo1Linux (Ubuntu 24.04.3 LTS) / x86_64  OK    OK    OK  NO, package depends on 'Biostrings' which is not available
Package 307/502HostnameOS / ArchINSTALLBUILDCHECKBUILD BIN
ncdfFlow 2.57.0  (landing page)
Mike Jiang
git_last_commit: 1d39b7d
git_last_commit_date: 2025-10-29 10:09:38 -0400
nebbiolo1Linux (Ubuntu 24.04.3 LTS) / x86_64  OK    OK    WARNINGS  YES
Package 308/502HostnameOS / ArchINSTALLBUILDCHECKBUILD BIN
nearBynding 1.21.0  (landing page)
Veronica Busa
git_last_commit: b814dff
git_last_commit_date: 2025-10-29 11:02:17 -0400
nebbiolo1Linux (Ubuntu 24.04.3 LTS) / x86_64  ERROR    ERROR  skipped
Package 309/502HostnameOS / ArchINSTALLBUILDCHECKBUILD BIN
ngsReports 2.13.0  (landing page)
Stevie Pederson
git_last_commit: d7ee59e
git_last_commit_date: 2025-10-29 10:51:17 -0400
nebbiolo1Linux (Ubuntu 24.04.3 LTS) / x86_64  OK    OK    OK  NO, package depends on 'Biostrings' which is not available
Package 310/502HostnameOS / ArchINSTALLBUILDCHECKBUILD BIN
notame 1.1.0  (landing page)
Vilhelm Suksi
git_last_commit: 778b063
git_last_commit_date: 2025-10-29 11:38:23 -0400
nebbiolo1Linux (Ubuntu 24.04.3 LTS) / x86_64  OK    OK    OK  NO, package depends on 'SummarizedExperiment' which is not available
Package 311/502HostnameOS / ArchINSTALLBUILDCHECKBUILD BIN
notameStats 1.1.0  (landing page)
Vilhelm Suksi
git_last_commit: 87a06cd
git_last_commit_date: 2025-10-29 11:38:32 -0400
nebbiolo1Linux (Ubuntu 24.04.3 LTS) / x86_64  OK    OK    ERROR  
Package 312/502HostnameOS / ArchINSTALLBUILDCHECKBUILD BIN
notameViz 1.1.0  (landing page)
Vilhelm Suksi
git_last_commit: 1590e89
git_last_commit_date: 2025-10-29 11:38:35 -0400
nebbiolo1Linux (Ubuntu 24.04.3 LTS) / x86_64  OK    OK    OK  NO, package depends on 'SummarizedExperiment' which is not available
Package 313/502HostnameOS / ArchINSTALLBUILDCHECKBUILD BIN
npGSEA 1.47.0  (landing page)
Jessica Larson
git_last_commit: 3e7356f
git_last_commit_date: 2025-10-29 10:19:10 -0400
nebbiolo1Linux (Ubuntu 24.04.3 LTS) / x86_64  OK    ERROR  skipped
Package 314/502HostnameOS / ArchINSTALLBUILDCHECKBUILD BIN
nucleR 2.43.0  (landing page)
Alba Sala
git_last_commit: 3db28f8
git_last_commit_date: 2025-10-29 10:08:16 -0400
nebbiolo1Linux (Ubuntu 24.04.3 LTS) / x86_64  OK    OK    WARNINGS  NO, package depends on 'Biostrings' which is not available
Package 315/502HostnameOS / ArchINSTALLBUILDCHECKBUILD BIN
oligo 1.75.0  (landing page)
Benilton Carvalho
git_last_commit: e5c4ecd
git_last_commit_date: 2025-10-29 09:56:42 -0400
nebbiolo1Linux (Ubuntu 24.04.3 LTS) / x86_64  OK    OK    ERROR  
Package 316/502HostnameOS / ArchINSTALLBUILDCHECKBUILD BIN
oligoClasses 1.73.0  (landing page)
Benilton Carvalho and Robert Scharpf
git_last_commit: 924ec0a
git_last_commit_date: 2025-10-29 09:59:50 -0400
nebbiolo1Linux (Ubuntu 24.04.3 LTS) / x86_64  OK    OK    ERROR  
Package 317/502HostnameOS / ArchINSTALLBUILDCHECKBUILD BIN
openCyto 2.23.0  (landing page)
Mike Jiang
git_last_commit: 11bf474
git_last_commit_date: 2025-10-29 10:16:53 -0400
nebbiolo1Linux (Ubuntu 24.04.3 LTS) / x86_64  OK    OK    WARNINGS  NO, package depends on 'flowWorkspace' which is not available
Package 318/502HostnameOS / ArchINSTALLBUILDCHECKBUILD BIN
openPrimeR 1.33.0  (landing page)
Matthias Döring
git_last_commit: 9ac7cf4
git_last_commit_date: 2025-10-29 10:40:47 -0400
nebbiolo1Linux (Ubuntu 24.04.3 LTS) / x86_64  OK    OK    OK  NO, package depends on 'Biostrings' which is not available
Package 319/502HostnameOS / ArchINSTALLBUILDCHECKBUILD BIN
ORFik 1.31.0  (landing page)
Haakon Tjeldnes
git_last_commit: 1c0375d
git_last_commit_date: 2025-10-29 10:45:22 -0400
nebbiolo1Linux (Ubuntu 24.04.3 LTS) / x86_64  OK    ERROR  skipped
Package 320/502HostnameOS / ArchINSTALLBUILDCHECKBUILD BIN
OrganismDbi 1.53.0  (landing page)
Bioconductor Package Maintainer
git_last_commit: bc1c6fc
git_last_commit_date: 2025-10-29 10:12:00 -0400
nebbiolo1Linux (Ubuntu 24.04.3 LTS) / x86_64  ERROR    ERROR  skipped
Package 321/502HostnameOS / ArchINSTALLBUILDCHECKBUILD BIN
OUTRIDER 1.29.0  (landing page)
Christian Mertes
git_last_commit: 8caa8cb
git_last_commit_date: 2025-10-29 10:46:21 -0400
nebbiolo1Linux (Ubuntu 24.04.3 LTS) / x86_64  OK    OK    ERROR  
Package 322/502HostnameOS / ArchINSTALLBUILDCHECKBUILD BIN
pandaR 1.43.0  (landing page)
Joseph N. Paulson , Dan Schlauch
git_last_commit: 92841f9
git_last_commit_date: 2025-10-29 10:25:42 -0400
nebbiolo1Linux (Ubuntu 24.04.3 LTS) / x86_64  OK    OK    WARNINGS  YES
Package 323/502HostnameOS / ArchINSTALLBUILDCHECKBUILD BIN
parglms 1.43.0  (landing page)
VJ Carey
git_last_commit: 470abec
git_last_commit_date: 2025-10-29 10:23:38 -0400
nebbiolo1Linux (Ubuntu 24.04.3 LTS) / x86_64  OK    OK    OK  YES
Package 324/502HostnameOS / ArchINSTALLBUILDCHECKBUILD BIN
pcaMethods 2.3.0  (landing page)
Henning Redestig
git_last_commit: 8787174
git_last_commit_date: 2025-10-29 09:58:32 -0400
nebbiolo1Linux (Ubuntu 24.04.3 LTS) / x86_64  OK    OK    OK  YES
Package 325/502HostnameOS / ArchINSTALLBUILDCHECKBUILD BIN
PDATK 1.19.0  (landing page)
Benjamin Haibe-Kains
git_last_commit: 16dbbfe
git_last_commit_date: 2025-10-29 11:06:36 -0400
nebbiolo1Linux (Ubuntu 24.04.3 LTS) / x86_64  OK    OK    WARNINGS  NO, package depends on 'SummarizedExperiment' which is not available
Package 326/502HostnameOS / ArchINSTALLBUILDCHECKBUILD BIN
pdInfoBuilder 1.75.0  (landing page)
Benilton Carvalho
git_last_commit: 81fd205
git_last_commit_date: 2025-10-29 09:58:52 -0400
nebbiolo1Linux (Ubuntu 24.04.3 LTS) / x86_64  OK    OK    OK  NO, package depends on 'oligo' which is not available
Package 327/502HostnameOS / ArchINSTALLBUILDCHECKBUILD BIN
PharmacoGx 3.15.0  (landing page)
Benjamin Haibe-Kains
git_last_commit: a1fade5
git_last_commit_date: 2025-10-29 10:33:56 -0400
nebbiolo1Linux (Ubuntu 24.04.3 LTS) / x86_64  OK    OK    OK  NO, package depends on 'CoreGx' which is not available
Package 328/502HostnameOS / ArchINSTALLBUILDCHECKBUILD BIN
PhIPData 1.19.0  (landing page)
Athena Chen
git_last_commit: 82391da
git_last_commit_date: 2025-10-29 11:06:46 -0400
nebbiolo1Linux (Ubuntu 24.04.3 LTS) / x86_64  OK    OK    OK  NO, package depends on 'SummarizedExperiment' which is not available
Package 329/502HostnameOS / ArchINSTALLBUILDCHECKBUILD BIN
PhosR 1.21.0  (landing page)
Di Xiao
git_last_commit: 244f040
git_last_commit_date: 2025-10-29 11:02:33 -0400
nebbiolo1Linux (Ubuntu 24.04.3 LTS) / x86_64  OK    ERROR  skipped
Package 330/502HostnameOS / ArchINSTALLBUILDCHECKBUILD BIN
phyloseq 1.55.0  (landing page)
Paul J. McMurdie
git_last_commit: 3b97933
git_last_commit_date: 2025-10-29 10:10:12 -0400
nebbiolo1Linux (Ubuntu 24.04.3 LTS) / x86_64  OK    OK    WARNINGS  NO, package depends on 'Biostrings' which is not available
Package 331/502HostnameOS / ArchINSTALLBUILDCHECKBUILD BIN
piano 2.27.0  (landing page)
Leif Varemo Wigge
git_last_commit: f61c2c0
git_last_commit_date: 2025-10-29 10:14:36 -0400
nebbiolo1Linux (Ubuntu 24.04.3 LTS) / x86_64  OK    ERROR  skipped
Package 332/502HostnameOS / ArchINSTALLBUILDCHECKBUILD BIN
PIPETS 1.7.0  (landing page)
Quinlan Furumo
git_last_commit: 6146b1f
git_last_commit_date: 2025-10-29 11:27:41 -0400
nebbiolo1Linux (Ubuntu 24.04.3 LTS) / x86_64  OK    OK    OK  NO, package depends on 'GenomicRanges' which is not available
Package 333/502HostnameOS / ArchINSTALLBUILDCHECKBUILD BIN
plyinteractions 1.9.0  (landing page)
Jacques Serizay
git_last_commit: 172a96a
git_last_commit_date: 2025-10-29 11:25:39 -0400
nebbiolo1Linux (Ubuntu 24.04.3 LTS) / x86_64  OK    ERROR  skipped
Package 334/502HostnameOS / ArchINSTALLBUILDCHECKBUILD BIN
plyranges 1.31.0  (landing page)
Michael Love
git_last_commit: f6aa1f9
git_last_commit_date: 2025-10-29 10:44:22 -0400
nebbiolo1Linux (Ubuntu 24.04.3 LTS) / x86_64  OK    OK    ERROR  
Package 335/502HostnameOS / ArchINSTALLBUILDCHECKBUILD BIN
podkat 1.43.0  (landing page)
Ulrich Bodenhofer
git_last_commit: d216a17
git_last_commit_date: 2025-10-29 10:24:59 -0400
nebbiolo1Linux (Ubuntu 24.04.3 LTS) / x86_64  OK    ERROR  skipped
Package 336/502HostnameOS / ArchINSTALLBUILDCHECKBUILD BIN
pram 1.27.0  (landing page)
Peng Liu
git_last_commit: e034cdc
git_last_commit_date: 2025-10-29 10:50:34 -0400
nebbiolo1Linux (Ubuntu 24.04.3 LTS) / x86_64  OK    OK    OK  NO, package depends on 'GenomicAlignments' which is not available
Package 337/502HostnameOS / ArchINSTALLBUILDCHECKBUILD BIN
primirTSS 1.29.0  (landing page)
Pumin Li
git_last_commit: bbff91f
git_last_commit_date: 2025-10-29 10:47:22 -0400
nebbiolo1Linux (Ubuntu 24.04.3 LTS) / x86_64  ERROR    ERROR  skipped
Package 338/502HostnameOS / ArchINSTALLBUILDCHECKBUILD BIN
proDA 1.25.0  (landing page)
Constantin Ahlmann-Eltze
git_last_commit: df3313e
git_last_commit_date: 2025-10-29 10:53:21 -0400
nebbiolo1Linux (Ubuntu 24.04.3 LTS) / x86_64  OK    ERROR  skipped
Package 339/502HostnameOS / ArchINSTALLBUILDCHECKBUILD BIN
profileplyr 1.27.0  (landing page)
Tom Carroll , Doug Barrows
git_last_commit: c441d3c
git_last_commit_date: 2025-10-29 10:51:25 -0400
nebbiolo1Linux (Ubuntu 24.04.3 LTS) / x86_64  ERROR    ERROR  skipped
Package 340/502HostnameOS / ArchINSTALLBUILDCHECKBUILD BIN
profileScoreDist 1.39.0  (landing page)
Paal O. Westermark
git_last_commit: 6b89885
git_last_commit_date: 2025-10-29 10:29:07 -0400
nebbiolo1Linux (Ubuntu 24.04.3 LTS) / x86_64  OK    OK    OK  YES
Package 341/502HostnameOS / ArchINSTALLBUILDCHECKBUILD BIN
pRoloc 1.51.0  (landing page)
Lisa Breckels
git_last_commit: 26ca27b
git_last_commit_date: 2025-10-29 10:12:55 -0400
nebbiolo1Linux (Ubuntu 24.04.3 LTS) / x86_64  OK    OK    WARNINGS  NO, package depends on 'MSnbase' which is not available
Package 342/502HostnameOS / ArchINSTALLBUILDCHECKBUILD BIN
pRolocGUI 2.21.0  (landing page)
Lisa Breckels
git_last_commit: a013160
git_last_commit_date: 2025-10-29 10:20:16 -0400
nebbiolo1Linux (Ubuntu 24.04.3 LTS) / x86_64  OK    OK    OK  NO, package depends on 'pRoloc' which is not available
Package 343/502HostnameOS / ArchINSTALLBUILDCHECKBUILD BIN
ProteoDisco 1.17.0  (landing page)
Job van Riet
git_last_commit: 583baa5
git_last_commit_date: 2025-10-29 11:11:51 -0400
nebbiolo1Linux (Ubuntu 24.04.3 LTS) / x86_64  OK    ERROR  skipped
Package 344/502HostnameOS / ArchINSTALLBUILDCHECKBUILD BIN
PSMatch 1.15.0  (landing page)
Laurent Gatto
git_last_commit: 269b755
git_last_commit_date: 2025-10-29 11:15:29 -0400
nebbiolo1Linux (Ubuntu 24.04.3 LTS) / x86_64  OK    OK    OK  NO, package depends on 'Spectra' which is not available
Package 345/502HostnameOS / ArchINSTALLBUILDCHECKBUILD BIN
PureCN 2.17.0  (landing page)
Markus Riester
git_last_commit: 3330cff
git_last_commit_date: 2025-10-29 10:31:57 -0400
nebbiolo1Linux (Ubuntu 24.04.3 LTS) / x86_64  OK    OK    OK  NO, package depends on 'VariantAnnotation' which is not available
Package 346/502HostnameOS / ArchINSTALLBUILDCHECKBUILD BIN
pwalign 1.7.0  (landing page)
Hervé Pagès
git_last_commit: a8e536a
git_last_commit_date: 2025-10-29 14:46:16 -0400
nebbiolo1Linux (Ubuntu 24.04.3 LTS) / x86_64  OK    OK    OK  NO, package depends on 'IRanges' which is not available
Package 347/502HostnameOS / ArchINSTALLBUILDCHECKBUILD BIN
PWMEnrich 4.47.0  (landing page)
Diego Diez
git_last_commit: 3606145
git_last_commit_date: 2025-10-29 10:11:23 -0400
nebbiolo1Linux (Ubuntu 24.04.3 LTS) / x86_64  OK    ERROR  skipped
Package 348/502HostnameOS / ArchINSTALLBUILDCHECKBUILD BIN
QDNAseq 1.47.0  (landing page)
Daoud Sie
git_last_commit: 2bb3c9e
git_last_commit_date: 2025-10-29 10:18:34 -0400
nebbiolo1Linux (Ubuntu 24.04.3 LTS) / x86_64  OK    OK    OK  NO, package depends on 'Seqinfo' which is not available
Package 349/502HostnameOS / ArchINSTALLBUILDCHECKBUILD BIN
QFeatures 1.21.0  (landing page)
Laurent Gatto
git_last_commit: 9863a56
git_last_commit_date: 2025-10-29 11:01:30 -0400
nebbiolo1Linux (Ubuntu 24.04.3 LTS) / x86_64  OK    OK    OK  NO, package depends on 'MultiAssayExperiment' which is not available
Package 350/502HostnameOS / ArchINSTALLBUILDCHECKBUILD BIN
qPLEXanalyzer 1.29.0  (landing page)
Ashley Sawle
git_last_commit: d72dc3a
git_last_commit_date: 2025-10-29 10:46:08 -0400
nebbiolo1Linux (Ubuntu 24.04.3 LTS) / x86_64  OK    ERROR  skipped
Package 351/502HostnameOS / ArchINSTALLBUILDCHECKBUILD BIN
qsea 1.37.0  (landing page)
Matthias Lienhard
git_last_commit: ef750af
git_last_commit_date: 2025-10-29 10:32:56 -0400
nebbiolo1Linux (Ubuntu 24.04.3 LTS) / x86_64  OK    ERROR  skipped
Package 352/502HostnameOS / ArchINSTALLBUILDCHECKBUILD BIN
QSutils 1.29.0  (landing page)
Mercedes Guerrero-Murillo
git_last_commit: 23b420d
git_last_commit_date: 2025-10-29 10:48:23 -0400
nebbiolo1Linux (Ubuntu 24.04.3 LTS) / x86_64  OK    OK    ERROR  
Package 353/502HostnameOS / ArchINSTALLBUILDCHECKBUILD BIN
QTLExperiment 2.3.0  (landing page)
Amelia Dunstone
git_last_commit: 51ef902
git_last_commit_date: 2025-10-29 11:26:32 -0400
nebbiolo1Linux (Ubuntu 24.04.3 LTS) / x86_64  OK    OK    WARNINGS  NO, package depends on 'SummarizedExperiment' which is not available
Package 354/502HostnameOS / ArchINSTALLBUILDCHECKBUILD BIN
QuasR 1.51.0  (landing page)
Michael Stadler
git_last_commit: 331f3b2
git_last_commit_date: 2025-10-29 10:13:16 -0400
nebbiolo1Linux (Ubuntu 24.04.3 LTS) / x86_64  OK    ERROR  skipped
Package 355/502HostnameOS / ArchINSTALLBUILDCHECKBUILD BIN
R3CPET 1.43.0  (landing page)
Mohamed Nadhir Djekidel
git_last_commit: 07a90d9
git_last_commit_date: 2025-10-29 10:25:45 -0400
nebbiolo1Linux (Ubuntu 24.04.3 LTS) / x86_64  ERROR    ERROR  skipped
Package 356/502HostnameOS / ArchINSTALLBUILDCHECKBUILD BIN
R453Plus1Toolbox 1.61.0  (landing page)
Hans-Ulrich Klein
git_last_commit: b396ba9
git_last_commit_date: 2025-10-29 10:06:02 -0400
nebbiolo1Linux (Ubuntu 24.04.3 LTS) / x86_64  OK    ERROR  skipped
Package 357/502HostnameOS / ArchINSTALLBUILDCHECKBUILD BIN
RadioGx 2.15.0  (landing page)
Benjamin Haibe-Kains
git_last_commit: 3cfa0fd
git_last_commit_date: 2025-10-29 11:00:09 -0400
nebbiolo1Linux (Ubuntu 24.04.3 LTS) / x86_64  OK    OK    OK  NO, package depends on 'CoreGx' which is not available
Package 358/502HostnameOS / ArchINSTALLBUILDCHECKBUILD BIN
raer 1.9.0  (landing page)
Kent Riemondy
git_last_commit: 94ed43d
git_last_commit_date: 2025-10-29 11:26:05 -0400
nebbiolo1Linux (Ubuntu 24.04.3 LTS) / x86_64  OK    ERROR  skipped
Package 359/502HostnameOS / ArchINSTALLBUILDCHECKBUILD BIN
RaggedExperiment 1.35.0  (landing page)
Marcel Ramos
git_last_commit: efd60e0
git_last_commit_date: 2025-10-29 10:37:59 -0400
nebbiolo1Linux (Ubuntu 24.04.3 LTS) / x86_64  OK    OK    OK  NO, package depends on 'GenomicRanges' which is not available
Package 360/502HostnameOS / ArchINSTALLBUILDCHECKBUILD BIN
ramr 1.19.0  (landing page)
Oleksii Nikolaienko
git_last_commit: d6a405c
git_last_commit_date: 2025-10-29 11:05:28 -0400
nebbiolo1Linux (Ubuntu 24.04.3 LTS) / x86_64  OK    OK    OK  NO, package depends on 'Seqinfo' which is not available
Package 361/502HostnameOS / ArchINSTALLBUILDCHECKBUILD BIN
ramwas 1.35.0  (landing page)
Andrey A Shabalin
git_last_commit: 4c78862
git_last_commit_date: 2025-10-29 10:36:00 -0400
nebbiolo1Linux (Ubuntu 24.04.3 LTS) / x86_64  OK    ERROR  skipped
Package 362/502HostnameOS / ArchINSTALLBUILDCHECKBUILD BIN
RareVariantVis 2.39.0  (landing page)
Tomasz Stokowy
git_last_commit: 8b234dc
git_last_commit_date: 2025-10-29 10:26:20 -0400
nebbiolo1Linux (Ubuntu 24.04.3 LTS) / x86_64  ERROR    ERROR  skipped
Package 363/502HostnameOS / ArchINSTALLBUILDCHECKBUILD BIN
Rarr 1.11.0  (landing page)
Hugo Gruson
git_last_commit: 1278789
git_last_commit_date: 2025-10-29 11:22:21 -0400
nebbiolo1Linux (Ubuntu 24.04.3 LTS) / x86_64  OK    OK    OK  NO, package depends on 'DelayedArray' which is not available
Package 364/502HostnameOS / ArchINSTALLBUILDCHECKBUILD BIN
RCAS 1.37.0  (landing page)
Bora Uyar
git_last_commit: 1a77884
git_last_commit_date: 2025-10-29 10:33:22 -0400
nebbiolo1Linux (Ubuntu 24.04.3 LTS) / x86_64  ERROR    ERROR  skipped
Package 365/502HostnameOS / ArchINSTALLBUILDCHECKBUILD BIN
RcisTarget 1.31.0  (landing page)
Gert Hulselmans
git_last_commit: 06bec5f
git_last_commit_date: 2025-10-29 10:42:56 -0400
nebbiolo1Linux (Ubuntu 24.04.3 LTS) / x86_64  OK    OK    ERROR  
Package 366/502HostnameOS / ArchINSTALLBUILDCHECKBUILD BIN
RCy3 2.31.0  (landing page)
Alex Pico
git_last_commit: f7dcce5
git_last_commit_date: 2025-10-29 10:28:27 -0400
nebbiolo1Linux (Ubuntu 24.04.3 LTS) / x86_64  OK    OK    OK  YES
Package 367/502HostnameOS / ArchINSTALLBUILDCHECKBUILD BIN
RCyjs 2.33.0  (landing page)
Paul Shannon
git_last_commit: 85acbb7
git_last_commit_date: 2025-10-29 10:25:28 -0400
nebbiolo1Linux (Ubuntu 24.04.3 LTS) / x86_64  OK    OK    WARNINGS  YES
Package 368/502HostnameOS / ArchINSTALLBUILDCHECKBUILD BIN
recoup 1.39.0  (landing page)
Panagiotis Moulos
git_last_commit: 66d3f66
git_last_commit_date: 2025-10-29 10:31:02 -0400
nebbiolo1Linux (Ubuntu 24.04.3 LTS) / x86_64  OK    OK    OK  NO, package depends on 'GenomicRanges' which is not available
Package 369/502HostnameOS / ArchINSTALLBUILDCHECKBUILD BIN
REDseq 1.57.0  (landing page)
Lihua Julie Zhu
git_last_commit: 05ac2ab
git_last_commit_date: 2025-10-29 10:07:45 -0400
nebbiolo1Linux (Ubuntu 24.04.3 LTS) / x86_64  ERROR    ERROR  skipped
Package 370/502HostnameOS / ArchINSTALLBUILDCHECKBUILD BIN
ReducedExperiment 1.3.0  (landing page)
Jack Gisby
git_last_commit: 8a1ee25
git_last_commit_date: 2025-10-29 11:33:37 -0400
nebbiolo1Linux (Ubuntu 24.04.3 LTS) / x86_64  OK    OK    OK  NO, package depends on 'SummarizedExperiment' which is not available
Package 371/502HostnameOS / ArchINSTALLBUILDCHECKBUILD BIN
REMP 1.35.0  (landing page)
Yinan Zheng
git_last_commit: 6cbaa64
git_last_commit_date: 2025-10-29 10:36:53 -0400
nebbiolo1Linux (Ubuntu 24.04.3 LTS) / x86_64  OK    ERROR  skipped
Package 372/502HostnameOS / ArchINSTALLBUILDCHECKBUILD BIN
ReportingTools 2.51.0  (landing page)
Jason A. Hackney , Gabriel Becker
git_last_commit: ba00f72
git_last_commit_date: 2025-10-29 10:12:14 -0400
nebbiolo1Linux (Ubuntu 24.04.3 LTS) / x86_64  ERROR    ERROR  skipped
Package 373/502HostnameOS / ArchINSTALLBUILDCHECKBUILD BIN
RGSEA 1.45.0  (landing page)
Chengcheng Ma
git_last_commit: 525ac54
git_last_commit_date: 2025-10-29 10:20:00 -0400
nebbiolo1Linux (Ubuntu 24.04.3 LTS) / x86_64  OK    OK    OK  YES
Package 374/502HostnameOS / ArchINSTALLBUILDCHECKBUILD BIN
RiboCrypt 1.17.0  (landing page)
Michal Swirski
git_last_commit: da58451
git_last_commit_date: 2025-10-29 11:13:40 -0400
nebbiolo1Linux (Ubuntu 24.04.3 LTS) / x86_64  OK    OK    ERROR  
Package 375/502HostnameOS / ArchINSTALLBUILDCHECKBUILD BIN
RiboDiPA 1.19.0  (landing page)
Ji-Ping Wang
git_last_commit: 2487cc4
git_last_commit_date: 2025-10-29 11:05:49 -0400
nebbiolo1Linux (Ubuntu 24.04.3 LTS) / x86_64  OK    OK    OK  NO, package depends on 'Rsamtools' which is not available
Package 376/502HostnameOS / ArchINSTALLBUILDCHECKBUILD BIN
RiboProfiling 1.41.0  (landing page)
A. Popa
git_last_commit: db90a52
git_last_commit_date: 2025-10-29 10:28:21 -0400
nebbiolo1Linux (Ubuntu 24.04.3 LTS) / x86_64  ERROR    ERROR  skipped
Package 377/502HostnameOS / ArchINSTALLBUILDCHECKBUILD BIN
ribosomeProfilingQC 1.23.0  (landing page)
Jianhong Ou
git_last_commit: bad02b9
git_last_commit_date: 2025-10-29 10:57:03 -0400
nebbiolo1Linux (Ubuntu 24.04.3 LTS) / x86_64  OK    ERROR  skipped
Package 378/502HostnameOS / ArchINSTALLBUILDCHECKBUILD BIN
RJMCMCNucleosomes 1.35.0  (landing page)
Astrid Deschênes
git_last_commit: e3d8d0f
git_last_commit_date: 2025-10-29 10:36:10 -0400
nebbiolo1Linux (Ubuntu 24.04.3 LTS) / x86_64  OK    OK    OK  NO, package depends on 'IRanges' which is not available
Package 379/502HostnameOS / ArchINSTALLBUILDCHECKBUILD BIN
rnaEditr 1.21.0  (landing page)
Lanyu Zhang
git_last_commit: 6261cfb
git_last_commit_date: 2025-10-29 11:03:10 -0400
nebbiolo1Linux (Ubuntu 24.04.3 LTS) / x86_64  OK    OK    WARNINGS  NO, package depends on 'GenomicRanges' which is not available
Package 380/502HostnameOS / ArchINSTALLBUILDCHECKBUILD BIN
RNAmodR 1.25.0  (landing page)
Felix G.M. Ernst
git_last_commit: 7e3ea7f
git_last_commit_date: 2025-10-29 10:52:38 -0400
nebbiolo1Linux (Ubuntu 24.04.3 LTS) / x86_64  OK    ERROR  skipped
Package 381/502HostnameOS / ArchINSTALLBUILDCHECKBUILD BIN
RNAmodR.AlkAnilineSeq 1.25.0  (landing page)
Felix G.M. Ernst
git_last_commit: e946449
git_last_commit_date: 2025-10-29 10:52:43 -0400
nebbiolo1Linux (Ubuntu 24.04.3 LTS) / x86_64  OK    ERROR  skipped
Package 382/502HostnameOS / ArchINSTALLBUILDCHECKBUILD BIN
RNAmodR.ML 1.25.0  (landing page)
Felix G.M. Ernst
git_last_commit: 4f48f03
git_last_commit_date: 2025-10-29 10:52:49 -0400
nebbiolo1Linux (Ubuntu 24.04.3 LTS) / x86_64  OK    ERROR  skipped
Package 383/502HostnameOS / ArchINSTALLBUILDCHECKBUILD BIN
RNAmodR.RiboMethSeq 1.25.0  (landing page)
Felix G.M. Ernst
git_last_commit: ebb255c
git_last_commit_date: 2025-10-29 10:52:40 -0400
nebbiolo1Linux (Ubuntu 24.04.3 LTS) / x86_64  OK    ERROR  skipped
Package 384/502HostnameOS / ArchINSTALLBUILDCHECKBUILD BIN
RNAseqCovarImpute 1.9.0  (landing page)
Brennan Baker
git_last_commit: c21a243
git_last_commit_date: 2025-10-29 11:25:57 -0400
nebbiolo1Linux (Ubuntu 24.04.3 LTS) / x86_64  OK    OK    OK  YES
Package 385/502HostnameOS / ArchINSTALLBUILDCHECKBUILD BIN
RnBeads 2.29.0  (landing page)
Fabian Mueller
git_last_commit: 49f6545
git_last_commit_date: 2025-10-29 10:25:50 -0400
nebbiolo1Linux (Ubuntu 24.04.3 LTS) / x86_64  ERROR    ERROR  skipped
Package 386/502HostnameOS / ArchINSTALLBUILDCHECKBUILD BIN
roar 1.47.0  (landing page)
Elena Grassi
git_last_commit: a867789
git_last_commit_date: 2025-10-29 10:17:36 -0400
nebbiolo1Linux (Ubuntu 24.04.3 LTS) / x86_64  OK    OK    OK  NO, package depends on 'IRanges' which is not available
Package 387/502HostnameOS / ArchINSTALLBUILDCHECKBUILD BIN
rols 3.7.0  (landing page)
Laurent Gatto
git_last_commit: 22c574a
git_last_commit_date: 2025-10-29 10:11:11 -0400
nebbiolo1Linux (Ubuntu 24.04.3 LTS) / x86_64  OK    ERROR  skipped
Package 388/502HostnameOS / ArchINSTALLBUILDCHECKBUILD BIN
RPA 1.67.0  (landing page)
Leo Lahti
git_last_commit: ae57fb9
git_last_commit_date: 2025-10-29 10:03:12 -0400
nebbiolo1Linux (Ubuntu 24.04.3 LTS) / x86_64  OK    OK    OK  NO, package depends on 'affy' which is not available
Package 389/502HostnameOS / ArchINSTALLBUILDCHECKBUILD BIN
Rqc 1.45.0  (landing page)
Welliton Souza
git_last_commit: 81cf3fd
git_last_commit_date: 2025-10-29 10:22:46 -0400
nebbiolo1Linux (Ubuntu 24.04.3 LTS) / x86_64  OK    OK    OK  NO, package depends on 'ShortRead' which is not available
Package 390/502HostnameOS / ArchINSTALLBUILDCHECKBUILD BIN
rqubic 1.57.0  (landing page)
Jitao David Zhang
git_last_commit: 06f9692
git_last_commit_date: 2025-10-29 10:08:30 -0400
nebbiolo1Linux (Ubuntu 24.04.3 LTS) / x86_64  OK    OK    WARNINGS  YES
Package 391/502HostnameOS / ArchINSTALLBUILDCHECKBUILD BIN
Rsamtools 2.27.0  (landing page)
Bioconductor Package Maintainer
git_last_commit: a2c9284
git_last_commit_date: 2025-10-29 10:04:41 -0400
nebbiolo1Linux (Ubuntu 24.04.3 LTS) / x86_64  OK    ERROR  skipped
Package 392/502HostnameOS / ArchINSTALLBUILDCHECKBUILD BIN
rsbml 2.69.0  (landing page)
Michael Lawrence
git_last_commit: 7c17b73
git_last_commit_date: 2025-10-29 09:59:55 -0400
nebbiolo1Linux (Ubuntu 24.04.3 LTS) / x86_64  OK    OK    WARNINGS  YES
Package 393/502HostnameOS / ArchINSTALLBUILDCHECKBUILD BIN
rScudo 1.27.0  (landing page)
Matteo Ciciani
git_last_commit: 29e385c
git_last_commit_date: 2025-10-29 10:49:11 -0400
nebbiolo1Linux (Ubuntu 24.04.3 LTS) / x86_64  OK    OK    OK  NO, package depends on 'SummarizedExperiment' which is not available
Package 394/502HostnameOS / ArchINSTALLBUILDCHECKBUILD BIN
RTCGAToolbox 2.41.0  (landing page)
Marcel Ramos
git_last_commit: d55f300
git_last_commit_date: 2025-10-29 10:26:09 -0400
nebbiolo1Linux (Ubuntu 24.04.3 LTS) / x86_64  OK    ERROR  skipped
Package 395/502HostnameOS / ArchINSTALLBUILDCHECKBUILD BIN
rtracklayer 1.71.0  (landing page)
Michael Lawrence
git_last_commit: 65cde22
git_last_commit_date: 2025-10-29 10:00:29 -0400
nebbiolo1Linux (Ubuntu 24.04.3 LTS) / x86_64  OK    ERROR  skipped
Package 396/502HostnameOS / ArchINSTALLBUILDCHECKBUILD BIN
S4Arrays 1.11.0  (landing page)
Hervé Pagès
git_last_commit: 6660826
git_last_commit_date: 2025-10-29 14:51:51 -0400
nebbiolo1Linux (Ubuntu 24.04.3 LTS) / x86_64  OK    OK    OK  NO, package depends on 'IRanges' which is not available
Package 397/502HostnameOS / ArchINSTALLBUILDCHECKBUILD BIN
S4Vectors 0.49.0  (landing page)
Hervé Pagès
git_last_commit: cead68c
git_last_commit_date: 2025-10-29 14:48:28 -0400
nebbiolo1Linux (Ubuntu 24.04.3 LTS) / x86_64  OK    OK    WARNINGS  YES
Package 398/502HostnameOS / ArchINSTALLBUILDCHECKBUILD BIN
SanityR 1.1.0  (landing page)
Teo Sakel
git_last_commit: 65e0964
git_last_commit_date: 2025-10-29 11:37:07 -0400
nebbiolo1Linux (Ubuntu 24.04.3 LTS) / x86_64  OK    OK    OK  NO, package depends on 'scuttle' which is not available
Package 399/502HostnameOS / ArchINSTALLBUILDCHECKBUILD BIN
saseR 1.7.0  (landing page)
Alexandre Segers
git_last_commit: 7f96081
git_last_commit_date: 2025-10-29 11:27:12 -0400
nebbiolo1Linux (Ubuntu 24.04.3 LTS) / x86_64  OK    OK    WARNINGS  NO, package depends on 'ASpli' which is not available
Package 400/502HostnameOS / ArchINSTALLBUILDCHECKBUILD BIN
SC3 1.39.0  (landing page)
Vladimir Kiselev
git_last_commit: 177cc94
git_last_commit_date: 2025-10-29 10:29:27 -0400
nebbiolo1Linux (Ubuntu 24.04.3 LTS) / x86_64  OK    OK    OK  NO, package depends on 'SummarizedExperiment' which is not available
Package 401/502HostnameOS / ArchINSTALLBUILDCHECKBUILD BIN
SCArray.sat 1.11.0  (landing page)
Xiuwen Zheng
git_last_commit: 10b697d
git_last_commit_date: 2025-10-29 11:22:05 -0400
nebbiolo1Linux (Ubuntu 24.04.3 LTS) / x86_64  OK    ERROR  skipped
Package 402/502HostnameOS / ArchINSTALLBUILDCHECKBUILD BIN
scater 1.39.0  (landing page)
Alan O'Callaghan
git_last_commit: 4ba4420
git_last_commit_date: 2025-10-29 10:30:01 -0400
nebbiolo1Linux (Ubuntu 24.04.3 LTS) / x86_64  OK    OK    OK  NO, package depends on 'SingleCellExperiment' which is not available
Package 403/502HostnameOS / ArchINSTALLBUILDCHECKBUILD BIN
scDblFinder 1.25.0  (landing page)
Pierre-Luc Germain
git_last_commit: dffe1fe
git_last_commit_date: 2025-10-29 10:55:23 -0400
nebbiolo1Linux (Ubuntu 24.04.3 LTS) / x86_64  OK    OK    OK  NO, package depends on 'SingleCellExperiment' which is not available
Package 404/502HostnameOS / ArchINSTALLBUILDCHECKBUILD BIN
scDotPlot 1.5.0  (landing page)
Benjamin I Laufer
git_last_commit: 060123e
git_last_commit_date: 2025-10-29 11:30:47 -0400
nebbiolo1Linux (Ubuntu 24.04.3 LTS) / x86_64  OK    OK    OK  NO, package depends on 'scater' which is not available
Package 405/502HostnameOS / ArchINSTALLBUILDCHECKBUILD BIN
scmap 1.33.0  (landing page)
Vladimir Kiselev
git_last_commit: 4fdff8f
git_last_commit_date: 2025-10-29 10:39:19 -0400
nebbiolo1Linux (Ubuntu 24.04.3 LTS) / x86_64  OK    OK    OK  NO, package depends on 'SingleCellExperiment' which is not available
Package 406/502HostnameOS / ArchINSTALLBUILDCHECKBUILD BIN
scmeth 1.31.0  (landing page)
Divy Kangeyan
git_last_commit: 96dcd92
git_last_commit_date: 2025-10-29 10:43:21 -0400
nebbiolo1Linux (Ubuntu 24.04.3 LTS) / x86_64  OK    ERROR  skipped
Package 407/502HostnameOS / ArchINSTALLBUILDCHECKBUILD BIN
SCnorm 1.33.0  (landing page)
Rhonda Bacher
git_last_commit: 8cf7fc8
git_last_commit_date: 2025-10-29 10:39:47 -0400
nebbiolo1Linux (Ubuntu 24.04.3 LTS) / x86_64  OK    OK    OK  NO, package depends on 'SingleCellExperiment' which is not available
Package 408/502HostnameOS / ArchINSTALLBUILDCHECKBUILD BIN
SCOPE 1.23.0  (landing page)
Rujin Wang
git_last_commit: ba69d58
git_last_commit_date: 2025-10-29 10:56:53 -0400
nebbiolo1Linux (Ubuntu 24.04.3 LTS) / x86_64  ERROR    ERROR  skipped
Package 409/502HostnameOS / ArchINSTALLBUILDCHECKBUILD BIN
scPipe 2.11.0  (landing page)
Shian Su
git_last_commit: fbfb464
git_last_commit_date: 2025-10-29 10:41:32 -0400
nebbiolo1Linux (Ubuntu 24.04.3 LTS) / x86_64  ERROR    ERROR  skipped
Package 410/502HostnameOS / ArchINSTALLBUILDCHECKBUILD BIN
scran 1.39.0  (landing page)
Aaron Lun
git_last_commit: 5b4b8a1
git_last_commit_date: 2025-10-29 10:31:34 -0400
nebbiolo1Linux (Ubuntu 24.04.3 LTS) / x86_64  OK    OK    WARNINGS  NO, package depends on 'SingleCellExperiment' which is not available
Package 411/502HostnameOS / ArchINSTALLBUILDCHECKBUILD BIN
scruff 1.29.0  (landing page)
Zhe Wang
git_last_commit: e5f29bf
git_last_commit_date: 2025-10-29 10:46:27 -0400
nebbiolo1Linux (Ubuntu 24.04.3 LTS) / x86_64  ERROR    ERROR  skipped
Package 412/502HostnameOS / ArchINSTALLBUILDCHECKBUILD BIN
scuttle 1.21.0  (landing page)
Aaron Lun
git_last_commit: 02c9bb0
git_last_commit_date: 2025-10-29 10:59:47 -0400
nebbiolo1Linux (Ubuntu 24.04.3 LTS) / x86_64  OK    OK    OK  NO, package depends on 'SingleCellExperiment' which is not available
Package 413/502HostnameOS / ArchINSTALLBUILDCHECKBUILD BIN
Seqinfo 1.1.0  (landing page)
Hervé Pagès
git_last_commit: 17fc74a
git_last_commit_date: 2025-10-29 14:52:20 -0400
nebbiolo1Linux (Ubuntu 24.04.3 LTS) / x86_64  OK    ERROR  skipped
Package 414/502HostnameOS / ArchINSTALLBUILDCHECKBUILD BIN
SeqVarTools 1.49.0  (landing page)
Stephanie M. Gogarten
git_last_commit: 2d4221b
git_last_commit_date: 2025-10-29 10:15:55 -0400
nebbiolo1Linux (Ubuntu 24.04.3 LTS) / x86_64  OK    OK    OK  NO, package depends on 'SeqArray' which is not available
Package 415/502HostnameOS / ArchINSTALLBUILDCHECKBUILD BIN
sevenC 1.31.0  (landing page)
Jonas Ibn-Salem
git_last_commit: d1682a2
git_last_commit_date: 2025-10-29 10:45:03 -0400
nebbiolo1Linux (Ubuntu 24.04.3 LTS) / x86_64  OK    OK    OK  NO, package depends on 'InteractionSet' which is not available
Package 416/502HostnameOS / ArchINSTALLBUILDCHECKBUILD BIN
SGSeq 1.45.0  (landing page)
Leonard Goldstein
git_last_commit: fef2917
git_last_commit_date: 2025-10-29 10:22:27 -0400
nebbiolo1Linux (Ubuntu 24.04.3 LTS) / x86_64  OK    ERROR  skipped
Package 417/502HostnameOS / ArchINSTALLBUILDCHECKBUILD BIN
SharedObject 1.25.0  (landing page)
Jiefei Wang
git_last_commit: 1ded86d
git_last_commit_date: 2025-10-29 10:54:16 -0400
nebbiolo1Linux (Ubuntu 24.04.3 LTS) / x86_64  OK    OK    WARNINGS  YES
Package 418/502HostnameOS / ArchINSTALLBUILDCHECKBUILD BIN
shinyDSP 1.3.0  (landing page)
Seung J. Kim
git_last_commit: cdbba28
git_last_commit_date: 2025-10-29 11:35:46 -0400
nebbiolo1Linux (Ubuntu 24.04.3 LTS) / x86_64  OK    OK    OK  NO, package depends on 'AnnotationHub' which is not available
Package 419/502HostnameOS / ArchINSTALLBUILDCHECKBUILD BIN
shinyMethyl 1.47.0  (landing page)
Jean-Philippe Fortin
git_last_commit: 64dff78
git_last_commit_date: 2025-10-29 10:20:21 -0400
nebbiolo1Linux (Ubuntu 24.04.3 LTS) / x86_64  OK    ERROR  skipped
Package 420/502HostnameOS / ArchINSTALLBUILDCHECKBUILD BIN
ShortRead 1.69.0  (landing page)
Bioconductor Package Maintainer
git_last_commit: eeb7d58
git_last_commit_date: 2025-10-29 10:00:34 -0400
nebbiolo1Linux (Ubuntu 24.04.3 LTS) / x86_64  OK    OK    WARNINGS  NO, package depends on 'Biostrings' which is not available
Package 421/502HostnameOS / ArchINSTALLBUILDCHECKBUILD BIN
signatureSearch 1.25.0  (landing page)
Brendan Gongol
git_last_commit: 342f9a7
git_last_commit_date: 2025-10-29 10:55:44 -0400
nebbiolo1Linux (Ubuntu 24.04.3 LTS) / x86_64  ERROR    ERROR  skipped
Package 422/502HostnameOS / ArchINSTALLBUILDCHECKBUILD BIN
signeR 2.13.0  (landing page)
Renan Valieris
git_last_commit: 54b8b4d
git_last_commit_date: 2025-10-29 10:34:16 -0400
nebbiolo1Linux (Ubuntu 24.04.3 LTS) / x86_64  OK    OK    ERROR  
Package 423/502HostnameOS / ArchINSTALLBUILDCHECKBUILD BIN
signifinder 1.13.0  (landing page)
Stefania Pirrotta
git_last_commit: 2e1efc9
git_last_commit_date: 2025-10-29 11:19:34 -0400
nebbiolo1Linux (Ubuntu 24.04.3 LTS) / x86_64  ERROR    ERROR  skipped
Package 424/502HostnameOS / ArchINSTALLBUILDCHECKBUILD BIN
simPIC 1.7.0  (landing page)
Sagrika Chugh
git_last_commit: 8f16458
git_last_commit_date: 2025-10-29 11:28:25 -0400
nebbiolo1Linux (Ubuntu 24.04.3 LTS) / x86_64  OK    OK    OK  NO, package depends on 'SingleCellExperiment' which is not available
Package 425/502HostnameOS / ArchINSTALLBUILDCHECKBUILD BIN
SingleCellExperiment 1.33.0  (landing page)
Davide Risso
git_last_commit: bdf6af0
git_last_commit_date: 2025-10-29 10:39:29 -0400
nebbiolo1Linux (Ubuntu 24.04.3 LTS) / x86_64  OK    OK    OK  NO, package depends on 'SummarizedExperiment' which is not available
Package 426/502HostnameOS / ArchINSTALLBUILDCHECKBUILD BIN
SingleMoleculeFootprinting 2.5.0  (landing page)
Guido Barzaghi
git_last_commit: 71598e0
git_last_commit_date: 2025-10-29 11:10:00 -0400
nebbiolo1Linux (Ubuntu 24.04.3 LTS) / x86_64  OK    ERROR  skipped
Package 427/502HostnameOS / ArchINSTALLBUILDCHECKBUILD BIN
sitadela 1.19.0  (landing page)
Panagiotis Moulos
git_last_commit: 45b2af3
git_last_commit_date: 2025-10-29 11:07:04 -0400
nebbiolo1Linux (Ubuntu 24.04.3 LTS) / x86_64  OK    OK    OK  NO, package depends on 'biomaRt' which is not available
Package 428/502HostnameOS / ArchINSTALLBUILDCHECKBUILD BIN
Site2Target 1.3.0  (landing page)
Peyman Zarrineh
git_last_commit: a1401da
git_last_commit_date: 2025-10-29 11:35:26 -0400
nebbiolo1Linux (Ubuntu 24.04.3 LTS) / x86_64  OK    OK    OK  NO, package depends on 'GenomeInfoDb' which is not available
Package 429/502HostnameOS / ArchINSTALLBUILDCHECKBUILD BIN
SNPhood 1.41.0  (landing page)
Christian Arnold
git_last_commit: 4de7497
git_last_commit_date: 2025-10-29 10:28:24 -0400
nebbiolo1Linux (Ubuntu 24.04.3 LTS) / x86_64  OK    OK    OK  NO, package depends on 'GenomicRanges' which is not available
Package 430/502HostnameOS / ArchINSTALLBUILDCHECKBUILD BIN
snpStats 1.61.0  (landing page)
David Clayton
git_last_commit: 733c8c5
git_last_commit_date: 2025-10-29 10:00:16 -0400
nebbiolo1Linux (Ubuntu 24.04.3 LTS) / x86_64  OK    OK    WARNINGS  YES
Package 431/502HostnameOS / ArchINSTALLBUILDCHECKBUILD BIN
soGGi 1.43.0  (landing page)
Tom Carroll
git_last_commit: c0596bd
git_last_commit_date: 2025-10-29 10:25:37 -0400
nebbiolo1Linux (Ubuntu 24.04.3 LTS) / x86_64  OK    OK    ERROR  
Package 432/502HostnameOS / ArchINSTALLBUILDCHECKBUILD BIN
sparrow 1.17.0  (landing page)
Steve Lianoglou
git_last_commit: 03b668b
git_last_commit_date: 2025-10-29 11:12:41 -0400
nebbiolo1Linux (Ubuntu 24.04.3 LTS) / x86_64  OK    OK    ERROR  
Package 433/502HostnameOS / ArchINSTALLBUILDCHECKBUILD BIN
SparseArray 1.11.0  (landing page)
Hervé Pagès
git_last_commit: 3a9f3f1
git_last_commit_date: 2025-10-29 14:43:33 -0400
nebbiolo1Linux (Ubuntu 24.04.3 LTS) / x86_64  OK    OK    ERROR  
Package 434/502HostnameOS / ArchINSTALLBUILDCHECKBUILD BIN
SpatialExperiment 1.21.0  (landing page)
Dario Righelli
git_last_commit: 0414e3b
git_last_commit_date: 2025-10-29 11:00:55 -0400
nebbiolo1Linux (Ubuntu 24.04.3 LTS) / x86_64  OK    OK    OK  NO, package depends on 'SingleCellExperiment' which is not available
Package 435/502HostnameOS / ArchINSTALLBUILDCHECKBUILD BIN
SpatialFeatureExperiment 1.13.0  (landing page)
Lambda Moses
git_last_commit: 06f0dbf
git_last_commit_date: 2025-10-29 11:19:11 -0400
nebbiolo1Linux (Ubuntu 24.04.3 LTS) / x86_64  OK    ERROR  skipped
Package 436/502HostnameOS / ArchINSTALLBUILDCHECKBUILD BIN
spatzie 1.17.0  (landing page)
Jennifer Hammelman
git_last_commit: 3303154
git_last_commit_date: 2025-10-29 11:11:08 -0400
nebbiolo1Linux (Ubuntu 24.04.3 LTS) / x86_64  OK    OK    ERROR  
Package 437/502HostnameOS / ArchINSTALLBUILDCHECKBUILD BIN
Spectra 1.21.0  (landing page)
RforMassSpectrometry Package Maintainer
git_last_commit: 3a71e5d
git_last_commit_date: 2025-10-29 11:01:49 -0400
nebbiolo1Linux (Ubuntu 24.04.3 LTS) / x86_64  OK    OK    OK  NO, package depends on 'IRanges' which is not available
Package 438/502HostnameOS / ArchINSTALLBUILDCHECKBUILD BIN
splatter 1.35.0  (landing page)
Luke Zappia
git_last_commit: 9b5d2a8
git_last_commit_date: 2025-10-29 10:36:34 -0400
nebbiolo1Linux (Ubuntu 24.04.3 LTS) / x86_64  OK    OK    OK  NO, package depends on 'SingleCellExperiment' which is not available
Package 439/502HostnameOS / ArchINSTALLBUILDCHECKBUILD BIN
SpliceWiz 1.13.0  (landing page)
Alex Chit Hei Wong
git_last_commit: 73b017a
git_last_commit_date: 2025-10-29 11:17:35 -0400
nebbiolo1Linux (Ubuntu 24.04.3 LTS) / x86_64  OK    OK    WARNINGS  NO, package depends on 'AnnotationHub' which is not available
Package 440/502HostnameOS / ArchINSTALLBUILDCHECKBUILD BIN
SplicingGraphs 1.51.0  (landing page)
H. Pagès
git_last_commit: 56d6382
git_last_commit_date: 2025-10-29 10:14:47 -0400
nebbiolo1Linux (Ubuntu 24.04.3 LTS) / x86_64  OK    ERROR  skipped
Package 441/502HostnameOS / ArchINSTALLBUILDCHECKBUILD BIN
SplineDV 1.3.0  (landing page)
Shreyan Gupta
git_last_commit: 0bab677
git_last_commit_date: 2025-10-29 11:33:07 -0400
nebbiolo1Linux (Ubuntu 24.04.3 LTS) / x86_64  OK    OK    OK  NO, package depends on 'scuttle' which is not available
Package 442/502HostnameOS / ArchINSTALLBUILDCHECKBUILD BIN
spqn 1.23.0  (landing page)
Yi Wang
git_last_commit: 86a8920
git_last_commit_date: 2025-10-29 10:58:39 -0400
nebbiolo1Linux (Ubuntu 24.04.3 LTS) / x86_64  OK    OK    OK  NO, package depends on 'SummarizedExperiment' which is not available
Package 443/502HostnameOS / ArchINSTALLBUILDCHECKBUILD BIN
SQLDataFrame 1.25.0  (landing page)
Qian Liu
git_last_commit: bef96d3
git_last_commit_date: 2025-10-29 10:52:35 -0400
nebbiolo1Linux (Ubuntu 24.04.3 LTS) / x86_64  OK    OK    ERROR  
Package 444/502HostnameOS / ArchINSTALLBUILDCHECKBUILD BIN
sRACIPE 2.3.0  (landing page)
Mingyang Lu
git_last_commit: 0d22d7b
git_last_commit_date: 2025-10-29 10:51:28 -0400
nebbiolo1Linux (Ubuntu 24.04.3 LTS) / x86_64  OK    OK    OK  NO, package depends on 'SummarizedExperiment' which is not available
Package 445/502HostnameOS / ArchINSTALLBUILDCHECKBUILD BIN
sscu 2.41.0  (landing page)
Yu Sun
git_last_commit: 2db5d27
git_last_commit_date: 2025-10-29 10:31:07 -0400
nebbiolo1Linux (Ubuntu 24.04.3 LTS) / x86_64  OK    OK    WARNINGS  NO, package depends on 'Biostrings' which is not available
Package 446/502HostnameOS / ArchINSTALLBUILDCHECKBUILD BIN
StabMap 1.5.0  (landing page)
Shila Ghazanfar
git_last_commit: 05ee46d
git_last_commit_date: 2025-10-29 11:31:21 -0400
nebbiolo1Linux (Ubuntu 24.04.3 LTS) / x86_64  OK    OK    OK  NO, package depends on 'SummarizedExperiment' which is not available
Package 447/502HostnameOS / ArchINSTALLBUILDCHECKBUILD BIN
standR 1.15.0  (landing page)
Ning Liu
git_last_commit: 9a79065
git_last_commit_date: 2025-10-29 11:16:04 -0400
nebbiolo1Linux (Ubuntu 24.04.3 LTS) / x86_64  OK    OK    OK  NO, package depends on 'SpatialExperiment' which is not available
Package 448/502HostnameOS / ArchINSTALLBUILDCHECKBUILD BIN
strandCheckR 1.29.0  (landing page)
Thu-Hien To
git_last_commit: b8130fd
git_last_commit_date: 2025-10-29 10:46:35 -0400
nebbiolo1Linux (Ubuntu 24.04.3 LTS) / x86_64  ERROR    ERROR  skipped
Package 449/502HostnameOS / ArchINSTALLBUILDCHECKBUILD BIN
Structstrings 1.27.0  (landing page)
Felix G.M. Ernst
git_last_commit: 983c850
git_last_commit_date: 2025-10-29 10:50:44 -0400
nebbiolo1Linux (Ubuntu 24.04.3 LTS) / x86_64  OK    OK    OK  NO, package depends on 'IRanges' which is not available
Package 450/502HostnameOS / ArchINSTALLBUILDCHECKBUILD BIN
StructuralVariantAnnotation 1.27.0  (landing page)
Daniel Cameron
git_last_commit: 72cd374
git_last_commit_date: 2025-10-29 10:52:25 -0400
nebbiolo1Linux (Ubuntu 24.04.3 LTS) / x86_64  OK    ERROR  skipped
Package 451/502HostnameOS / ArchINSTALLBUILDCHECKBUILD BIN
SummarizedExperiment 1.41.0  (landing page)
Hervé Pagès
git_last_commit: 7a9787c
git_last_commit_date: 2025-10-29 14:49:30 -0400
nebbiolo1Linux (Ubuntu 24.04.3 LTS) / x86_64  OK    OK    ERROR  
Package 452/502HostnameOS / ArchINSTALLBUILDCHECKBUILD BIN
svaNUMT 1.17.0  (landing page)
Ruining Dong
git_last_commit: 798135e
git_last_commit_date: 2025-10-29 11:10:38 -0400
nebbiolo1Linux (Ubuntu 24.04.3 LTS) / x86_64  OK    ERROR  skipped
Package 453/502HostnameOS / ArchINSTALLBUILDCHECKBUILD BIN
svaRetro 1.17.0  (landing page)
Ruining Dong
git_last_commit: be18f25
git_last_commit_date: 2025-10-29 11:11:45 -0400
nebbiolo1Linux (Ubuntu 24.04.3 LTS) / x86_64  OK    ERROR  skipped
Package 454/502HostnameOS / ArchINSTALLBUILDCHECKBUILD BIN
SVP 1.3.0  (landing page)
Shuangbin Xu
git_last_commit: 2a95c79
git_last_commit_date: 2025-10-29 11:35:05 -0400
nebbiolo1Linux (Ubuntu 24.04.3 LTS) / x86_64  OK    OK    OK  NO, package depends on 'SummarizedExperiment' which is not available
Package 455/502HostnameOS / ArchINSTALLBUILDCHECKBUILD BIN
SynMut 1.27.0  (landing page)
Haogao Gu
git_last_commit: 0bb1b93
git_last_commit_date: 2025-10-29 10:51:59 -0400
nebbiolo1Linux (Ubuntu 24.04.3 LTS) / x86_64  OK    OK    OK  NO, package depends on 'Biostrings' which is not available
Package 456/502HostnameOS / ArchINSTALLBUILDCHECKBUILD BIN
systemPipeR 2.17.0  (landing page)
Thomas Girke
git_last_commit: 378a792
git_last_commit_date: 2025-10-29 10:21:27 -0400
nebbiolo1Linux (Ubuntu 24.04.3 LTS) / x86_64  OK    OK    ERROR  
Package 457/502HostnameOS / ArchINSTALLBUILDCHECKBUILD BIN
tadar 1.9.0  (landing page)
Lachlan Baer
git_last_commit: 7b05448
git_last_commit_date: 2025-10-29 11:25:24 -0400
nebbiolo1Linux (Ubuntu 24.04.3 LTS) / x86_64  OK    OK    OK  NO, package depends on 'GenomicRanges' which is not available
Package 458/502HostnameOS / ArchINSTALLBUILDCHECKBUILD BIN
TAPseq 1.23.0  (landing page)
Andreas R. Gschwind
git_last_commit: 8fcac6c
git_last_commit_date: 2025-10-29 10:57:19 -0400
nebbiolo1Linux (Ubuntu 24.04.3 LTS) / x86_64  OK    ERROR  skipped
Package 459/502HostnameOS / ArchINSTALLBUILDCHECKBUILD BIN
target 1.25.0  (landing page)
Mahmoud Ahmed
git_last_commit: fd1fceb
git_last_commit_date: 2025-10-29 10:55:00 -0400
nebbiolo1Linux (Ubuntu 24.04.3 LTS) / x86_64  OK    OK    OK  NO, package depends on 'GenomicRanges' which is not available
Package 460/502HostnameOS / ArchINSTALLBUILDCHECKBUILD BIN
TCGAutils 1.31.0  (landing page)
Marcel Ramos
git_last_commit: 4b0da87
git_last_commit_date: 2025-10-29 10:45:09 -0400
nebbiolo1Linux (Ubuntu 24.04.3 LTS) / x86_64  ERROR    ERROR  skipped
Package 461/502HostnameOS / ArchINSTALLBUILDCHECKBUILD BIN
TCseq 1.35.0  (landing page)
Mengjun Wu
git_last_commit: 049f241
git_last_commit_date: 2025-10-29 10:36:13 -0400
nebbiolo1Linux (Ubuntu 24.04.3 LTS) / x86_64  OK    OK    WARNINGS  NO, package depends on 'GenomicRanges' which is not available
Package 462/502HostnameOS / ArchINSTALLBUILDCHECKBUILD BIN
TENxIO 1.13.0  (landing page)
Marcel Ramos
git_last_commit: e1cb3c4
git_last_commit_date: 2025-10-29 11:19:24 -0400
nebbiolo1Linux (Ubuntu 24.04.3 LTS) / x86_64  OK    OK    OK  NO, package depends on 'SingleCellExperiment' which is not available
Package 463/502HostnameOS / ArchINSTALLBUILDCHECKBUILD BIN
TEQC 4.33.0  (landing page)
Sarah Bonnin
git_last_commit: bd3d4b2
git_last_commit_date: 2025-10-29 10:06:21 -0400
nebbiolo1Linux (Ubuntu 24.04.3 LTS) / x86_64  OK    OK    WARNINGS  NO, package depends on 'IRanges' which is not available
Package 464/502HostnameOS / ArchINSTALLBUILDCHECKBUILD BIN
TFBSTools 1.49.0  (landing page)
Ge Tan
git_last_commit: d5d1319
git_last_commit_date: 2025-10-29 10:16:59 -0400
nebbiolo1Linux (Ubuntu 24.04.3 LTS) / x86_64  OK    OK    ERROR  
Package 465/502HostnameOS / ArchINSTALLBUILDCHECKBUILD BIN
tidySpatialExperiment 1.7.0  (landing page)
William Hutchison
git_last_commit: d6a75cf
git_last_commit_date: 2025-10-29 11:27:28 -0400
nebbiolo1Linux (Ubuntu 24.04.3 LTS) / x86_64  OK    OK    ERROR  
Package 466/502HostnameOS / ArchINSTALLBUILDCHECKBUILD BIN
tigre 1.65.0  (landing page)
Antti Honkela
git_last_commit: 4b818eb
git_last_commit_date: 2025-10-29 10:04:43 -0400
nebbiolo1Linux (Ubuntu 24.04.3 LTS) / x86_64  OK    ERROR  skipped
Package 467/502HostnameOS / ArchINSTALLBUILDCHECKBUILD BIN
topdownr 1.33.0  (landing page)
Sebastian Gibb
git_last_commit: 3979e4f
git_last_commit_date: 2025-10-29 10:41:42 -0400
nebbiolo1Linux (Ubuntu 24.04.3 LTS) / x86_64  OK    OK    OK  NO, package depends on 'Biostrings' which is not available
Package 468/502HostnameOS / ArchINSTALLBUILDCHECKBUILD BIN
topGO 2.63.0  (landing page)
Federico Marini
git_last_commit: 35ec429
git_last_commit_date: 2025-10-29 09:59:04 -0400
nebbiolo1Linux (Ubuntu 24.04.3 LTS) / x86_64  OK    ERROR  skipped
Package 469/502HostnameOS / ArchINSTALLBUILDCHECKBUILD BIN
ToxicoGx 2.15.0  (landing page)
Benjamin Haibe-Kains
git_last_commit: 0781b14
git_last_commit_date: 2025-10-29 11:00:15 -0400
nebbiolo1Linux (Ubuntu 24.04.3 LTS) / x86_64  OK    OK    OK  NO, package depends on 'CoreGx' which is not available
Package 470/502HostnameOS / ArchINSTALLBUILDCHECKBUILD BIN
trackViewer 1.47.0  (landing page)
Jianhong Ou
git_last_commit: c2b7d9b
git_last_commit_date: 2025-10-29 10:17:52 -0400
nebbiolo1Linux (Ubuntu 24.04.3 LTS) / x86_64  OK    OK    OK  NO, package depends on 'GenomicRanges' which is not available
Package 471/502HostnameOS / ArchINSTALLBUILDCHECKBUILD BIN
transcriptR 1.39.0  (landing page)
Armen R. Karapetyan
git_last_commit: 24cea71
git_last_commit_date: 2025-10-29 10:29:09 -0400
nebbiolo1Linux (Ubuntu 24.04.3 LTS) / x86_64  OK    OK    ERROR  
Package 472/502HostnameOS / ArchINSTALLBUILDCHECKBUILD BIN
transite 1.29.0  (landing page)
Konstantin Krismer
git_last_commit: 9302edb
git_last_commit_date: 2025-10-29 10:48:14 -0400
nebbiolo1Linux (Ubuntu 24.04.3 LTS) / x86_64  OK    OK    OK  NO, package depends on 'Biostrings' which is not available
Package 473/502HostnameOS / ArchINSTALLBUILDCHECKBUILD BIN
TreeSummarizedExperiment 2.19.0  (landing page)
Ruizhu Huang
git_last_commit: d592bc4
git_last_commit_date: 2025-10-29 10:52:27 -0400
nebbiolo1Linux (Ubuntu 24.04.3 LTS) / x86_64  OK    OK    OK  NO, package depends on 'SingleCellExperiment' which is not available
Package 474/502HostnameOS / ArchINSTALLBUILDCHECKBUILD BIN
tRNA 1.29.0  (landing page)
Felix GM Ernst
git_last_commit: c4fadc0
git_last_commit_date: 2025-10-29 10:48:20 -0400
nebbiolo1Linux (Ubuntu 24.04.3 LTS) / x86_64  OK    OK    OK  NO, package depends on 'GenomicRanges' which is not available
Package 475/502HostnameOS / ArchINSTALLBUILDCHECKBUILD BIN
tRNAscanImport 1.31.0  (landing page)
Felix G.M. Ernst
git_last_commit: f9f96ff
git_last_commit_date: 2025-10-29 10:43:40 -0400
nebbiolo1Linux (Ubuntu 24.04.3 LTS) / x86_64  OK    ERROR  skipped
Package 476/502HostnameOS / ArchINSTALLBUILDCHECKBUILD BIN
TVTB 1.37.0  (landing page)
Kevin Rue-Albrecht
git_last_commit: 7c8a13b
git_last_commit_date: 2025-10-29 10:35:21 -0400
nebbiolo1Linux (Ubuntu 24.04.3 LTS) / x86_64  OK    ERROR  skipped
Package 477/502HostnameOS / ArchINSTALLBUILDCHECKBUILD BIN
txcutr 1.17.0  (landing page)
Mervin Fansler
git_last_commit: 8127801
git_last_commit_date: 2025-10-29 11:13:37 -0400
nebbiolo1Linux (Ubuntu 24.04.3 LTS) / x86_64  OK    ERROR  skipped
Package 478/502HostnameOS / ArchINSTALLBUILDCHECKBUILD BIN
txdbmaker 1.7.0  (landing page)
H. Pagès
git_last_commit: 9bfc034
git_last_commit_date: 2025-10-29 14:49:40 -0400
nebbiolo1Linux (Ubuntu 24.04.3 LTS) / x86_64  OK    ERROR  skipped
Package 479/502HostnameOS / ArchINSTALLBUILDCHECKBUILD BIN
Ularcirc 1.29.0  (landing page)
David Humphreys
git_last_commit: ff1d0ee
git_last_commit_date: 2025-10-29 10:45:47 -0400
nebbiolo1Linux (Ubuntu 24.04.3 LTS) / x86_64  ERROR    ERROR  skipped
Package 480/502HostnameOS / ArchINSTALLBUILDCHECKBUILD BIN
UMI4Cats 1.21.0  (landing page)
Mireia Ramos-Rodriguez
git_last_commit: f049a0a
git_last_commit_date: 2025-10-29 11:01:19 -0400
nebbiolo1Linux (Ubuntu 24.04.3 LTS) / x86_64  OK    ERROR  skipped
Package 481/502HostnameOS / ArchINSTALLBUILDCHECKBUILD BIN
UNDO 1.53.0  (landing page)
Niya Wang
git_last_commit: a43bf55
git_last_commit_date: 2025-10-29 10:18:39 -0400
nebbiolo1Linux (Ubuntu 24.04.3 LTS) / x86_64  OK    OK    OK  YES
Package 482/502HostnameOS / ArchINSTALLBUILDCHECKBUILD BIN
unifiedWMWqPCR 1.47.0  (landing page)
Joris Meys
git_last_commit: 2c20907
git_last_commit_date: 2025-10-29 10:18:11 -0400
nebbiolo1Linux (Ubuntu 24.04.3 LTS) / x86_64  OK    OK    OK  YES
Package 483/502HostnameOS / ArchINSTALLBUILDCHECKBUILD BIN
UniProt.ws 2.51.0  (landing page)
Marcel Ramos
git_last_commit: 0cc8c13
git_last_commit_date: 2025-10-29 10:12:47 -0400
nebbiolo1Linux (Ubuntu 24.04.3 LTS) / x86_64  OK    OK    OK  NO, package depends on 'AnnotationDbi' which is not available
Package 484/502HostnameOS / ArchINSTALLBUILDCHECKBUILD BIN
universalmotif 1.29.0  (landing page)
Benjamin Jean-Marie Tremblay
git_last_commit: 6692d9a
git_last_commit_date: 2025-10-29 10:48:50 -0400
nebbiolo1Linux (Ubuntu 24.04.3 LTS) / x86_64  OK    ERROR  skipped
Package 485/502HostnameOS / ArchINSTALLBUILDCHECKBUILD BIN
updateObject 1.15.0  (landing page)
Hervé Pagès
git_last_commit: 13c59ea
git_last_commit_date: 2025-10-29 14:44:40 -0400
nebbiolo1Linux (Ubuntu 24.04.3 LTS) / x86_64  OK    OK    OK  YES
Package 486/502HostnameOS / ArchINSTALLBUILDCHECKBUILD BIN
uSORT 1.37.0  (landing page)
Hao Chen
git_last_commit: 8b952fe
git_last_commit_date: 2025-10-29 10:34:29 -0400
nebbiolo1Linux (Ubuntu 24.04.3 LTS) / x86_64  OK    OK    WARNINGS  YES
Package 487/502HostnameOS / ArchINSTALLBUILDCHECKBUILD BIN
VanillaICE 1.73.0  (landing page)
Robert Scharpf
git_last_commit: 22bb99f
git_last_commit_date: 2025-10-29 09:59:52 -0400
nebbiolo1Linux (Ubuntu 24.04.3 LTS) / x86_64  ERROR    ERROR  skipped
Package 488/502HostnameOS / ArchINSTALLBUILDCHECKBUILD BIN
VariantAnnotation 1.57.0  (landing page)
Bioconductor Package Maintainer
git_last_commit: 0da7ddb
git_last_commit_date: 2025-10-29 10:08:24 -0400
nebbiolo1Linux (Ubuntu 24.04.3 LTS) / x86_64  OK    ERROR  skipped
Package 489/502HostnameOS / ArchINSTALLBUILDCHECKBUILD BIN
VariantFiltering 1.47.0  (landing page)
Robert Castelo
git_last_commit: 270d88d
git_last_commit_date: 2025-10-29 10:19:08 -0400
nebbiolo1Linux (Ubuntu 24.04.3 LTS) / x86_64  OK    ERROR  skipped
Package 490/502HostnameOS / ArchINSTALLBUILDCHECKBUILD BIN
VariantTools 1.53.0  (landing page)
Michael Lawrence
git_last_commit: 4083347
git_last_commit_date: 2025-10-29 10:12:36 -0400
nebbiolo1Linux (Ubuntu 24.04.3 LTS) / x86_64  OK    ERROR  skipped
Package 491/502HostnameOS / ArchINSTALLBUILDCHECKBUILD BIN
VCFArray 1.27.0  (landing page)
Qian Liu
git_last_commit: c9fb606
git_last_commit_date: 2025-10-29 10:49:16 -0400
nebbiolo1Linux (Ubuntu 24.04.3 LTS) / x86_64  OK    OK    OK  NO, package depends on 'DelayedArray' which is not available
Package 492/502HostnameOS / ArchINSTALLBUILDCHECKBUILD BIN
velociraptor 1.21.0  (landing page)
Kevin Rue-Albrecht
git_last_commit: b6ed8f8
git_last_commit_date: 2025-10-29 11:02:39 -0400
nebbiolo1Linux (Ubuntu 24.04.3 LTS) / x86_64  OK    OK    OK  NO, package depends on 'SummarizedExperiment' which is not available
Package 493/502HostnameOS / ArchINSTALLBUILDCHECKBUILD BIN
VisiumIO 1.7.0  (landing page)
Marcel Ramos
git_last_commit: 459a588
git_last_commit_date: 2025-10-29 11:27:23 -0400
nebbiolo1Linux (Ubuntu 24.04.3 LTS) / x86_64  OK    OK    OK  NO, package depends on 'TENxIO' which is not available
Package 494/502HostnameOS / ArchINSTALLBUILDCHECKBUILD BIN
visiumStitched 1.3.0  (landing page)
Nicholas J. Eagles
git_last_commit: 829e946
git_last_commit_date: 2025-10-29 11:33:12 -0400
nebbiolo1Linux (Ubuntu 24.04.3 LTS) / x86_64  OK    OK    OK  NO, package depends on 'SpatialExperiment' which is not available
Package 495/502HostnameOS / ArchINSTALLBUILDCHECKBUILD BIN
wavClusteR 2.45.0  (landing page)
Federico Comoglio
git_last_commit: f078fce
git_last_commit_date: 2025-10-29 10:19:50 -0400
nebbiolo1Linux (Ubuntu 24.04.3 LTS) / x86_64  ERROR    ERROR  skipped
Package 496/502HostnameOS / ArchINSTALLBUILDCHECKBUILD BIN
weitrix 1.23.0  (landing page)
Paul Harrison
git_last_commit: 0187a17
git_last_commit_date: 2025-10-29 10:59:24 -0400
nebbiolo1Linux (Ubuntu 24.04.3 LTS) / x86_64  OK    ERROR  skipped
Package 497/502HostnameOS / ArchINSTALLBUILDCHECKBUILD BIN
xcms 4.9.0  (landing page)
Steffen Neumann
git_last_commit: 3321e90
git_last_commit_date: 2025-10-29 09:56:19 -0400
nebbiolo1Linux (Ubuntu 24.04.3 LTS) / x86_64  OK    OK    OK  NO, package depends on 'MSnbase' which is not available
Package 498/502HostnameOS / ArchINSTALLBUILDCHECKBUILD BIN
XDE 2.57.0  (landing page)
Robert Scharpf
git_last_commit: b5fcf9b
git_last_commit_date: 2025-10-29 10:00:04 -0400
nebbiolo1Linux (Ubuntu 24.04.3 LTS) / x86_64  OK    OK    WARNINGS  NO, package depends on 'genefilter' which is not available
Package 499/502HostnameOS / ArchINSTALLBUILDCHECKBUILD BIN
XeniumIO 1.3.0  (landing page)
Marcel Ramos
git_last_commit: dfaaa90
git_last_commit_date: 2025-10-29 11:34:29 -0400
nebbiolo1Linux (Ubuntu 24.04.3 LTS) / x86_64  OK    OK    OK  NO, package depends on 'TENxIO' which is not available
Package 500/502HostnameOS / ArchINSTALLBUILDCHECKBUILD BIN
XVector 0.51.0  (landing page)
Hervé Pagès
git_last_commit: c527085
git_last_commit_date: 2025-10-29 10:14:52 -0400
nebbiolo1Linux (Ubuntu 24.04.3 LTS) / x86_64  OK    OK    ERROR  
Package 501/502HostnameOS / ArchINSTALLBUILDCHECKBUILD BIN
yamss 1.37.0  (landing page)
Leslie Myint
git_last_commit: 9695dd5
git_last_commit_date: 2025-10-29 10:35:27 -0400
nebbiolo1Linux (Ubuntu 24.04.3 LTS) / x86_64  OK    OK    OK  NO, package depends on 'SummarizedExperiment' which is not available
Package 502/502HostnameOS / ArchINSTALLBUILDCHECKBUILD BIN
zitools 1.5.0  (landing page)
Carlotta Meyring
git_last_commit: 822919b
git_last_commit_date: 2025-10-29 11:30:43 -0400
nebbiolo1Linux (Ubuntu 24.04.3 LTS) / x86_64  OK    OK    WARNINGS  NO, package depends on 'phyloseq' which is not available