Back to Multiple platform build/check report for BioC 3.22:   simplified   long
[A]BCDEFGHIJKLMNOPQRSTUVWXYZ

This page was generated on 2025-10-15 12:05 -0400 (Wed, 15 Oct 2025).

HostnameOSArch (*)R versionInstalled pkgs
nebbiolo2Linux (Ubuntu 24.04.3 LTS)x86_644.5.1 Patched (2025-08-23 r88802) -- "Great Square Root" 4866
lconwaymacOS 12.7.6 Montereyx86_644.5.1 Patched (2025-09-10 r88807) -- "Great Square Root" 4653
kjohnson3macOS 13.7.7 Venturaarm644.5.1 Patched (2025-09-10 r88807) -- "Great Square Root" 4598
taishanLinux (openEuler 24.03 LTS)aarch644.5.0 (2025-04-11) -- "How About a Twenty-Six" 4610
Click on any hostname to see more info about the system (e.g. compilers)      (*) as reported by 'uname -p', except on Windows and Mac OS X

Package 117/2346HostnameOS / ArchINSTALLBUILDCHECKBUILD BIN
autonomics 1.17.16  (landing page)
Aditya Bhagwat
Snapshot Date: 2025-10-14 13:45 -0400 (Tue, 14 Oct 2025)
git_url: https://git.bioconductor.org/packages/autonomics
git_branch: devel
git_last_commit: ca513f9
git_last_commit_date: 2025-10-03 08:57:56 -0400 (Fri, 03 Oct 2025)
nebbiolo2Linux (Ubuntu 24.04.3 LTS) / x86_64  OK    OK    OK  UNNEEDED, same version is already published
lconwaymacOS 12.7.6 Monterey / x86_64  OK    OK    OK    OK  UNNEEDED, same version is already published
kjohnson3macOS 13.7.7 Ventura / arm64  OK    OK    OK    OK  UNNEEDED, same version is already published
taishanLinux (openEuler 24.03 LTS) / aarch64  OK    OK    TIMEOUT  


CHECK results for autonomics on kjohnson3

To the developers/maintainers of the autonomics package:
- Allow up to 24 hours (and sometimes 48 hours) for your latest push to git@git.bioconductor.org:packages/autonomics.git to reflect on this report. See Troubleshooting Build Report for more information.
- Use the following Renviron settings to reproduce errors and warnings.
- If 'R CMD check' started to fail recently on the Linux builder(s) over a missing dependency, add the missing dependency to 'Suggests:' in your DESCRIPTION file. See Renviron.bioc for more information.

raw results


Summary

Package: autonomics
Version: 1.17.16
Command: /Library/Frameworks/R.framework/Resources/bin/R CMD check --install=check:autonomics.install-out.txt --library=/Library/Frameworks/R.framework/Resources/library --no-vignettes --timings autonomics_1.17.16.tar.gz
StartedAt: 2025-10-14 18:53:32 -0400 (Tue, 14 Oct 2025)
EndedAt: 2025-10-14 19:00:10 -0400 (Tue, 14 Oct 2025)
EllapsedTime: 398.7 seconds
RetCode: 0
Status:   OK  
CheckDir: autonomics.Rcheck
Warnings: 0

Command output

##############################################################################
##############################################################################
###
### Running command:
###
###   /Library/Frameworks/R.framework/Resources/bin/R CMD check --install=check:autonomics.install-out.txt --library=/Library/Frameworks/R.framework/Resources/library --no-vignettes --timings autonomics_1.17.16.tar.gz
###
##############################################################################
##############################################################################


* using log directory ‘/Users/biocbuild/bbs-3.22-bioc/meat/autonomics.Rcheck’
* using R version 4.5.1 Patched (2025-09-10 r88807)
* using platform: aarch64-apple-darwin20
* R was compiled by
    Apple clang version 16.0.0 (clang-1600.0.26.6)
    GNU Fortran (GCC) 14.2.0
* running under: macOS Ventura 13.7.7
* using session charset: UTF-8
* using option ‘--no-vignettes’
* checking for file ‘autonomics/DESCRIPTION’ ... OK
* checking extension type ... Package
* this is package ‘autonomics’ version ‘1.17.16’
* package encoding: UTF-8
* checking package namespace information ... OK
* checking package dependencies ... INFO
Imports includes 32 non-default packages.
Importing from so many packages makes the package vulnerable to any of
them becoming unavailable.  Move as many as possible to Suggests and
use conditionally.
* checking if this is a source package ... OK
* checking if there is a namespace ... OK
* checking for hidden files and directories ... NOTE
Found the following hidden files and directories:
  .BBSoptions
These were most likely included in error. See section ‘Package
structure’ in the ‘Writing R Extensions’ manual.
* checking for portable file names ... OK
* checking for sufficient/correct file permissions ... OK
* checking whether package ‘autonomics’ can be installed ... OK
* checking installed package size ... OK
* checking package directory ... OK
* checking ‘build’ directory ... OK
* checking DESCRIPTION meta-information ... OK
* checking top-level files ... OK
* checking for left-over files ... OK
* checking index information ... OK
* checking package subdirectories ... OK
* checking code files for non-ASCII characters ... OK
* checking R files for syntax errors ... OK
* checking whether the package can be loaded ... OK
* checking whether the package can be loaded with stated dependencies ... OK
* checking whether the package can be unloaded cleanly ... OK
* checking whether the namespace can be loaded with stated dependencies ... OK
* checking whether the namespace can be unloaded cleanly ... OK
* checking dependencies in R code ... OK
* checking S3 generic/method consistency ... OK
* checking replacement functions ... OK
* checking foreign function calls ... OK
* checking R code for possible problems ... OK
* checking Rd files ... OK
* checking Rd metadata ... OK
* checking Rd cross-references ... NOTE
Non-topic package-anchored link(s) in Rd file 'reexports.Rd':
  ‘[magrittr:compound]{%<>%}’ ‘[magrittr:pipe]{%>%}’
  ‘[magrittr:aliases]{extract}’

See section 'Cross-references' in the 'Writing R Extensions' manual.
* checking for missing documentation entries ... OK
* checking for code/documentation mismatches ... OK
* checking Rd \usage sections ... OK
* checking Rd contents ... OK
* checking for unstated dependencies in examples ... OK
* checking files in ‘vignettes’ ... OK
* checking examples ... OK
Examples with CPU (user + system) or elapsed time > 5s
                           user system elapsed
write_xl                 53.366  2.613  58.481
read_diann_proteingroups 34.138  0.948  35.892
awblinmod                12.461  0.076  13.151
read_rnaseq_counts        9.289  0.837  10.468
rm_diann_contaminants     6.951  0.237   7.400
LINMOD                    7.033  0.103   7.265
default_formula           5.881  0.255   6.163
plot_exprs                6.043  0.059   6.475
plot_exprs_per_coef       5.758  0.025   6.040
* checking for unstated dependencies in ‘tests’ ... OK
* checking tests ...
  Running ‘testthat.R’
 OK
* checking for unstated dependencies in vignettes ... OK
* checking package vignettes ... OK
* checking running R code from vignettes ... SKIPPED
* checking re-building of vignette outputs ... SKIPPED
* checking PDF version of manual ... OK
* DONE

Status: 2 NOTEs
See
  ‘/Users/biocbuild/bbs-3.22-bioc/meat/autonomics.Rcheck/00check.log’
for details.


Installation output

autonomics.Rcheck/00install.out

##############################################################################
##############################################################################
###
### Running command:
###
###   /Library/Frameworks/R.framework/Resources/bin/R CMD INSTALL autonomics
###
##############################################################################
##############################################################################


* installing to library ‘/Library/Frameworks/R.framework/Versions/4.5-arm64/Resources/library’
* installing *source* package ‘autonomics’ ...
** this is package ‘autonomics’ version ‘1.17.16’
** using staged installation
** R
** inst
** byte-compile and prepare package for lazy loading
Note: wrong number of arguments to 'seq_along' 
Note: wrong number of arguments to 'sqrt' 
** help
*** installing help indices
** building package indices
** installing vignettes
** testing if installed package can be loaded from temporary location
** testing if installed package can be loaded from final location
** testing if installed package keeps a record of temporary installation path
* DONE (autonomics)

Tests output

autonomics.Rcheck/tests/testthat.Rout


R version 4.5.1 Patched (2025-09-10 r88807) -- "Great Square Root"
Copyright (C) 2025 The R Foundation for Statistical Computing
Platform: aarch64-apple-darwin20

R is free software and comes with ABSOLUTELY NO WARRANTY.
You are welcome to redistribute it under certain conditions.
Type 'license()' or 'licence()' for distribution details.

R is a collaborative project with many contributors.
Type 'contributors()' for more information and
'citation()' on how to cite R or R packages in publications.

Type 'demo()' for some demos, 'help()' for on-line help, or
'help.start()' for an HTML browser interface to help.
Type 'q()' to quit R.

> library(testthat)
> library(autonomics)

Attaching package: 'autonomics'

The following objects are masked from 'package:stats':

    biplot, loadings

The following object is masked from 'package:base':

    beta

> 
> test_check("autonomics")
[ FAIL 0 | WARN 3 | SKIP 0 | PASS 158 ]

[ FAIL 0 | WARN 3 | SKIP 0 | PASS 158 ]
> 
> proc.time()
   user  system elapsed 
 52.168   3.240  57.753 

Example timings

autonomics.Rcheck/autonomics-Ex.timings

nameusersystemelapsed
AUTONOMICS_DATASETS000
COMPOUNDDISCOVERER_PATTERNS000
LINMOD7.0330.1037.265
LINMODENGINES000
MAXQUANT_PATTERNS000
TAXON_TO_ORGNAME000
TESTS000
X0.3530.0150.369
abstract_fit0.2920.0160.309
add_adjusted_pvalues0.1660.0040.171
add_assay_means0.1110.0020.113
add_facetvars0.4030.0150.430
add_opentargets_by_uniprot0.1280.0020.134
add_psp0.1560.0030.168
add_smiles0.1450.0140.190
all_non_numeric0.1720.0010.180
analysis0.1210.0020.124
analyze3.9500.0514.071
annotate_maxquant0.3270.0200.356
annotate_uniprot_rest0.0310.0072.292
assert_is_valid_sumexp0.2240.0130.237
awblinmod12.461 0.07613.151
biplot1.1270.0171.161
biplot_corrections1.0430.0151.107
biplot_covariates2.0740.0172.248
block2limma0.0010.0000.001
block2lm0.0010.0000.001
block2lme0.0010.0010.001
block2lmer0.0010.0000.001
block_has_two_levels0.2020.0160.247
center0.5660.0060.574
code1.3990.0171.511
collapsed_entrezg_to_symbol0.3040.0180.336
contrast_subgroup_cols0.1950.0150.222
contrastdt0.1690.0010.171
count_in0.0010.0000.001
counts0.1130.0010.118
counts2cpm0.1080.0000.111
counts2tpm0.0820.0000.082
cpm0.1020.0010.103
create_design0.2170.0140.235
default_formula5.8810.2556.163
default_geom0.1550.0250.186
default_sfile0.0010.0010.001
demultiplex0.0040.0000.005
densities0.0720.0080.080
dequantify0.0010.0000.001
dequantify_compounddiscoverer000
dot-coxph0.1620.0130.191
dot-merge0.0080.0000.009
dot-read_maxquant_proteingroups0.0460.0020.048
download_data0.0010.0000.001
download_gtf000
download_mcclain210.0000.0010.001
dt2mat0.0020.0000.002
enrichment0.3430.0020.366
entrezg_to_symbol0.0510.0010.053
explore-transforms2.9660.0283.036
extract_contrast_features1.3180.0191.348
extract_rectangle0.0440.0130.056
factor.vars0.050.000.05
factorize0.2380.0040.242
fcluster2.8640.0163.046
fcor0.5130.0100.532
fdata0.1590.0030.164
fdr2p0.3040.0150.373
filter_exprs_replicated_in_some_subgroup0.2980.0140.339
filter_features0.1670.0150.222
filter_medoid0.1690.0010.175
filter_samples0.1860.0150.212
fit_survival3.2860.0723.477
fits0.0920.0010.094
fix_xlgenes000
flevels0.1200.0020.133
fnames0.1300.0020.145
formula2str000
ftype2.5910.1173.280
fvalues0.1560.0020.159
fvars0.1250.0010.131
genome_to_orgdb0.0000.0010.000
group_by_level000
guess_compounddiscoverer_quantity0.0010.0000.000
guess_fitsep0.1300.0010.137
guess_maxquant_quantity0.0020.0000.002
guess_sep0.1700.0170.220
has_multiple_levels0.0220.0000.023
hdlproteins0.0200.0090.030
impute1.0630.0111.132
invert_subgroups0.1750.0030.179
is_character_matrix0.0710.0000.071
is_collapsed_subset000
is_compounddiscoverer_output0.0270.0080.075
is_correlation_matrix000
is_diann_report0.0580.0050.063
is_fastadt0.0210.0010.021
is_file0.0000.0000.001
is_fraction0.0010.0000.000
is_fragpipe_tsv0.0490.0050.048
is_imputed0.2120.0030.222
is_maxquant_phosphosites0.0310.0030.030
is_maxquant_proteingroups0.0330.0030.031
is_positive_number0.0010.0000.000
is_scalar_subset0.0920.0020.093
is_sig0.4150.0030.429
is_valid_formula0.0140.0010.016
keep_estimable_features0.2670.0140.325
label2index000
list2mat0.0000.0000.001
log2counts0.0870.0000.087
log2cpm0.0850.0000.089
log2diffs0.1270.0020.132
log2proteins0.0940.0020.097
log2sites0.0900.0010.099
log2tpm0.0840.0010.084
log2transform1.5500.0141.651
logical2factor0.0010.0000.001
make_alpha_palette0.1530.0130.254
make_colors0.0050.0000.004
make_volcano_dt0.8300.0180.877
map_fvalues0.1170.0030.132
matrix2sumexp0.3030.0200.394
mclust_breaks0.1860.0190.219
merge_sample_file0.1760.0040.201
merge_sdata0.1600.0210.249
message_df0.0010.0000.001
model_coefs0.2240.0130.265
modelvar0.9080.0201.054
object10.1500.0020.162
order_on_p0.3910.0170.464
overall_parameters0.0080.0010.009
pca0.9440.0221.011
pg_to_canonical0.0020.0000.002
plot_coef_densities0.3990.0170.488
plot_contrast_venn0.6340.0190.865
plot_contrastogram0.9540.0511.100
plot_data0.5260.0210.603
plot_densities3.0540.1263.327
plot_design0.2120.0030.225
plot_detections2.1940.0122.284
plot_exprs6.0430.0596.475
plot_exprs_per_coef5.7580.0256.040
plot_fit_summary0.6580.0330.737
plot_heatmap0.5800.0030.583
plot_matrix0.1740.0140.189
plot_subgroup_points1.7610.0201.825
plot_summary3.9270.0234.080
plot_venn0.0090.0010.009
plot_venn_heatmap0.0080.0000.008
plot_violins1.5050.0471.661
plot_volcano4.0710.0414.242
plot_xy_density2.0400.0112.144
preprocess_rnaseq_counts0.0920.0010.098
pull_columns0.0000.0000.001
pvalues_estimable0.0100.0020.013
read_affymetrix000
read_diann_proteingroups34.138 0.94835.892
read_fragpipe2.3800.0952.561
read_maxquant_phosphosites0.4560.0110.478
read_maxquant_proteingroups0.3620.0060.388
read_metabolon3.6340.0253.850
read_msigdt0.0010.0000.001
read_olink0.4810.0230.554
read_rectangles0.0630.0070.070
read_rnaseq_counts 9.289 0.83710.468
read_salmon000
read_somascan3.9130.0154.103
read_uniprotdt0.1040.0070.114
reset_fit1.3670.0331.530
rm_diann_contaminants6.9510.2377.400
rm_missing_in_some_samples0.1540.0150.169
rm_unmatched_samples0.2190.0050.224
sbind1.3180.0071.331
scaledlibsizes0.0940.0010.099
scoremat0.2750.0140.306
slevels0.1250.0010.126
snames0.1220.0010.125
split_extract_fixed0.1850.0120.219
split_samples0.3770.0140.412
stepauc0.1040.0010.106
stri_any_regex0.0010.0000.000
stri_detect_fixed_in_collapsed0.1020.0020.105
subgroup_matrix0.1900.0130.213
subtract_baseline1.5730.0291.690
sumexp_to_longdt0.6130.0280.668
sumexp_to_tsv0.1460.0020.150
sumexplist_to_longdt0.4810.0060.494
summarize_fit0.5370.0140.574
survobj0.0430.0000.043
svalues0.1220.0020.123
svars0.1180.0010.119
systematic_nas0.2100.0020.219
tag_features0.4330.0140.450
tag_hdlproteins0.2200.0140.235
taxon2org0.0010.0000.000
tpm0.1020.0010.103
uncollapse0.0090.0000.009
values0.1250.0010.128
varlevels_dont_clash0.0080.0010.010
venn_detects0.2110.0020.216
weights0.0960.0010.098
write_xl53.366 2.61358.481
zero_to_na0.0010.0010.002