| Back to Multiple platform build/check report for BioC 3.23: simplified long |
|
This page was generated on 2025-11-21 11:37 -0500 (Fri, 21 Nov 2025).
| Hostname | OS | Arch (*) | R version | Installed pkgs |
|---|---|---|---|---|
| nebbiolo1 | Linux (Ubuntu 24.04.3 LTS) | x86_64 | R Under development (unstable) (2025-10-20 r88955) -- "Unsuffered Consequences" | 4829 |
| lconway | macOS 12.7.6 Monterey | x86_64 | R Under development (unstable) (2025-10-21 r88958) -- "Unsuffered Consequences" | 4602 |
| kjohnson3 | macOS 13.7.7 Ventura | arm64 | R Under development (unstable) (2025-11-04 r88984) -- "Unsuffered Consequences" | 4566 |
| Click on any hostname to see more info about the system (e.g. compilers) (*) as reported by 'uname -p', except on Windows and Mac OS X | ||||
| Package 120/2327 | Hostname | OS / Arch | INSTALL | BUILD | CHECK | BUILD BIN | ||||||||
| autonomics 1.19.0 (landing page) Aditya Bhagwat
| nebbiolo1 | Linux (Ubuntu 24.04.3 LTS) / x86_64 | OK | OK | OK | |||||||||
| lconway | macOS 12.7.6 Monterey / x86_64 | OK | OK | OK | OK | |||||||||
| kjohnson3 | macOS 13.7.7 Ventura / arm64 | OK | OK | OK | OK | |||||||||
|
To the developers/maintainers of the autonomics package: - Allow up to 24 hours (and sometimes 48 hours) for your latest push to git@git.bioconductor.org:packages/autonomics.git to reflect on this report. See Troubleshooting Build Report for more information. - Use the following Renviron settings to reproduce errors and warnings. - If 'R CMD check' started to fail recently on the Linux builder(s) over a missing dependency, add the missing dependency to 'Suggests:' in your DESCRIPTION file. See Renviron.bioc for more information. |
| Package: autonomics |
| Version: 1.19.0 |
| Command: /home/biocbuild/bbs-3.23-bioc/R/bin/R CMD check --install=check:autonomics.install-out.txt --library=/home/biocbuild/bbs-3.23-bioc/R/site-library --timings autonomics_1.19.0.tar.gz |
| StartedAt: 2025-11-20 21:09:28 -0500 (Thu, 20 Nov 2025) |
| EndedAt: 2025-11-20 21:29:12 -0500 (Thu, 20 Nov 2025) |
| EllapsedTime: 1183.5 seconds |
| RetCode: 0 |
| Status: OK |
| CheckDir: autonomics.Rcheck |
| Warnings: 0 |
##############################################################################
##############################################################################
###
### Running command:
###
### /home/biocbuild/bbs-3.23-bioc/R/bin/R CMD check --install=check:autonomics.install-out.txt --library=/home/biocbuild/bbs-3.23-bioc/R/site-library --timings autonomics_1.19.0.tar.gz
###
##############################################################################
##############################################################################
* using log directory ‘/home/biocbuild/bbs-3.23-bioc/meat/autonomics.Rcheck’
* using R Under development (unstable) (2025-10-20 r88955)
* using platform: x86_64-pc-linux-gnu
* R was compiled by
gcc (Ubuntu 13.3.0-6ubuntu2~24.04) 13.3.0
GNU Fortran (Ubuntu 13.3.0-6ubuntu2~24.04) 13.3.0
* running under: Ubuntu 24.04.3 LTS
* using session charset: UTF-8
* checking for file ‘autonomics/DESCRIPTION’ ... OK
* checking extension type ... Package
* this is package ‘autonomics’ version ‘1.19.0’
* package encoding: UTF-8
* checking package namespace information ... OK
* checking package dependencies ... INFO
Imports includes 32 non-default packages.
Importing from so many packages makes the package vulnerable to any of
them becoming unavailable. Move as many as possible to Suggests and
use conditionally.
* checking if this is a source package ... OK
* checking if there is a namespace ... OK
* checking for hidden files and directories ... NOTE
Found the following hidden files and directories:
.BBSoptions
These were most likely included in error. See section ‘Package
structure’ in the ‘Writing R Extensions’ manual.
* checking for portable file names ... OK
* checking for sufficient/correct file permissions ... OK
* checking whether package ‘autonomics’ can be installed ... OK
* checking installed package size ... OK
* checking package directory ... OK
* checking ‘build’ directory ... OK
* checking DESCRIPTION meta-information ... OK
* checking top-level files ... OK
* checking for left-over files ... OK
* checking index information ... OK
* checking package subdirectories ... OK
* checking code files for non-ASCII characters ... OK
* checking R files for syntax errors ... OK
* checking whether the package can be loaded ... OK
* checking whether the package can be loaded with stated dependencies ... OK
* checking whether the package can be unloaded cleanly ... OK
* checking whether the namespace can be loaded with stated dependencies ... OK
* checking whether the namespace can be unloaded cleanly ... OK
* checking loading without being on the library search path ... OK
* checking dependencies in R code ... OK
* checking S3 generic/method consistency ... OK
* checking replacement functions ... OK
* checking foreign function calls ... OK
* checking R code for possible problems ... OK
* checking Rd files ... OK
* checking Rd metadata ... OK
* checking Rd cross-references ... NOTE
Non-topic package-anchored link(s) in Rd file 'reexports.Rd':
‘[magrittr:compound]{%<>%}’ ‘[magrittr:pipe]{%>%}’
‘[magrittr:aliases]{extract}’
See section 'Cross-references' in the 'Writing R Extensions' manual.
* checking for missing documentation entries ... OK
* checking for code/documentation mismatches ... OK
* checking Rd \usage sections ... OK
* checking Rd contents ... OK
* checking for unstated dependencies in examples ... OK
* checking files in ‘vignettes’ ... OK
* checking examples ... OK
Examples with CPU (user + system) or elapsed time > 5s
user system elapsed
write_xl 161.921 1.629 163.448
read_diann_proteingroups 99.212 1.238 95.657
awblinmod 40.905 0.247 39.535
read_rnaseq_counts 29.872 2.300 31.809
LINMOD 23.818 0.559 23.853
plot_exprs 21.914 0.116 21.905
rm_diann_contaminants 21.179 0.335 20.157
default_formula 18.422 0.437 18.393
plot_exprs_per_coef 18.271 0.018 18.215
analyze 13.467 0.176 13.547
plot_volcano 12.634 0.141 12.720
read_metabolon 12.496 0.029 12.426
read_somascan 12.415 0.084 12.448
plot_summary 12.068 0.035 12.012
fit_survival 11.213 0.088 11.303
plot_densities 10.211 0.085 10.158
explore-transforms 9.855 0.068 9.927
fcluster 9.171 0.061 9.139
ftype 8.301 0.105 8.093
plot_detections 7.674 0.057 7.653
read_fragpipe 7.089 0.131 6.923
biplot_covariates 6.757 0.042 6.762
plot_xy_density 6.025 0.024 6.049
plot_subgroup_points 5.272 0.032 5.264
subtract_baseline 4.976 0.028 4.915
* checking for unstated dependencies in ‘tests’ ... OK
* checking tests ...
Running ‘testthat.R’
OK
* checking for unstated dependencies in vignettes ... OK
* checking package vignettes ... OK
* checking re-building of vignette outputs ... OK
* checking PDF version of manual ... OK
* DONE
Status: 2 NOTEs
See
‘/home/biocbuild/bbs-3.23-bioc/meat/autonomics.Rcheck/00check.log’
for details.
autonomics.Rcheck/00install.out
############################################################################## ############################################################################## ### ### Running command: ### ### /home/biocbuild/bbs-3.23-bioc/R/bin/R CMD INSTALL autonomics ### ############################################################################## ############################################################################## * installing to library ‘/home/biocbuild/bbs-3.23-bioc/R/site-library’ * installing *source* package ‘autonomics’ ... ** this is package ‘autonomics’ version ‘1.19.0’ ** using staged installation ** R ** inst ** byte-compile and prepare package for lazy loading Note: wrong number of arguments to 'seq_along' Note: wrong number of arguments to 'sqrt' ** help *** installing help indices ** building package indices ** installing vignettes ** testing if installed package can be loaded from temporary location ** testing if installed package can be loaded from final location ** testing if installed package keeps a record of temporary installation path * DONE (autonomics)
autonomics.Rcheck/tests/testthat.Rout
R Under development (unstable) (2025-10-20 r88955) -- "Unsuffered Consequences"
Copyright (C) 2025 The R Foundation for Statistical Computing
Platform: x86_64-pc-linux-gnu
R is free software and comes with ABSOLUTELY NO WARRANTY.
You are welcome to redistribute it under certain conditions.
Type 'license()' or 'licence()' for distribution details.
R is a collaborative project with many contributors.
Type 'contributors()' for more information and
'citation()' on how to cite R or R packages in publications.
Type 'demo()' for some demos, 'help()' for on-line help, or
'help.start()' for an HTML browser interface to help.
Type 'q()' to quit R.
> library(testthat)
> library(autonomics)
Attaching package: 'autonomics'
The following objects are masked from 'package:stats':
biplot, loadings
The following object is masked from 'package:base':
beta
>
> test_check("autonomics")
[ FAIL 0 | WARN 3 | SKIP 0 | PASS 158 ]
[ FAIL 0 | WARN 3 | SKIP 0 | PASS 158 ]
>
> proc.time()
user system elapsed
142.655 4.343 144.713
autonomics.Rcheck/autonomics-Ex.timings
| name | user | system | elapsed | |
| AUTONOMICS_DATASETS | 0.000 | 0.001 | 0.000 | |
| COMPOUNDDISCOVERER_PATTERNS | 0.000 | 0.000 | 0.001 | |
| LINMOD | 23.818 | 0.559 | 23.853 | |
| LINMODENGINES | 0.000 | 0.001 | 0.000 | |
| MAXQUANT_PATTERNS | 0 | 0 | 0 | |
| TAXON_TO_ORGNAME | 0.001 | 0.000 | 0.001 | |
| TESTS | 0 | 0 | 0 | |
| X | 1.189 | 0.017 | 1.175 | |
| abstract_fit | 1.041 | 0.016 | 1.018 | |
| add_adjusted_pvalues | 0.534 | 0.028 | 0.563 | |
| add_assay_means | 0.353 | 0.021 | 0.375 | |
| add_facetvars | 1.381 | 0.040 | 1.380 | |
| add_opentargets_by_uniprot | 0.353 | 0.002 | 0.357 | |
| add_psp | 0.470 | 0.013 | 0.484 | |
| add_smiles | 0.459 | 0.014 | 0.439 | |
| all_non_numeric | 0.569 | 0.017 | 0.586 | |
| analysis | 0.366 | 0.016 | 0.382 | |
| analyze | 13.467 | 0.176 | 13.547 | |
| annotate_maxquant | 0.826 | 0.044 | 0.871 | |
| annotate_uniprot_rest | 0.313 | 0.012 | 1.447 | |
| assert_is_valid_sumexp | 0.543 | 0.016 | 0.537 | |
| awblinmod | 40.905 | 0.247 | 39.535 | |
| biplot | 3.746 | 0.035 | 3.744 | |
| biplot_corrections | 3.478 | 0.021 | 3.476 | |
| biplot_covariates | 6.757 | 0.042 | 6.762 | |
| block2limma | 0.002 | 0.000 | 0.002 | |
| block2lm | 0.003 | 0.000 | 0.003 | |
| block2lme | 0.002 | 0.000 | 0.003 | |
| block2lmer | 0.004 | 0.000 | 0.004 | |
| block_has_two_levels | 0.623 | 0.012 | 0.599 | |
| center | 1.811 | 0.003 | 1.810 | |
| code | 4.81 | 0.08 | 4.87 | |
| collapsed_entrezg_to_symbol | 0.902 | 0.059 | 0.961 | |
| contrast_subgroup_cols | 0.581 | 0.014 | 0.573 | |
| contrastdt | 0.561 | 0.004 | 0.564 | |
| count_in | 0.000 | 0.001 | 0.002 | |
| counts | 0.338 | 0.002 | 0.341 | |
| counts2cpm | 0.292 | 0.000 | 0.292 | |
| counts2tpm | 0.292 | 0.000 | 0.292 | |
| cpm | 0.348 | 0.000 | 0.349 | |
| create_design | 0.691 | 0.018 | 0.687 | |
| default_formula | 18.422 | 0.437 | 18.393 | |
| default_geom | 0.489 | 0.011 | 0.472 | |
| default_sfile | 0.002 | 0.000 | 0.002 | |
| demultiplex | 0.013 | 0.000 | 0.014 | |
| densities | 0.264 | 0.004 | 0.268 | |
| dequantify | 0.002 | 0.001 | 0.002 | |
| dequantify_compounddiscoverer | 0.001 | 0.000 | 0.001 | |
| dot-coxph | 0.361 | 0.010 | 0.370 | |
| dot-merge | 0.018 | 0.002 | 0.020 | |
| dot-read_maxquant_proteingroups | 0.109 | 0.001 | 0.111 | |
| download_data | 0.000 | 0.001 | 0.001 | |
| download_gtf | 0.000 | 0.001 | 0.000 | |
| download_mcclain21 | 0.000 | 0.001 | 0.000 | |
| dt2mat | 0.003 | 0.000 | 0.003 | |
| enrichment | 1.219 | 0.002 | 1.224 | |
| entrezg_to_symbol | 0.137 | 0.001 | 0.140 | |
| explore-transforms | 9.855 | 0.068 | 9.927 | |
| extract_contrast_features | 4.456 | 0.024 | 4.459 | |
| extract_rectangle | 0.114 | 0.017 | 0.131 | |
| factor.vars | 0.175 | 0.004 | 0.180 | |
| factorize | 0.784 | 0.015 | 0.800 | |
| fcluster | 9.171 | 0.061 | 9.139 | |
| fcor | 1.465 | 0.027 | 1.492 | |
| fdata | 0.556 | 0.008 | 0.564 | |
| fdr2p | 0.954 | 0.008 | 0.924 | |
| filter_exprs_replicated_in_some_subgroup | 1.096 | 0.016 | 0.984 | |
| filter_features | 0.534 | 0.006 | 0.500 | |
| filter_medoid | 0.618 | 0.000 | 0.619 | |
| filter_samples | 0.540 | 0.009 | 0.524 | |
| fit_survival | 11.213 | 0.088 | 11.303 | |
| fits | 0.318 | 0.002 | 0.320 | |
| fix_xlgenes | 0.002 | 0.000 | 0.002 | |
| flevels | 0.380 | 0.003 | 0.384 | |
| fnames | 0.484 | 0.003 | 0.488 | |
| formula2str | 0 | 0 | 0 | |
| ftype | 8.301 | 0.105 | 8.093 | |
| fvalues | 0.389 | 0.001 | 0.390 | |
| fvars | 0.366 | 0.003 | 0.369 | |
| genome_to_orgdb | 0.001 | 0.000 | 0.001 | |
| group_by_level | 0.000 | 0.002 | 0.001 | |
| guess_compounddiscoverer_quantity | 0.000 | 0.001 | 0.001 | |
| guess_fitsep | 0.501 | 0.001 | 0.502 | |
| guess_maxquant_quantity | 0.005 | 0.001 | 0.006 | |
| guess_sep | 0.480 | 0.016 | 0.457 | |
| has_multiple_levels | 0.056 | 0.000 | 0.056 | |
| hdlproteins | 0.039 | 0.016 | 0.059 | |
| impute | 3.409 | 0.018 | 3.428 | |
| invert_subgroups | 0.627 | 0.004 | 0.631 | |
| is_character_matrix | 0.142 | 0.000 | 0.141 | |
| is_collapsed_subset | 0.000 | 0.001 | 0.001 | |
| is_compounddiscoverer_output | 0.111 | 0.068 | 0.263 | |
| is_correlation_matrix | 0.002 | 0.000 | 0.002 | |
| is_diann_report | 0.176 | 0.007 | 0.117 | |
| is_fastadt | 0.072 | 0.001 | 0.062 | |
| is_file | 0.000 | 0.001 | 0.000 | |
| is_fraction | 0.001 | 0.000 | 0.002 | |
| is_fragpipe_tsv | 0.138 | 0.005 | 0.089 | |
| is_imputed | 0.768 | 0.001 | 0.759 | |
| is_maxquant_phosphosites | 0.084 | 0.007 | 0.065 | |
| is_maxquant_proteingroups | 0.085 | 0.003 | 0.060 | |
| is_positive_number | 0.001 | 0.001 | 0.002 | |
| is_scalar_subset | 0.296 | 0.003 | 0.299 | |
| is_sig | 1.365 | 0.004 | 1.369 | |
| is_valid_formula | 0.040 | 0.002 | 0.043 | |
| keep_estimable_features | 0.774 | 0.016 | 0.746 | |
| label2index | 0.000 | 0.000 | 0.001 | |
| list2mat | 0.001 | 0.000 | 0.001 | |
| log2counts | 0.325 | 0.001 | 0.326 | |
| log2cpm | 0.295 | 0.001 | 0.296 | |
| log2diffs | 0.302 | 0.002 | 0.304 | |
| log2proteins | 0.304 | 0.002 | 0.306 | |
| log2sites | 0.368 | 0.001 | 0.370 | |
| log2tpm | 0.300 | 0.000 | 0.301 | |
| log2transform | 4.927 | 0.030 | 4.957 | |
| logical2factor | 0.001 | 0.000 | 0.001 | |
| make_alpha_palette | 0.505 | 0.010 | 0.477 | |
| make_colors | 0.008 | 0.001 | 0.010 | |
| make_volcano_dt | 0.855 | 0.002 | 0.857 | |
| map_fvalues | 0.367 | 0.004 | 0.372 | |
| matrix2sumexp | 1.014 | 0.015 | 0.998 | |
| mclust_breaks | 0.531 | 0.021 | 0.552 | |
| merge_sample_file | 0.539 | 0.003 | 0.541 | |
| merge_sdata | 0.586 | 0.021 | 0.567 | |
| message_df | 0.003 | 0.000 | 0.003 | |
| model_coefs | 0.763 | 0.014 | 0.737 | |
| modelvar | 3.453 | 0.030 | 3.413 | |
| object1 | 0.693 | 0.005 | 0.699 | |
| order_on_p | 1.358 | 0.012 | 1.344 | |
| overall_parameters | 0.027 | 0.000 | 0.027 | |
| pca | 3.225 | 0.014 | 3.215 | |
| pg_to_canonical | 0.006 | 0.000 | 0.006 | |
| plot_coef_densities | 1.346 | 0.011 | 1.330 | |
| plot_contrast_venn | 2.436 | 0.052 | 2.405 | |
| plot_contrastogram | 2.885 | 0.029 | 2.837 | |
| plot_data | 1.668 | 0.014 | 1.651 | |
| plot_densities | 10.211 | 0.085 | 10.158 | |
| plot_design | 0.908 | 0.003 | 0.911 | |
| plot_detections | 7.674 | 0.057 | 7.653 | |
| plot_exprs | 21.914 | 0.116 | 21.905 | |
| plot_exprs_per_coef | 18.271 | 0.018 | 18.215 | |
| plot_fit_summary | 2.044 | 0.013 | 2.004 | |
| plot_heatmap | 1.771 | 0.001 | 1.772 | |
| plot_matrix | 0.478 | 0.008 | 0.464 | |
| plot_subgroup_points | 5.272 | 0.032 | 5.264 | |
| plot_summary | 12.068 | 0.035 | 12.012 | |
| plot_venn | 0.013 | 0.003 | 0.016 | |
| plot_venn_heatmap | 0.051 | 0.000 | 0.051 | |
| plot_violins | 4.495 | 0.023 | 4.481 | |
| plot_volcano | 12.634 | 0.141 | 12.720 | |
| plot_xy_density | 6.025 | 0.024 | 6.049 | |
| preprocess_rnaseq_counts | 0.301 | 0.001 | 0.302 | |
| pull_columns | 0.002 | 0.000 | 0.002 | |
| pvalues_estimable | 0.036 | 0.004 | 0.041 | |
| read_affymetrix | 0 | 0 | 0 | |
| read_diann_proteingroups | 99.212 | 1.238 | 95.657 | |
| read_fragpipe | 7.089 | 0.131 | 6.923 | |
| read_maxquant_phosphosites | 1.571 | 0.043 | 1.614 | |
| read_maxquant_proteingroups | 1.179 | 0.008 | 1.188 | |
| read_metabolon | 12.496 | 0.029 | 12.426 | |
| read_msigdt | 0.000 | 0.001 | 0.001 | |
| read_olink | 1.350 | 0.023 | 1.287 | |
| read_rectangles | 0.170 | 0.007 | 0.178 | |
| read_rnaseq_counts | 29.872 | 2.300 | 31.809 | |
| read_salmon | 0 | 0 | 0 | |
| read_somascan | 12.415 | 0.084 | 12.448 | |
| read_uniprotdt | 0.392 | 0.032 | 0.432 | |
| reset_fit | 4.434 | 0.076 | 4.426 | |
| rm_diann_contaminants | 21.179 | 0.335 | 20.157 | |
| rm_missing_in_some_samples | 0.523 | 0.015 | 0.507 | |
| rm_unmatched_samples | 0.696 | 0.001 | 0.696 | |
| sbind | 4.536 | 0.072 | 4.608 | |
| scaledlibsizes | 0.314 | 0.002 | 0.316 | |
| scoremat | 0.888 | 0.015 | 0.880 | |
| slevels | 0.388 | 0.004 | 0.392 | |
| snames | 0.406 | 0.004 | 0.409 | |
| split_extract_fixed | 0.548 | 0.012 | 0.538 | |
| split_samples | 1.193 | 0.012 | 1.183 | |
| stepauc | 0.312 | 0.001 | 0.313 | |
| stri_any_regex | 0.000 | 0.000 | 0.001 | |
| stri_detect_fixed_in_collapsed | 0.351 | 0.004 | 0.354 | |
| subgroup_matrix | 0.608 | 0.016 | 0.600 | |
| subtract_baseline | 4.976 | 0.028 | 4.915 | |
| sumexp_to_longdt | 1.927 | 0.048 | 1.870 | |
| sumexp_to_tsv | 0.491 | 0.003 | 0.493 | |
| sumexplist_to_longdt | 1.628 | 0.061 | 1.688 | |
| summarize_fit | 1.694 | 0.034 | 1.621 | |
| survobj | 0.141 | 0.000 | 0.141 | |
| svalues | 0.384 | 0.003 | 0.387 | |
| svars | 0.433 | 0.003 | 0.437 | |
| systematic_nas | 0.511 | 0.002 | 0.513 | |
| tag_features | 0.979 | 0.036 | 1.015 | |
| tag_hdlproteins | 0.498 | 0.012 | 0.510 | |
| taxon2org | 0.001 | 0.000 | 0.001 | |
| tpm | 0.401 | 0.002 | 0.403 | |
| uncollapse | 0.029 | 0.000 | 0.029 | |
| values | 0.408 | 0.004 | 0.412 | |
| varlevels_dont_clash | 0.021 | 0.000 | 0.021 | |
| venn_detects | 0.522 | 0.005 | 0.527 | |
| weights | 0.377 | 0.003 | 0.380 | |
| write_xl | 161.921 | 1.629 | 163.448 | |
| zero_to_na | 0.001 | 0.000 | 0.002 | |