Back to Multiple platform build/check report for BioC 3.22: simplified long |
|
This page was generated on 2025-10-15 12:03 -0400 (Wed, 15 Oct 2025).
Hostname | OS | Arch (*) | R version | Installed pkgs |
---|---|---|---|---|
nebbiolo2 | Linux (Ubuntu 24.04.3 LTS) | x86_64 | 4.5.1 Patched (2025-08-23 r88802) -- "Great Square Root" | 4866 |
lconway | macOS 12.7.6 Monterey | x86_64 | 4.5.1 Patched (2025-09-10 r88807) -- "Great Square Root" | 4653 |
kjohnson3 | macOS 13.7.7 Ventura | arm64 | 4.5.1 Patched (2025-09-10 r88807) -- "Great Square Root" | 4598 |
taishan | Linux (openEuler 24.03 LTS) | aarch64 | 4.5.0 (2025-04-11) -- "How About a Twenty-Six" | 4610 |
Click on any hostname to see more info about the system (e.g. compilers) (*) as reported by 'uname -p', except on Windows and Mac OS X |
Package 117/2346 | Hostname | OS / Arch | INSTALL | BUILD | CHECK | BUILD BIN | ||||||||
autonomics 1.17.16 (landing page) Aditya Bhagwat
| nebbiolo2 | Linux (Ubuntu 24.04.3 LTS) / x86_64 | OK | OK | OK | ![]() | ||||||||
lconway | macOS 12.7.6 Monterey / x86_64 | OK | OK | OK | OK | ![]() | ||||||||
kjohnson3 | macOS 13.7.7 Ventura / arm64 | OK | OK | OK | OK | ![]() | ||||||||
taishan | Linux (openEuler 24.03 LTS) / aarch64 | OK | OK | TIMEOUT | ||||||||||
To the developers/maintainers of the autonomics package: - Allow up to 24 hours (and sometimes 48 hours) for your latest push to git@git.bioconductor.org:packages/autonomics.git to reflect on this report. See Troubleshooting Build Report for more information. - Use the following Renviron settings to reproduce errors and warnings. - If 'R CMD check' started to fail recently on the Linux builder(s) over a missing dependency, add the missing dependency to 'Suggests:' in your DESCRIPTION file. See Renviron.bioc for more information. |
Package: autonomics |
Version: 1.17.16 |
Command: /home/biocbuild/bbs-3.22-bioc/R/bin/R CMD check --install=check:autonomics.install-out.txt --library=/home/biocbuild/bbs-3.22-bioc/R/site-library --timings autonomics_1.17.16.tar.gz |
StartedAt: 2025-10-14 21:08:15 -0400 (Tue, 14 Oct 2025) |
EndedAt: 2025-10-14 21:31:42 -0400 (Tue, 14 Oct 2025) |
EllapsedTime: 1406.8 seconds |
RetCode: 0 |
Status: OK |
CheckDir: autonomics.Rcheck |
Warnings: 0 |
############################################################################## ############################################################################## ### ### Running command: ### ### /home/biocbuild/bbs-3.22-bioc/R/bin/R CMD check --install=check:autonomics.install-out.txt --library=/home/biocbuild/bbs-3.22-bioc/R/site-library --timings autonomics_1.17.16.tar.gz ### ############################################################################## ############################################################################## * using log directory ‘/home/biocbuild/bbs-3.22-bioc/meat/autonomics.Rcheck’ * using R version 4.5.1 Patched (2025-08-23 r88802) * using platform: x86_64-pc-linux-gnu * R was compiled by gcc (Ubuntu 13.3.0-6ubuntu2~24.04) 13.3.0 GNU Fortran (Ubuntu 13.3.0-6ubuntu2~24.04) 13.3.0 * running under: Ubuntu 24.04.3 LTS * using session charset: UTF-8 * checking for file ‘autonomics/DESCRIPTION’ ... OK * checking extension type ... Package * this is package ‘autonomics’ version ‘1.17.16’ * package encoding: UTF-8 * checking package namespace information ... OK * checking package dependencies ... INFO Imports includes 32 non-default packages. Importing from so many packages makes the package vulnerable to any of them becoming unavailable. Move as many as possible to Suggests and use conditionally. * checking if this is a source package ... OK * checking if there is a namespace ... OK * checking for hidden files and directories ... NOTE Found the following hidden files and directories: .BBSoptions These were most likely included in error. See section ‘Package structure’ in the ‘Writing R Extensions’ manual. * checking for portable file names ... OK * checking for sufficient/correct file permissions ... OK * checking whether package ‘autonomics’ can be installed ... OK * checking installed package size ... OK * checking package directory ... OK * checking ‘build’ directory ... OK * checking DESCRIPTION meta-information ... OK * checking top-level files ... OK * checking for left-over files ... OK * checking index information ... OK * checking package subdirectories ... OK * checking code files for non-ASCII characters ... OK * checking R files for syntax errors ... OK * checking whether the package can be loaded ... OK * checking whether the package can be loaded with stated dependencies ... OK * checking whether the package can be unloaded cleanly ... OK * checking whether the namespace can be loaded with stated dependencies ... OK * checking whether the namespace can be unloaded cleanly ... OK * checking loading without being on the library search path ... OK * checking dependencies in R code ... OK * checking S3 generic/method consistency ... OK * checking replacement functions ... OK * checking foreign function calls ... OK * checking R code for possible problems ... OK * checking Rd files ... OK * checking Rd metadata ... OK * checking Rd cross-references ... NOTE Non-topic package-anchored link(s) in Rd file 'reexports.Rd': ‘[magrittr:compound]{%<>%}’ ‘[magrittr:pipe]{%>%}’ ‘[magrittr:aliases]{extract}’ See section 'Cross-references' in the 'Writing R Extensions' manual. * checking for missing documentation entries ... OK * checking for code/documentation mismatches ... OK * checking Rd \usage sections ... OK * checking Rd contents ... OK * checking for unstated dependencies in examples ... OK * checking files in ‘vignettes’ ... OK * checking examples ... OK Examples with CPU (user + system) or elapsed time > 5s user system elapsed read_diann_proteingroups 375.055 5.167 111.054 write_xl 209.828 2.017 229.796 rm_diann_contaminants 80.432 0.739 25.242 awblinmod 40.630 0.071 39.395 ftype 38.920 0.103 9.080 read_rnaseq_counts 35.012 1.194 30.616 LINMOD 25.169 0.372 23.648 default_formula 24.614 0.362 17.845 plot_exprs 24.322 0.126 20.401 plot_exprs_per_coef 19.622 0.013 19.564 plot_contrastogram 18.280 0.038 3.166 read_somascan 15.143 0.135 14.936 plot_volcano 14.055 0.065 14.023 analyze 13.268 0.106 13.224 plot_summary 13.055 0.034 12.991 read_metabolon 12.820 0.077 12.776 plot_densities 11.154 0.076 9.376 fit_survival 10.555 0.025 10.583 explore-transforms 9.926 0.005 9.932 fcluster 9.263 0.006 9.129 plot_subgroup_points 7.636 0.023 5.900 read_fragpipe 7.420 0.057 5.588 plot_detections 7.460 0.013 7.411 plot_xy_density 6.825 0.020 6.922 biplot_covariates 6.684 0.030 6.693 subtract_baseline 5.613 0.055 5.001 reset_fit 5.182 0.047 5.091 sbind 4.831 0.176 5.007 * checking for unstated dependencies in ‘tests’ ... OK * checking tests ... Running ‘testthat.R’ OK * checking for unstated dependencies in vignettes ... OK * checking package vignettes ... OK * checking re-building of vignette outputs ... OK * checking PDF version of manual ... OK * DONE Status: 2 NOTEs See ‘/home/biocbuild/bbs-3.22-bioc/meat/autonomics.Rcheck/00check.log’ for details.
autonomics.Rcheck/00install.out
############################################################################## ############################################################################## ### ### Running command: ### ### /home/biocbuild/bbs-3.22-bioc/R/bin/R CMD INSTALL autonomics ### ############################################################################## ############################################################################## * installing to library ‘/home/biocbuild/bbs-3.22-bioc/R/site-library’ * installing *source* package ‘autonomics’ ... ** this is package ‘autonomics’ version ‘1.17.16’ ** using staged installation ** R ** inst ** byte-compile and prepare package for lazy loading Note: wrong number of arguments to 'seq_along' Note: wrong number of arguments to 'sqrt' ** help *** installing help indices ** building package indices ** installing vignettes ** testing if installed package can be loaded from temporary location ** testing if installed package can be loaded from final location ** testing if installed package keeps a record of temporary installation path * DONE (autonomics)
autonomics.Rcheck/tests/testthat.Rout
R version 4.5.1 Patched (2025-08-23 r88802) -- "Great Square Root" Copyright (C) 2025 The R Foundation for Statistical Computing Platform: x86_64-pc-linux-gnu R is free software and comes with ABSOLUTELY NO WARRANTY. You are welcome to redistribute it under certain conditions. Type 'license()' or 'licence()' for distribution details. R is a collaborative project with many contributors. Type 'contributors()' for more information and 'citation()' on how to cite R or R packages in publications. Type 'demo()' for some demos, 'help()' for on-line help, or 'help.start()' for an HTML browser interface to help. Type 'q()' to quit R. > library(testthat) > library(autonomics) Attaching package: 'autonomics' The following objects are masked from 'package:stats': biplot, loadings The following object is masked from 'package:base': beta > > test_check("autonomics") [ FAIL 0 | WARN 3 | SKIP 0 | PASS 158 ] [ FAIL 0 | WARN 3 | SKIP 0 | PASS 158 ] > > proc.time() user system elapsed 268.449 5.718 230.146
autonomics.Rcheck/autonomics-Ex.timings
name | user | system | elapsed | |
AUTONOMICS_DATASETS | 0.001 | 0.000 | 0.000 | |
COMPOUNDDISCOVERER_PATTERNS | 0.001 | 0.000 | 0.000 | |
LINMOD | 25.169 | 0.372 | 23.648 | |
LINMODENGINES | 0 | 0 | 0 | |
MAXQUANT_PATTERNS | 0 | 0 | 0 | |
TAXON_TO_ORGNAME | 0 | 0 | 0 | |
TESTS | 0 | 0 | 0 | |
X | 1.199 | 0.009 | 1.171 | |
abstract_fit | 0.995 | 0.028 | 0.985 | |
add_adjusted_pvalues | 0.490 | 0.006 | 0.497 | |
add_assay_means | 0.330 | 0.003 | 0.334 | |
add_facetvars | 1.355 | 0.010 | 1.333 | |
add_opentargets_by_uniprot | 0.356 | 0.008 | 0.365 | |
add_psp | 0.477 | 0.013 | 0.491 | |
add_smiles | 0.461 | 0.004 | 0.427 | |
all_non_numeric | 0.568 | 0.001 | 0.569 | |
analysis | 0.445 | 0.004 | 0.449 | |
analyze | 13.268 | 0.106 | 13.224 | |
annotate_maxquant | 0.862 | 0.014 | 0.876 | |
annotate_uniprot_rest | 1.239 | 0.109 | 2.995 | |
assert_is_valid_sumexp | 0.542 | 0.009 | 0.513 | |
awblinmod | 40.630 | 0.071 | 39.395 | |
biplot | 3.701 | 0.009 | 3.688 | |
biplot_corrections | 3.413 | 0.008 | 3.399 | |
biplot_covariates | 6.684 | 0.030 | 6.693 | |
block2limma | 0.002 | 0.000 | 0.002 | |
block2lm | 0.002 | 0.000 | 0.002 | |
block2lme | 0.002 | 0.000 | 0.002 | |
block2lmer | 0.003 | 0.000 | 0.003 | |
block_has_two_levels | 0.659 | 0.007 | 0.629 | |
center | 1.870 | 0.004 | 1.871 | |
code | 4.747 | 0.006 | 4.731 | |
collapsed_entrezg_to_symbol | 0.941 | 0.046 | 0.986 | |
contrast_subgroup_cols | 0.570 | 0.009 | 0.556 | |
contrastdt | 0.584 | 0.002 | 0.586 | |
count_in | 0.001 | 0.000 | 0.001 | |
counts | 0.350 | 0.001 | 0.351 | |
counts2cpm | 0.289 | 0.000 | 0.288 | |
counts2tpm | 0.272 | 0.001 | 0.273 | |
cpm | 0.328 | 0.000 | 0.329 | |
create_design | 0.689 | 0.006 | 0.674 | |
default_formula | 24.614 | 0.362 | 17.845 | |
default_geom | 0.485 | 0.005 | 0.465 | |
default_sfile | 0.001 | 0.000 | 0.001 | |
demultiplex | 0.012 | 0.001 | 0.013 | |
densities | 0.200 | 0.000 | 0.201 | |
dequantify | 0.002 | 0.000 | 0.002 | |
dequantify_compounddiscoverer | 0.001 | 0.000 | 0.001 | |
dot-coxph | 0.352 | 0.009 | 0.362 | |
dot-merge | 0.018 | 0.000 | 0.018 | |
dot-read_maxquant_proteingroups | 0.111 | 0.000 | 0.112 | |
download_data | 0.001 | 0.001 | 0.000 | |
download_gtf | 0 | 0 | 0 | |
download_mcclain21 | 0 | 0 | 0 | |
dt2mat | 0.003 | 0.000 | 0.003 | |
enrichment | 1.127 | 0.000 | 1.127 | |
entrezg_to_symbol | 0.122 | 0.000 | 0.123 | |
explore-transforms | 9.926 | 0.005 | 9.932 | |
extract_contrast_features | 4.513 | 0.009 | 4.494 | |
extract_rectangle | 0.117 | 0.003 | 0.120 | |
factor.vars | 0.200 | 0.001 | 0.201 | |
factorize | 0.836 | 0.004 | 0.844 | |
fcluster | 9.263 | 0.006 | 9.129 | |
fcor | 1.427 | 0.006 | 1.434 | |
fdata | 0.487 | 0.003 | 0.490 | |
fdr2p | 0.926 | 0.018 | 0.922 | |
filter_exprs_replicated_in_some_subgroup | 1.051 | 0.009 | 0.959 | |
filter_features | 0.515 | 0.011 | 0.503 | |
filter_medoid | 0.548 | 0.000 | 0.548 | |
filter_samples | 0.520 | 0.010 | 0.507 | |
fit_survival | 10.555 | 0.025 | 10.583 | |
fits | 0.3 | 0.0 | 0.3 | |
fix_xlgenes | 0.002 | 0.000 | 0.001 | |
flevels | 0.386 | 0.002 | 0.387 | |
fnames | 0.475 | 0.004 | 0.480 | |
formula2str | 0 | 0 | 0 | |
ftype | 38.920 | 0.103 | 9.080 | |
fvalues | 0.380 | 0.001 | 0.381 | |
fvars | 0.358 | 0.001 | 0.359 | |
genome_to_orgdb | 0 | 0 | 0 | |
group_by_level | 0.001 | 0.000 | 0.001 | |
guess_compounddiscoverer_quantity | 0.001 | 0.000 | 0.001 | |
guess_fitsep | 0.468 | 0.003 | 0.471 | |
guess_maxquant_quantity | 0.005 | 0.000 | 0.005 | |
guess_sep | 0.459 | 0.008 | 0.445 | |
has_multiple_levels | 0.053 | 0.000 | 0.053 | |
hdlproteins | 0.041 | 0.001 | 0.044 | |
impute | 3.260 | 0.007 | 3.267 | |
invert_subgroups | 0.612 | 0.002 | 0.613 | |
is_character_matrix | 0.132 | 0.000 | 0.132 | |
is_collapsed_subset | 0 | 0 | 0 | |
is_compounddiscoverer_output | 1.730 | 0.071 | 0.250 | |
is_correlation_matrix | 0.002 | 0.000 | 0.001 | |
is_diann_report | 4.558 | 0.028 | 0.269 | |
is_fastadt | 0.201 | 0.002 | 0.061 | |
is_file | 0.000 | 0.001 | 0.000 | |
is_fraction | 0.002 | 0.000 | 0.001 | |
is_fragpipe_tsv | 0.984 | 0.008 | 0.095 | |
is_imputed | 0.763 | 0.002 | 0.750 | |
is_maxquant_phosphosites | 1.733 | 0.022 | 0.111 | |
is_maxquant_proteingroups | 1.710 | 0.011 | 0.130 | |
is_positive_number | 0.002 | 0.000 | 0.002 | |
is_scalar_subset | 0.314 | 0.003 | 0.317 | |
is_sig | 1.389 | 0.000 | 1.389 | |
is_valid_formula | 0.061 | 0.000 | 0.060 | |
keep_estimable_features | 0.816 | 0.010 | 0.781 | |
label2index | 0.001 | 0.000 | 0.001 | |
list2mat | 0.001 | 0.000 | 0.001 | |
log2counts | 0.527 | 0.002 | 0.556 | |
log2cpm | 0.322 | 0.001 | 0.323 | |
log2diffs | 0.316 | 0.002 | 0.319 | |
log2proteins | 0.315 | 0.000 | 0.315 | |
log2sites | 0.36 | 0.00 | 0.36 | |
log2tpm | 0.287 | 0.000 | 0.288 | |
log2transform | 4.987 | 0.006 | 4.994 | |
logical2factor | 0.002 | 0.000 | 0.002 | |
make_alpha_palette | 0.500 | 0.011 | 0.489 | |
make_colors | 0.009 | 0.001 | 0.011 | |
make_volcano_dt | 0.850 | 0.014 | 0.865 | |
map_fvalues | 0.354 | 0.001 | 0.355 | |
matrix2sumexp | 0.992 | 0.006 | 0.976 | |
mclust_breaks | 0.494 | 0.022 | 0.516 | |
merge_sample_file | 0.458 | 0.004 | 0.462 | |
merge_sdata | 0.601 | 0.009 | 0.588 | |
message_df | 0.002 | 0.000 | 0.002 | |
model_coefs | 0.792 | 0.009 | 0.779 | |
modelvar | 4.515 | 0.072 | 4.513 | |
object1 | 0.46 | 0.00 | 0.46 | |
order_on_p | 1.284 | 0.004 | 1.256 | |
overall_parameters | 0.025 | 0.001 | 0.027 | |
pca | 3.047 | 0.007 | 3.024 | |
pg_to_canonical | 0.004 | 0.000 | 0.005 | |
plot_coef_densities | 1.255 | 0.006 | 1.239 | |
plot_contrast_venn | 2.262 | 0.031 | 2.134 | |
plot_contrastogram | 18.280 | 0.038 | 3.166 | |
plot_data | 1.578 | 0.050 | 1.608 | |
plot_densities | 11.154 | 0.076 | 9.376 | |
plot_design | 0.667 | 0.002 | 0.669 | |
plot_detections | 7.460 | 0.013 | 7.411 | |
plot_exprs | 24.322 | 0.126 | 20.401 | |
plot_exprs_per_coef | 19.622 | 0.013 | 19.564 | |
plot_fit_summary | 2.126 | 0.007 | 2.065 | |
plot_heatmap | 1.944 | 0.004 | 1.948 | |
plot_matrix | 0.522 | 0.008 | 0.515 | |
plot_subgroup_points | 7.636 | 0.023 | 5.900 | |
plot_summary | 13.055 | 0.034 | 12.991 | |
plot_venn | 0.016 | 0.001 | 0.017 | |
plot_venn_heatmap | 0.023 | 0.000 | 0.023 | |
plot_violins | 4.890 | 0.016 | 4.884 | |
plot_volcano | 14.055 | 0.065 | 14.023 | |
plot_xy_density | 6.825 | 0.020 | 6.922 | |
preprocess_rnaseq_counts | 0.297 | 0.000 | 0.298 | |
pull_columns | 0.002 | 0.000 | 0.002 | |
pvalues_estimable | 0.034 | 0.000 | 0.035 | |
read_affymetrix | 0 | 0 | 0 | |
read_diann_proteingroups | 375.055 | 5.167 | 111.054 | |
read_fragpipe | 7.420 | 0.057 | 5.588 | |
read_maxquant_phosphosites | 2.454 | 0.115 | 2.569 | |
read_maxquant_proteingroups | 1.131 | 0.002 | 1.133 | |
read_metabolon | 12.820 | 0.077 | 12.776 | |
read_msigdt | 0.001 | 0.000 | 0.000 | |
read_olink | 4.320 | 0.015 | 1.464 | |
read_rectangles | 0.175 | 0.002 | 0.178 | |
read_rnaseq_counts | 35.012 | 1.194 | 30.616 | |
read_salmon | 0 | 0 | 0 | |
read_somascan | 15.143 | 0.135 | 14.936 | |
read_uniprotdt | 0.303 | 0.007 | 0.310 | |
reset_fit | 5.182 | 0.047 | 5.091 | |
rm_diann_contaminants | 80.432 | 0.739 | 25.242 | |
rm_missing_in_some_samples | 0.565 | 0.025 | 0.567 | |
rm_unmatched_samples | 0.744 | 0.060 | 0.804 | |
sbind | 4.831 | 0.176 | 5.007 | |
scaledlibsizes | 0.410 | 0.012 | 0.422 | |
scoremat | 0.823 | 0.019 | 0.819 | |
slevels | 0.469 | 0.008 | 0.477 | |
snames | 0.382 | 0.006 | 0.388 | |
split_extract_fixed | 0.551 | 0.047 | 0.575 | |
split_samples | 1.221 | 0.070 | 1.268 | |
stepauc | 0.324 | 0.009 | 0.334 | |
stri_any_regex | 0 | 0 | 0 | |
stri_detect_fixed_in_collapsed | 0.329 | 0.003 | 0.332 | |
subgroup_matrix | 0.697 | 0.068 | 0.741 | |
subtract_baseline | 5.613 | 0.055 | 5.001 | |
sumexp_to_longdt | 1.952 | 0.014 | 1.913 | |
sumexp_to_tsv | 0.475 | 0.008 | 0.484 | |
sumexplist_to_longdt | 1.548 | 0.023 | 1.571 | |
summarize_fit | 1.765 | 0.065 | 1.771 | |
survobj | 0.137 | 0.006 | 0.143 | |
svalues | 0.397 | 0.007 | 0.405 | |
svars | 0.395 | 0.002 | 0.398 | |
systematic_nas | 0.637 | 0.018 | 0.655 | |
tag_features | 1.146 | 0.047 | 1.193 | |
tag_hdlproteins | 0.637 | 0.020 | 0.658 | |
taxon2org | 0.001 | 0.000 | 0.001 | |
tpm | 0.357 | 0.021 | 0.379 | |
uncollapse | 0.030 | 0.002 | 0.032 | |
values | 0.502 | 0.016 | 0.519 | |
varlevels_dont_clash | 0.020 | 0.001 | 0.020 | |
venn_detects | 0.549 | 0.006 | 0.555 | |
weights | 0.337 | 0.001 | 0.338 | |
write_xl | 209.828 | 2.017 | 229.796 | |
zero_to_na | 0.002 | 0.000 | 0.003 | |