| Back to Multiple platform build/check report for BioC 3.23: simplified long |
|
This page was generated on 2025-11-21 11:38 -0500 (Fri, 21 Nov 2025).
| Hostname | OS | Arch (*) | R version | Installed pkgs |
|---|---|---|---|---|
| nebbiolo1 | Linux (Ubuntu 24.04.3 LTS) | x86_64 | R Under development (unstable) (2025-10-20 r88955) -- "Unsuffered Consequences" | 4829 |
| lconway | macOS 12.7.6 Monterey | x86_64 | R Under development (unstable) (2025-10-21 r88958) -- "Unsuffered Consequences" | 4602 |
| kjohnson3 | macOS 13.7.7 Ventura | arm64 | R Under development (unstable) (2025-11-04 r88984) -- "Unsuffered Consequences" | 4566 |
| Click on any hostname to see more info about the system (e.g. compilers) (*) as reported by 'uname -p', except on Windows and Mac OS X | ||||
| Package 120/2327 | Hostname | OS / Arch | INSTALL | BUILD | CHECK | BUILD BIN | ||||||||
| autonomics 1.19.0 (landing page) Aditya Bhagwat
| nebbiolo1 | Linux (Ubuntu 24.04.3 LTS) / x86_64 | OK | OK | OK | |||||||||
| lconway | macOS 12.7.6 Monterey / x86_64 | OK | OK | OK | OK | |||||||||
| kjohnson3 | macOS 13.7.7 Ventura / arm64 | OK | OK | OK | OK | |||||||||
|
To the developers/maintainers of the autonomics package: - Allow up to 24 hours (and sometimes 48 hours) for your latest push to git@git.bioconductor.org:packages/autonomics.git to reflect on this report. See Troubleshooting Build Report for more information. - Use the following Renviron settings to reproduce errors and warnings. - If 'R CMD check' started to fail recently on the Linux builder(s) over a missing dependency, add the missing dependency to 'Suggests:' in your DESCRIPTION file. See Renviron.bioc for more information. |
| Package: autonomics |
| Version: 1.19.0 |
| Command: /Library/Frameworks/R.framework/Resources/bin/R CMD check --install=check:autonomics.install-out.txt --library=/Library/Frameworks/R.framework/Resources/library --no-vignettes --timings autonomics_1.19.0.tar.gz |
| StartedAt: 2025-11-20 19:29:04 -0500 (Thu, 20 Nov 2025) |
| EndedAt: 2025-11-20 19:53:08 -0500 (Thu, 20 Nov 2025) |
| EllapsedTime: 1444.5 seconds |
| RetCode: 0 |
| Status: OK |
| CheckDir: autonomics.Rcheck |
| Warnings: 0 |
##############################################################################
##############################################################################
###
### Running command:
###
### /Library/Frameworks/R.framework/Resources/bin/R CMD check --install=check:autonomics.install-out.txt --library=/Library/Frameworks/R.framework/Resources/library --no-vignettes --timings autonomics_1.19.0.tar.gz
###
##############################################################################
##############################################################################
* using log directory ‘/Users/biocbuild/bbs-3.23-bioc/meat/autonomics.Rcheck’
* using R Under development (unstable) (2025-10-21 r88958)
* using platform: x86_64-apple-darwin20
* R was compiled by
Apple clang version 14.0.0 (clang-1400.0.29.202)
GNU Fortran (GCC) 14.2.0
* running under: macOS Ventura 13.7.8
* using session charset: UTF-8
* using option ‘--no-vignettes’
* checking for file ‘autonomics/DESCRIPTION’ ... OK
* checking extension type ... Package
* this is package ‘autonomics’ version ‘1.19.0’
* package encoding: UTF-8
* checking package namespace information ... OK
* checking package dependencies ... INFO
Imports includes 32 non-default packages.
Importing from so many packages makes the package vulnerable to any of
them becoming unavailable. Move as many as possible to Suggests and
use conditionally.
* checking if this is a source package ... OK
* checking if there is a namespace ... OK
* checking for hidden files and directories ... NOTE
Found the following hidden files and directories:
.BBSoptions
These were most likely included in error. See section ‘Package
structure’ in the ‘Writing R Extensions’ manual.
* checking for portable file names ... OK
* checking for sufficient/correct file permissions ... OK
* checking whether package ‘autonomics’ can be installed ... OK
* checking installed package size ... OK
* checking package directory ... OK
* checking ‘build’ directory ... OK
* checking DESCRIPTION meta-information ... OK
* checking top-level files ... OK
* checking for left-over files ... OK
* checking index information ... OK
* checking package subdirectories ... OK
* checking code files for non-ASCII characters ... OK
* checking R files for syntax errors ... OK
* checking whether the package can be loaded ... OK
* checking whether the package can be loaded with stated dependencies ... OK
* checking whether the package can be unloaded cleanly ... OK
* checking whether the namespace can be loaded with stated dependencies ... OK
* checking whether the namespace can be unloaded cleanly ... OK
* checking dependencies in R code ... OK
* checking S3 generic/method consistency ... OK
* checking replacement functions ... OK
* checking foreign function calls ... OK
* checking R code for possible problems ... OK
* checking Rd files ... OK
* checking Rd metadata ... OK
* checking Rd cross-references ... NOTE
Non-topic package-anchored link(s) in Rd file 'reexports.Rd':
‘[magrittr:compound]{%<>%}’ ‘[magrittr:pipe]{%>%}’
‘[magrittr:aliases]{extract}’
See section 'Cross-references' in the 'Writing R Extensions' manual.
* checking for missing documentation entries ... OK
* checking for code/documentation mismatches ... OK
* checking Rd \usage sections ... OK
* checking Rd contents ... OK
* checking for unstated dependencies in examples ... OK
* checking files in ‘vignettes’ ... OK
* checking examples ... OK
Examples with CPU (user + system) or elapsed time > 5s
user system elapsed
write_xl 181.220 7.799 227.124
read_diann_proteingroups 117.848 2.147 121.277
awblinmod 44.509 0.312 45.113
read_rnaseq_counts 32.311 2.866 35.753
rm_diann_contaminants 27.029 0.556 27.979
LINMOD 26.164 0.375 26.730
plot_exprs 23.633 0.212 24.026
plot_exprs_per_coef 22.956 0.237 23.354
default_formula 20.707 0.435 21.357
plot_volcano 15.414 0.155 15.652
analyze 14.931 0.224 15.271
read_somascan 14.858 0.139 15.140
plot_summary 14.828 0.113 15.006
read_metabolon 14.345 0.165 14.652
fit_survival 14.311 0.168 14.626
plot_densities 12.422 0.249 12.767
explore-transforms 12.226 0.141 12.487
fcluster 11.373 0.107 11.628
plot_detections 10.042 0.074 10.210
ftype 8.847 0.273 9.192
biplot_covariates 7.897 0.087 8.025
read_fragpipe 7.753 0.169 8.149
plot_xy_density 7.380 0.059 7.486
plot_subgroup_points 6.600 0.086 6.722
subtract_baseline 6.508 0.163 6.773
plot_violins 5.793 0.103 5.942
reset_fit 5.617 0.126 5.826
sbind 5.650 0.078 5.818
extract_contrast_features 5.517 0.094 5.661
log2transform 5.366 0.061 5.465
code 5.335 0.077 5.444
* checking for unstated dependencies in ‘tests’ ... OK
* checking tests ...
Running ‘testthat.R’
OK
* checking for unstated dependencies in vignettes ... OK
* checking package vignettes ... OK
* checking running R code from vignettes ... SKIPPED
* checking re-building of vignette outputs ... SKIPPED
* checking PDF version of manual ... OK
* DONE
Status: 2 NOTEs
See
‘/Users/biocbuild/bbs-3.23-bioc/meat/autonomics.Rcheck/00check.log’
for details.
autonomics.Rcheck/00install.out
############################################################################## ############################################################################## ### ### Running command: ### ### /Library/Frameworks/R.framework/Resources/bin/R CMD INSTALL autonomics ### ############################################################################## ############################################################################## * installing to library ‘/Library/Frameworks/R.framework/Versions/4.6-x86_64/Resources/library’ * installing *source* package ‘autonomics’ ... ** this is package ‘autonomics’ version ‘1.19.0’ ** using staged installation ** R ** inst ** byte-compile and prepare package for lazy loading Note: wrong number of arguments to 'seq_along' Note: wrong number of arguments to 'sqrt' ** help *** installing help indices ** building package indices ** installing vignettes ** testing if installed package can be loaded from temporary location ** testing if installed package can be loaded from final location ** testing if installed package keeps a record of temporary installation path * DONE (autonomics)
autonomics.Rcheck/tests/testthat.Rout
R Under development (unstable) (2025-10-21 r88958) -- "Unsuffered Consequences"
Copyright (C) 2025 The R Foundation for Statistical Computing
Platform: x86_64-apple-darwin20
R is free software and comes with ABSOLUTELY NO WARRANTY.
You are welcome to redistribute it under certain conditions.
Type 'license()' or 'licence()' for distribution details.
R is a collaborative project with many contributors.
Type 'contributors()' for more information and
'citation()' on how to cite R or R packages in publications.
Type 'demo()' for some demos, 'help()' for on-line help, or
'help.start()' for an HTML browser interface to help.
Type 'q()' to quit R.
> library(testthat)
> library(autonomics)
Attaching package: 'autonomics'
The following objects are masked from 'package:stats':
biplot, loadings
The following object is masked from 'package:base':
beta
>
> test_check("autonomics")
[ FAIL 0 | WARN 3 | SKIP 0 | PASS 158 ]
[ FAIL 0 | WARN 3 | SKIP 0 | PASS 158 ]
>
> proc.time()
user system elapsed
162.816 19.632 262.570
autonomics.Rcheck/autonomics-Ex.timings
| name | user | system | elapsed | |
| AUTONOMICS_DATASETS | 0.000 | 0.001 | 0.000 | |
| COMPOUNDDISCOVERER_PATTERNS | 0 | 0 | 0 | |
| LINMOD | 26.164 | 0.375 | 26.730 | |
| LINMODENGINES | 0 | 0 | 0 | |
| MAXQUANT_PATTERNS | 0.000 | 0.001 | 0.001 | |
| TAXON_TO_ORGNAME | 0 | 0 | 0 | |
| TESTS | 0.001 | 0.000 | 0.000 | |
| X | 1.375 | 0.055 | 1.441 | |
| abstract_fit | 1.153 | 0.061 | 1.228 | |
| add_adjusted_pvalues | 0.601 | 0.013 | 0.621 | |
| add_assay_means | 0.404 | 0.009 | 0.416 | |
| add_facetvars | 1.513 | 0.064 | 1.586 | |
| add_opentargets_by_uniprot | 0.431 | 0.015 | 0.451 | |
| add_psp | 0.552 | 0.014 | 0.570 | |
| add_smiles | 0.494 | 0.045 | 0.542 | |
| all_non_numeric | 0.671 | 0.003 | 0.676 | |
| analysis | 0.438 | 0.007 | 0.447 | |
| analyze | 14.931 | 0.224 | 15.271 | |
| annotate_maxquant | 0.996 | 0.105 | 1.111 | |
| annotate_uniprot_rest | 0.082 | 0.013 | 2.683 | |
| assert_is_valid_sumexp | 1.674 | 0.060 | 1.750 | |
| awblinmod | 44.509 | 0.312 | 45.113 | |
| biplot | 4.175 | 0.075 | 4.273 | |
| biplot_corrections | 4.297 | 0.074 | 4.417 | |
| biplot_covariates | 7.897 | 0.087 | 8.025 | |
| block2limma | 0.002 | 0.000 | 0.002 | |
| block2lm | 0.004 | 0.001 | 0.005 | |
| block2lme | 0.002 | 0.000 | 0.003 | |
| block2lmer | 0.002 | 0.000 | 0.003 | |
| block_has_two_levels | 0.760 | 0.050 | 0.824 | |
| center | 2.181 | 0.024 | 2.224 | |
| code | 5.335 | 0.077 | 5.444 | |
| collapsed_entrezg_to_symbol | 1.101 | 0.085 | 1.194 | |
| contrast_subgroup_cols | 0.746 | 0.051 | 0.803 | |
| contrastdt | 0.684 | 0.007 | 0.696 | |
| count_in | 0.001 | 0.000 | 0.001 | |
| counts | 0.358 | 0.005 | 0.367 | |
| counts2cpm | 0.396 | 0.004 | 0.403 | |
| counts2tpm | 0.331 | 0.004 | 0.340 | |
| cpm | 0.407 | 0.004 | 0.416 | |
| create_design | 0.860 | 0.055 | 0.935 | |
| default_formula | 20.707 | 0.435 | 21.357 | |
| default_geom | 0.555 | 0.042 | 0.600 | |
| default_sfile | 0.001 | 0.001 | 0.002 | |
| demultiplex | 0.012 | 0.001 | 0.012 | |
| densities | 0.236 | 0.006 | 0.242 | |
| dequantify | 0.002 | 0.001 | 0.003 | |
| dequantify_compounddiscoverer | 0.001 | 0.000 | 0.002 | |
| dot-coxph | 0.451 | 0.052 | 0.509 | |
| dot-merge | 0.029 | 0.001 | 0.030 | |
| dot-read_maxquant_proteingroups | 0.129 | 0.007 | 0.137 | |
| download_data | 0.000 | 0.001 | 0.001 | |
| download_gtf | 0.000 | 0.000 | 0.001 | |
| download_mcclain21 | 0.001 | 0.000 | 0.001 | |
| dt2mat | 0.003 | 0.000 | 0.004 | |
| enrichment | 1.324 | 0.014 | 1.347 | |
| entrezg_to_symbol | 0.201 | 0.006 | 0.209 | |
| explore-transforms | 12.226 | 0.141 | 12.487 | |
| extract_contrast_features | 5.517 | 0.094 | 5.661 | |
| extract_rectangle | 0.163 | 0.061 | 0.228 | |
| factor.vars | 0.227 | 0.002 | 0.234 | |
| factorize | 0.909 | 0.016 | 0.931 | |
| fcluster | 11.373 | 0.107 | 11.628 | |
| fcor | 1.796 | 0.045 | 1.919 | |
| fdata | 0.725 | 0.014 | 0.750 | |
| fdr2p | 1.073 | 0.056 | 1.142 | |
| filter_exprs_replicated_in_some_subgroup | 1.151 | 0.052 | 1.215 | |
| filter_features | 0.593 | 0.049 | 0.650 | |
| filter_medoid | 0.755 | 0.008 | 0.782 | |
| filter_samples | 0.593 | 0.049 | 0.653 | |
| fit_survival | 14.311 | 0.168 | 14.626 | |
| fits | 0.384 | 0.002 | 0.388 | |
| fix_xlgenes | 0.001 | 0.000 | 0.002 | |
| flevels | 0.464 | 0.008 | 0.475 | |
| fnames | 0.546 | 0.009 | 0.558 | |
| formula2str | 0.001 | 0.000 | 0.001 | |
| ftype | 8.847 | 0.273 | 9.192 | |
| fvalues | 0.485 | 0.008 | 0.495 | |
| fvars | 0.454 | 0.007 | 0.462 | |
| genome_to_orgdb | 0.001 | 0.001 | 0.001 | |
| group_by_level | 0.001 | 0.001 | 0.002 | |
| guess_compounddiscoverer_quantity | 0.002 | 0.000 | 0.002 | |
| guess_fitsep | 0.516 | 0.007 | 0.524 | |
| guess_maxquant_quantity | 0.005 | 0.001 | 0.007 | |
| guess_sep | 0.625 | 0.052 | 0.686 | |
| has_multiple_levels | 0.068 | 0.002 | 0.070 | |
| hdlproteins | 0.048 | 0.031 | 0.086 | |
| impute | 3.936 | 0.046 | 4.018 | |
| invert_subgroups | 0.746 | 0.013 | 0.766 | |
| is_character_matrix | 0.142 | 0.001 | 0.143 | |
| is_collapsed_subset | 0.000 | 0.000 | 0.001 | |
| is_compounddiscoverer_output | 0.049 | 0.036 | 0.189 | |
| is_correlation_matrix | 0.001 | 0.000 | 0.001 | |
| is_diann_report | 0.090 | 0.012 | 0.103 | |
| is_fastadt | 0.066 | 0.002 | 0.070 | |
| is_file | 0.000 | 0.001 | 0.001 | |
| is_fraction | 0.001 | 0.001 | 0.001 | |
| is_fragpipe_tsv | 0.051 | 0.007 | 0.059 | |
| is_imputed | 0.777 | 0.015 | 0.800 | |
| is_maxquant_phosphosites | 0.055 | 0.007 | 0.063 | |
| is_maxquant_proteingroups | 0.053 | 0.008 | 0.062 | |
| is_positive_number | 0.001 | 0.000 | 0.002 | |
| is_scalar_subset | 0.344 | 0.007 | 0.354 | |
| is_sig | 1.604 | 0.023 | 1.695 | |
| is_valid_formula | 0.052 | 0.002 | 0.054 | |
| keep_estimable_features | 0.965 | 0.067 | 1.049 | |
| label2index | 0.000 | 0.001 | 0.001 | |
| list2mat | 0.001 | 0.000 | 0.001 | |
| log2counts | 0.400 | 0.005 | 0.410 | |
| log2cpm | 0.397 | 0.006 | 0.408 | |
| log2diffs | 0.438 | 0.010 | 0.452 | |
| log2proteins | 0.374 | 0.010 | 0.390 | |
| log2sites | 0.375 | 0.009 | 0.388 | |
| log2tpm | 0.388 | 0.006 | 0.398 | |
| log2transform | 5.366 | 0.061 | 5.465 | |
| logical2factor | 0.002 | 0.001 | 0.001 | |
| make_alpha_palette | 0.551 | 0.051 | 0.609 | |
| make_colors | 0.009 | 0.002 | 0.011 | |
| make_volcano_dt | 0.900 | 0.013 | 0.918 | |
| map_fvalues | 0.396 | 0.009 | 0.406 | |
| matrix2sumexp | 1.094 | 0.050 | 1.146 | |
| mclust_breaks | 0.593 | 0.095 | 0.697 | |
| merge_sample_file | 0.613 | 0.011 | 0.629 | |
| merge_sdata | 0.726 | 0.069 | 0.802 | |
| message_df | 0.003 | 0.000 | 0.004 | |
| model_coefs | 0.757 | 0.043 | 0.804 | |
| modelvar | 4.097 | 0.097 | 4.239 | |
| object1 | 0.601 | 0.004 | 0.610 | |
| order_on_p | 1.549 | 0.048 | 1.604 | |
| overall_parameters | 0.026 | 0.000 | 0.027 | |
| pca | 4.358 | 0.078 | 4.484 | |
| pg_to_canonical | 0.007 | 0.000 | 0.006 | |
| plot_coef_densities | 1.731 | 0.059 | 1.811 | |
| plot_contrast_venn | 2.922 | 0.080 | 3.037 | |
| plot_contrastogram | 3.404 | 0.117 | 3.557 | |
| plot_data | 1.975 | 0.084 | 2.078 | |
| plot_densities | 12.422 | 0.249 | 12.767 | |
| plot_design | 0.909 | 0.014 | 0.930 | |
| plot_detections | 10.042 | 0.074 | 10.210 | |
| plot_exprs | 23.633 | 0.212 | 24.026 | |
| plot_exprs_per_coef | 22.956 | 0.237 | 23.354 | |
| plot_fit_summary | 2.626 | 0.063 | 2.710 | |
| plot_heatmap | 2.208 | 0.022 | 2.239 | |
| plot_matrix | 0.566 | 0.061 | 0.654 | |
| plot_subgroup_points | 6.600 | 0.086 | 6.722 | |
| plot_summary | 14.828 | 0.113 | 15.006 | |
| plot_venn | 0.017 | 0.001 | 0.019 | |
| plot_venn_heatmap | 0.024 | 0.001 | 0.026 | |
| plot_violins | 5.793 | 0.103 | 5.942 | |
| plot_volcano | 15.414 | 0.155 | 15.652 | |
| plot_xy_density | 7.380 | 0.059 | 7.486 | |
| preprocess_rnaseq_counts | 0.358 | 0.003 | 0.363 | |
| pull_columns | 0.003 | 0.000 | 0.003 | |
| pvalues_estimable | 0.119 | 0.007 | 0.128 | |
| read_affymetrix | 0 | 0 | 0 | |
| read_diann_proteingroups | 117.848 | 2.147 | 121.277 | |
| read_fragpipe | 7.753 | 0.169 | 8.149 | |
| read_maxquant_phosphosites | 1.706 | 0.043 | 1.764 | |
| read_maxquant_proteingroups | 1.368 | 0.030 | 1.408 | |
| read_metabolon | 14.345 | 0.165 | 14.652 | |
| read_msigdt | 0.000 | 0.001 | 0.000 | |
| read_olink | 1.707 | 0.068 | 1.800 | |
| read_rectangles | 0.234 | 0.029 | 0.265 | |
| read_rnaseq_counts | 32.311 | 2.866 | 35.753 | |
| read_salmon | 0.001 | 0.000 | 0.000 | |
| read_somascan | 14.858 | 0.139 | 15.140 | |
| read_uniprotdt | 0.367 | 0.028 | 0.400 | |
| reset_fit | 5.617 | 0.126 | 5.826 | |
| rm_diann_contaminants | 27.029 | 0.556 | 27.979 | |
| rm_missing_in_some_samples | 0.689 | 0.064 | 0.767 | |
| rm_unmatched_samples | 0.930 | 0.032 | 0.977 | |
| sbind | 5.650 | 0.078 | 5.818 | |
| scaledlibsizes | 0.456 | 0.006 | 0.468 | |
| scoremat | 1.180 | 0.083 | 1.300 | |
| slevels | 0.539 | 0.012 | 0.565 | |
| snames | 0.517 | 0.014 | 0.539 | |
| split_extract_fixed | 0.731 | 0.065 | 0.814 | |
| split_samples | 1.759 | 0.073 | 1.857 | |
| stepauc | 0.472 | 0.003 | 0.481 | |
| stri_any_regex | 0.000 | 0.001 | 0.002 | |
| stri_detect_fixed_in_collapsed | 0.449 | 0.010 | 0.476 | |
| subgroup_matrix | 0.779 | 0.082 | 0.879 | |
| subtract_baseline | 6.508 | 0.163 | 6.773 | |
| sumexp_to_longdt | 2.488 | 0.146 | 2.695 | |
| sumexp_to_tsv | 0.733 | 0.016 | 0.759 | |
| sumexplist_to_longdt | 1.971 | 0.034 | 2.029 | |
| summarize_fit | 2.022 | 0.081 | 2.133 | |
| survobj | 0.184 | 0.003 | 0.188 | |
| svalues | 0.603 | 0.012 | 0.622 | |
| svars | 0.497 | 0.010 | 0.512 | |
| systematic_nas | 0.785 | 0.013 | 0.808 | |
| tag_features | 1.475 | 0.044 | 1.537 | |
| tag_hdlproteins | 0.620 | 0.040 | 0.667 | |
| taxon2org | 0.001 | 0.000 | 0.001 | |
| tpm | 0.499 | 0.009 | 0.514 | |
| uncollapse | 0.034 | 0.001 | 0.034 | |
| values | 0.522 | 0.015 | 0.542 | |
| varlevels_dont_clash | 0.025 | 0.001 | 0.026 | |
| venn_detects | 0.832 | 0.015 | 0.855 | |
| weights | 0.449 | 0.007 | 0.462 | |
| write_xl | 181.220 | 7.799 | 227.124 | |
| zero_to_na | 0.003 | 0.005 | 0.013 | |