Back to Multiple platform build/check report for BioC 3.22:   simplified   long
ABCDE[F]GHIJKLMNOPQRSTUVWXYZ

This page was generated on 2025-10-18 12:03 -0400 (Sat, 18 Oct 2025).

HostnameOSArch (*)R versionInstalled pkgs
nebbiolo2Linux (Ubuntu 24.04.3 LTS)x86_644.5.1 Patched (2025-08-23 r88802) -- "Great Square Root" 4887
lconwaymacOS 12.7.6 Montereyx86_644.5.1 Patched (2025-09-10 r88807) -- "Great Square Root" 4677
kjohnson3macOS 13.7.7 Venturaarm644.5.1 Patched (2025-09-10 r88807) -- "Great Square Root" 4622
taishanLinux (openEuler 24.03 LTS)aarch644.5.0 (2025-04-11) -- "How About a Twenty-Six" 4632
Click on any hostname to see more info about the system (e.g. compilers)      (*) as reported by 'uname -p', except on Windows and Mac OS X

Package 761/2353HostnameOS / ArchINSTALLBUILDCHECKBUILD BIN
FlowSOM 2.17.0  (landing page)
Sofie Van Gassen
Snapshot Date: 2025-10-17 13:45 -0400 (Fri, 17 Oct 2025)
git_url: https://git.bioconductor.org/packages/FlowSOM
git_branch: devel
git_last_commit: d549275
git_last_commit_date: 2025-04-15 10:36:59 -0400 (Tue, 15 Apr 2025)
nebbiolo2Linux (Ubuntu 24.04.3 LTS) / x86_64  OK    OK    OK  UNNEEDED, same version is already published
lconwaymacOS 12.7.6 Monterey / x86_64  OK    OK    OK    OK  UNNEEDED, same version is already published
kjohnson3macOS 13.7.7 Ventura / arm64  OK    OK    OK    OK  UNNEEDED, same version is already published
taishanLinux (openEuler 24.03 LTS) / aarch64  OK    OK    OK  


CHECK results for FlowSOM on nebbiolo2

To the developers/maintainers of the FlowSOM package:
- Allow up to 24 hours (and sometimes 48 hours) for your latest push to git@git.bioconductor.org:packages/FlowSOM.git to reflect on this report. See Troubleshooting Build Report for more information.
- Use the following Renviron settings to reproduce errors and warnings.
- If 'R CMD check' started to fail recently on the Linux builder(s) over a missing dependency, add the missing dependency to 'Suggests:' in your DESCRIPTION file. See Renviron.bioc for more information.

raw results


Summary

Package: FlowSOM
Version: 2.17.0
Command: /home/biocbuild/bbs-3.22-bioc/R/bin/R CMD check --install=check:FlowSOM.install-out.txt --library=/home/biocbuild/bbs-3.22-bioc/R/site-library --timings FlowSOM_2.17.0.tar.gz
StartedAt: 2025-10-17 23:52:48 -0400 (Fri, 17 Oct 2025)
EndedAt: 2025-10-18 00:02:27 -0400 (Sat, 18 Oct 2025)
EllapsedTime: 579.5 seconds
RetCode: 0
Status:   OK  
CheckDir: FlowSOM.Rcheck
Warnings: 0

Command output

##############################################################################
##############################################################################
###
### Running command:
###
###   /home/biocbuild/bbs-3.22-bioc/R/bin/R CMD check --install=check:FlowSOM.install-out.txt --library=/home/biocbuild/bbs-3.22-bioc/R/site-library --timings FlowSOM_2.17.0.tar.gz
###
##############################################################################
##############################################################################


* using log directory ‘/home/biocbuild/bbs-3.22-bioc/meat/FlowSOM.Rcheck’
* using R version 4.5.1 Patched (2025-08-23 r88802)
* using platform: x86_64-pc-linux-gnu
* R was compiled by
    gcc (Ubuntu 13.3.0-6ubuntu2~24.04) 13.3.0
    GNU Fortran (Ubuntu 13.3.0-6ubuntu2~24.04) 13.3.0
* running under: Ubuntu 24.04.3 LTS
* using session charset: UTF-8
* checking for file ‘FlowSOM/DESCRIPTION’ ... OK
* this is package ‘FlowSOM’ version ‘2.17.0’
* package encoding: UTF-8
* checking package namespace information ... OK
* checking package dependencies ... OK
* checking if this is a source package ... OK
* checking if there is a namespace ... OK
* checking for hidden files and directories ... OK
* checking for portable file names ... OK
* checking for sufficient/correct file permissions ... OK
* checking whether package ‘FlowSOM’ can be installed ... OK
* used C compiler: ‘gcc (Ubuntu 13.3.0-6ubuntu2~24.04) 13.3.0’
* checking installed package size ... OK
* checking package directory ... OK
* checking ‘build’ directory ... OK
* checking DESCRIPTION meta-information ... OK
* checking top-level files ... OK
* checking for left-over files ... OK
* checking index information ... OK
* checking package subdirectories ... OK
* checking code files for non-ASCII characters ... OK
* checking R files for syntax errors ... OK
* checking whether the package can be loaded ... OK
* checking whether the package can be loaded with stated dependencies ... OK
* checking whether the package can be unloaded cleanly ... OK
* checking whether the namespace can be loaded with stated dependencies ... OK
* checking whether the namespace can be unloaded cleanly ... OK
* checking loading without being on the library search path ... OK
* checking whether startup messages can be suppressed ... OK
* checking dependencies in R code ... OK
* checking S3 generic/method consistency ... OK
* checking replacement functions ... OK
* checking foreign function calls ... OK
* checking R code for possible problems ... OK
* checking Rd files ... NOTE
checkRd: (-1) PlotDimRed.Rd:55: Lost braces
    55 | of the dimred default = function(dimred){dimred$Y}.}
       |                                         ^
* checking Rd metadata ... OK
* checking Rd cross-references ... NOTE
Non-topic package-anchored link(s) in Rd file 'pipe.Rd':
  ‘[magrittr:pipe]{%>%}’

See section 'Cross-references' in the 'Writing R Extensions' manual.
* checking for missing documentation entries ... OK
* checking for code/documentation mismatches ... OK
* checking Rd \usage sections ... OK
* checking Rd contents ... OK
* checking for unstated dependencies in examples ... OK
* checking line endings in C/C++/Fortran sources/headers ... OK
* checking compiled code ... NOTE
Note: information on .o files is not available
* checking files in ‘vignettes’ ... OK
* checking examples ... OK
Examples with CPU (user + system) or elapsed time > 5s
                     user system elapsed
FlowSOMmary        49.187  0.427  49.479
PlotDimRed         42.595  0.198  42.770
PlotOutliers       28.570  0.074  28.644
PlotMarker         16.707  0.096  16.803
UpdateMetaclusters 15.360  0.013  15.373
PlotStars          13.431  0.063  13.495
GroupStats         11.350  0.062  11.413
FlowSOM            10.561  0.040  10.602
PlotGroups         10.532  0.027  10.560
QueryMultiple       9.398  0.006   9.405
query_multiple      9.147  0.011   9.158
Plot2DScatters      8.986  0.056   9.033
AddAnnotation       7.909  0.145   8.055
PlotManualBars      7.327  0.015   7.343
QueryStarPlot       7.164  0.005   7.171
PlotPies            7.065  0.026   7.091
GetFlowJoLabels     6.608  0.106   6.715
PlotNode            6.598  0.027   6.625
PlotVariable        6.218  0.013   6.232
PlotNumbers         6.069  0.006   6.076
UpdateNodeSize      5.580  0.004   5.584
TestOutliers        5.311  0.011   5.322
PlotFlowSOM         5.117  0.046   5.164
PlotOverview2D      5.044  0.067   5.112
CountGroups         5.006  0.076   5.083
* checking for unstated dependencies in vignettes ... OK
* checking package vignettes ... OK
* checking re-building of vignette outputs ... OK
* checking PDF version of manual ... OK
* DONE

Status: 3 NOTEs
See
  ‘/home/biocbuild/bbs-3.22-bioc/meat/FlowSOM.Rcheck/00check.log’
for details.


Installation output

FlowSOM.Rcheck/00install.out

##############################################################################
##############################################################################
###
### Running command:
###
###   /home/biocbuild/bbs-3.22-bioc/R/bin/R CMD INSTALL FlowSOM
###
##############################################################################
##############################################################################


* installing to library ‘/home/biocbuild/bbs-3.22-bioc/R/site-library’
* installing *source* package ‘FlowSOM’ ...
** this is package ‘FlowSOM’ version ‘2.17.0’
** using staged installation
** libs
using C compiler: ‘gcc (Ubuntu 13.3.0-6ubuntu2~24.04) 13.3.0’
gcc -std=gnu2x -I"/home/biocbuild/bbs-3.22-bioc/R/include" -DNDEBUG   -I/usr/local/include    -fpic  -g -O2  -Wall -Werror=format-security -c som.c -o som.o
gcc -std=gnu2x -shared -L/home/biocbuild/bbs-3.22-bioc/R/lib -L/usr/local/lib -o FlowSOM.so som.o -L/home/biocbuild/bbs-3.22-bioc/R/lib -lR
installing to /home/biocbuild/bbs-3.22-bioc/R/site-library/00LOCK-FlowSOM/00new/FlowSOM/libs
** R
** inst
** byte-compile and prepare package for lazy loading
** help
*** installing help indices
** building package indices
** installing vignettes
** testing if installed package can be loaded from temporary location
** checking absolute paths in shared objects and dynamic libraries
** testing if installed package can be loaded from final location
** testing if installed package keeps a record of temporary installation path
* DONE (FlowSOM)

Tests output


Example timings

FlowSOM.Rcheck/FlowSOM-Ex.timings

nameusersystemelapsed
AddAnnotation7.9090.1458.055
AggregateFlowFrames0.0630.0080.071
BuildMST0.9950.0411.036
BuildSOM1.0260.0191.047
CountGroups5.0060.0765.083
FMeasure0.0010.0000.002
FlowSOM10.561 0.04010.602
FlowSOMSubset3.6210.0153.636
FlowSOMmary49.187 0.42749.479
GetChannels0.0260.0000.026
GetClusterMFIs3.6450.0823.728
GetClusterPercentagesPositive3.6130.0093.623
GetClusters3.7180.0083.727
GetCounts3.9780.0073.985
GetFeatures4.7720.0374.809
GetFlowJoLabels6.6080.1066.715
GetMFIs4.0180.0224.041
GetMarkers0.0260.0000.027
GetMetaclusterCVs4.0570.0124.070
GetMetaclusterMFIs4.0500.0054.055
GetMetaclusterPercentagesPositive3.9600.0023.962
GetMetaclusters3.9600.0083.968
GetPercentages4.0430.0084.052
GroupStats11.350 0.06211.413
Initialize_KWSP0.0040.0000.004
Initialize_PCA0.0000.0000.001
MetaClustering2.4870.0292.516
MetaclusterCVs4.1660.0844.250
MetaclusterMFIs4.9430.0134.957
NClusters4.4450.0094.455
NMetaclusters4.3920.0104.403
NewData3.5120.0073.519
Plot2DScatters8.9860.0569.033
PlotCenters1.0240.0021.025
PlotClusters2D0.960.000.96
PlotDimRed42.595 0.19842.770
PlotFileScatters1.0760.0071.083
PlotFlowSOM5.1170.0465.164
PlotGroups10.532 0.02710.560
PlotLabels4.8770.0104.888
PlotManualBars7.3270.0157.343
PlotMarker16.707 0.09616.803
PlotNode6.5980.0276.625
PlotNumbers6.0690.0066.076
PlotOutliers28.570 0.07428.644
PlotOverview2D5.0440.0675.112
PlotPies7.0650.0267.091
PlotSD1.9380.0081.946
PlotStars13.431 0.06313.495
PlotVariable6.2180.0136.232
Purity0.0000.0010.001
QueryMultiple9.3980.0069.405
QueryStarPlot7.1640.0057.171
ReadInput2.7970.0242.822
SaveClustersToFCS4.8440.0144.859
TestOutliers5.3110.0115.322
UpdateMetaclusters15.360 0.01315.373
UpdateNodeSize5.5800.0045.584
get_channels0.0430.0000.042
get_markers0.0290.0010.030
metaClustering_consensus2.3710.0202.392
plotStarLegend0.4660.0020.468
print.FlowSOM4.1790.0074.187
query_multiple9.1470.0119.158