Back to Multiple platform build/check report for BioC 3.22: simplified long |
|
This page was generated on 2025-10-18 12:06 -0400 (Sat, 18 Oct 2025).
Hostname | OS | Arch (*) | R version | Installed pkgs |
---|---|---|---|---|
nebbiolo2 | Linux (Ubuntu 24.04.3 LTS) | x86_64 | 4.5.1 Patched (2025-08-23 r88802) -- "Great Square Root" | 4887 |
lconway | macOS 12.7.6 Monterey | x86_64 | 4.5.1 Patched (2025-09-10 r88807) -- "Great Square Root" | 4677 |
kjohnson3 | macOS 13.7.7 Ventura | arm64 | 4.5.1 Patched (2025-09-10 r88807) -- "Great Square Root" | 4622 |
taishan | Linux (openEuler 24.03 LTS) | aarch64 | 4.5.0 (2025-04-11) -- "How About a Twenty-Six" | 4632 |
Click on any hostname to see more info about the system (e.g. compilers) (*) as reported by 'uname -p', except on Windows and Mac OS X |
Package 761/2353 | Hostname | OS / Arch | INSTALL | BUILD | CHECK | BUILD BIN | ||||||||
FlowSOM 2.17.0 (landing page) Sofie Van Gassen
| nebbiolo2 | Linux (Ubuntu 24.04.3 LTS) / x86_64 | OK | OK | OK | ![]() | ||||||||
lconway | macOS 12.7.6 Monterey / x86_64 | OK | OK | OK | OK | ![]() | ||||||||
kjohnson3 | macOS 13.7.7 Ventura / arm64 | OK | OK | OK | OK | ![]() | ||||||||
taishan | Linux (openEuler 24.03 LTS) / aarch64 | OK | OK | OK | ||||||||||
To the developers/maintainers of the FlowSOM package: - Allow up to 24 hours (and sometimes 48 hours) for your latest push to git@git.bioconductor.org:packages/FlowSOM.git to reflect on this report. See Troubleshooting Build Report for more information. - Use the following Renviron settings to reproduce errors and warnings. - If 'R CMD check' started to fail recently on the Linux builder(s) over a missing dependency, add the missing dependency to 'Suggests:' in your DESCRIPTION file. See Renviron.bioc for more information. |
Package: FlowSOM |
Version: 2.17.0 |
Command: /Library/Frameworks/R.framework/Resources/bin/R CMD check --install=check:FlowSOM.install-out.txt --library=/Library/Frameworks/R.framework/Resources/library --no-vignettes --timings FlowSOM_2.17.0.tar.gz |
StartedAt: 2025-10-17 19:51:13 -0400 (Fri, 17 Oct 2025) |
EndedAt: 2025-10-17 19:54:52 -0400 (Fri, 17 Oct 2025) |
EllapsedTime: 219.7 seconds |
RetCode: 0 |
Status: OK |
CheckDir: FlowSOM.Rcheck |
Warnings: 0 |
############################################################################## ############################################################################## ### ### Running command: ### ### /Library/Frameworks/R.framework/Resources/bin/R CMD check --install=check:FlowSOM.install-out.txt --library=/Library/Frameworks/R.framework/Resources/library --no-vignettes --timings FlowSOM_2.17.0.tar.gz ### ############################################################################## ############################################################################## * using log directory ‘/Users/biocbuild/bbs-3.22-bioc/meat/FlowSOM.Rcheck’ * using R version 4.5.1 Patched (2025-09-10 r88807) * using platform: aarch64-apple-darwin20 * R was compiled by Apple clang version 16.0.0 (clang-1600.0.26.6) GNU Fortran (GCC) 14.2.0 * running under: macOS Ventura 13.7.7 * using session charset: UTF-8 * using option ‘--no-vignettes’ * checking for file ‘FlowSOM/DESCRIPTION’ ... OK * this is package ‘FlowSOM’ version ‘2.17.0’ * package encoding: UTF-8 * checking package namespace information ... OK * checking package dependencies ... OK * checking if this is a source package ... OK * checking if there is a namespace ... OK * checking for hidden files and directories ... OK * checking for portable file names ... OK * checking for sufficient/correct file permissions ... OK * checking whether package ‘FlowSOM’ can be installed ... OK * used C compiler: ‘Apple clang version 15.0.0 (clang-1500.1.0.2.5)’ * used SDK: ‘MacOSX11.3.1.sdk’ * checking installed package size ... OK * checking package directory ... OK * checking ‘build’ directory ... OK * checking DESCRIPTION meta-information ... OK * checking top-level files ... OK * checking for left-over files ... OK * checking index information ... OK * checking package subdirectories ... OK * checking code files for non-ASCII characters ... OK * checking R files for syntax errors ... OK * checking whether the package can be loaded ... OK * checking whether the package can be loaded with stated dependencies ... OK * checking whether the package can be unloaded cleanly ... OK * checking whether the namespace can be loaded with stated dependencies ... OK * checking whether the namespace can be unloaded cleanly ... OK * checking whether startup messages can be suppressed ... OK * checking dependencies in R code ... OK * checking S3 generic/method consistency ... OK * checking replacement functions ... OK * checking foreign function calls ... OK * checking R code for possible problems ... OK * checking Rd files ... NOTE checkRd: (-1) PlotDimRed.Rd:55: Lost braces 55 | of the dimred default = function(dimred){dimred$Y}.} | ^ * checking Rd metadata ... OK * checking Rd cross-references ... NOTE Non-topic package-anchored link(s) in Rd file 'pipe.Rd': ‘[magrittr:pipe]{%>%}’ See section 'Cross-references' in the 'Writing R Extensions' manual. * checking for missing documentation entries ... OK * checking for code/documentation mismatches ... OK * checking Rd \usage sections ... OK * checking Rd contents ... OK * checking for unstated dependencies in examples ... OK * checking line endings in C/C++/Fortran sources/headers ... OK * checking compiled code ... NOTE Note: information on .o files is not available * checking sizes of PDF files under ‘inst/doc’ ... OK * checking files in ‘vignettes’ ... OK * checking examples ... OK Examples with CPU (user + system) or elapsed time > 5s user system elapsed FlowSOMmary 19.237 1.009 20.629 PlotDimRed 16.933 1.626 18.818 PlotOutliers 9.574 0.441 10.115 PlotMarker 6.315 0.550 6.944 UpdateMetaclusters 5.921 0.684 6.817 PlotStars 5.139 0.535 5.751 * checking for unstated dependencies in vignettes ... OK * checking package vignettes ... OK * checking running R code from vignettes ... SKIPPED * checking re-building of vignette outputs ... SKIPPED * checking PDF version of manual ... OK * DONE Status: 3 NOTEs See ‘/Users/biocbuild/bbs-3.22-bioc/meat/FlowSOM.Rcheck/00check.log’ for details.
FlowSOM.Rcheck/00install.out
############################################################################## ############################################################################## ### ### Running command: ### ### /Library/Frameworks/R.framework/Resources/bin/R CMD INSTALL FlowSOM ### ############################################################################## ############################################################################## * installing to library ‘/Library/Frameworks/R.framework/Versions/4.5-arm64/Resources/library’ * installing *source* package ‘FlowSOM’ ... ** this is package ‘FlowSOM’ version ‘2.17.0’ ** using staged installation ** libs using C compiler: ‘Apple clang version 15.0.0 (clang-1500.1.0.2.5)’ using SDK: ‘MacOSX11.3.1.sdk’ clang -arch arm64 -std=gnu2x -I"/Library/Frameworks/R.framework/Resources/include" -DNDEBUG -I/opt/R/arm64/include -fPIC -falign-functions=64 -Wall -g -O2 -c som.c -o som.o clang -arch arm64 -std=gnu2x -dynamiclib -Wl,-headerpad_max_install_names -undefined dynamic_lookup -L/Library/Frameworks/R.framework/Resources/lib -L/opt/R/arm64/lib -o FlowSOM.so som.o -F/Library/Frameworks/R.framework/.. -framework R installing to /Library/Frameworks/R.framework/Versions/4.5-arm64/Resources/library/00LOCK-FlowSOM/00new/FlowSOM/libs ** R ** inst ** byte-compile and prepare package for lazy loading ** help *** installing help indices ** building package indices ** installing vignettes ** testing if installed package can be loaded from temporary location ** checking absolute paths in shared objects and dynamic libraries ** testing if installed package can be loaded from final location ** testing if installed package keeps a record of temporary installation path * DONE (FlowSOM)
FlowSOM.Rcheck/FlowSOM-Ex.timings
name | user | system | elapsed | |
AddAnnotation | 3.015 | 0.204 | 3.270 | |
AggregateFlowFrames | 0.031 | 0.002 | 0.035 | |
BuildMST | 0.538 | 0.044 | 0.592 | |
BuildSOM | 0.388 | 0.034 | 0.428 | |
CountGroups | 2.287 | 0.250 | 2.569 | |
FMeasure | 0.001 | 0.000 | 0.001 | |
FlowSOM | 4.340 | 0.401 | 4.801 | |
FlowSOMSubset | 1.481 | 0.114 | 1.636 | |
FlowSOMmary | 19.237 | 1.009 | 20.629 | |
GetChannels | 0.013 | 0.001 | 0.014 | |
GetClusterMFIs | 1.612 | 0.219 | 1.840 | |
GetClusterPercentagesPositive | 1.607 | 0.207 | 1.827 | |
GetClusters | 1.599 | 0.304 | 1.933 | |
GetCounts | 1.679 | 0.256 | 1.996 | |
GetFeatures | 1.967 | 0.141 | 2.182 | |
GetFlowJoLabels | 2.801 | 0.290 | 3.162 | |
GetMFIs | 1.750 | 0.298 | 2.098 | |
GetMarkers | 0.013 | 0.002 | 0.015 | |
GetMetaclusterCVs | 1.741 | 0.258 | 2.012 | |
GetMetaclusterMFIs | 1.859 | 0.288 | 2.154 | |
GetMetaclusterPercentagesPositive | 1.673 | 0.315 | 1.991 | |
GetMetaclusters | 1.708 | 0.326 | 2.059 | |
GetPercentages | 1.741 | 0.319 | 2.080 | |
GroupStats | 4.410 | 0.353 | 4.842 | |
Initialize_KWSP | 0.002 | 0.001 | 0.002 | |
Initialize_PCA | 0 | 0 | 0 | |
MetaClustering | 1.069 | 0.250 | 1.342 | |
MetaclusterCVs | 1.795 | 0.325 | 2.187 | |
MetaclusterMFIs | 1.973 | 0.386 | 2.451 | |
NClusters | 1.941 | 0.408 | 2.465 | |
NMetaclusters | 2.006 | 0.441 | 2.614 | |
NewData | 1.548 | 0.215 | 1.808 | |
Plot2DScatters | 3.370 | 0.302 | 3.785 | |
PlotCenters | 0.428 | 0.058 | 0.486 | |
PlotClusters2D | 0.389 | 0.052 | 0.441 | |
PlotDimRed | 16.933 | 1.626 | 18.818 | |
PlotFileScatters | 0.366 | 0.009 | 0.379 | |
PlotFlowSOM | 2.128 | 0.330 | 2.464 | |
PlotGroups | 4.108 | 0.562 | 4.871 | |
PlotLabels | 2.303 | 0.438 | 2.904 | |
PlotManualBars | 3.019 | 0.443 | 3.645 | |
PlotMarker | 6.315 | 0.550 | 6.944 | |
PlotNode | 2.647 | 0.398 | 3.052 | |
PlotNumbers | 2.731 | 0.371 | 3.200 | |
PlotOutliers | 9.574 | 0.441 | 10.115 | |
PlotOverview2D | 2.059 | 0.262 | 2.322 | |
PlotPies | 2.681 | 0.347 | 3.028 | |
PlotSD | 0.756 | 0.074 | 0.829 | |
PlotStars | 5.139 | 0.535 | 5.751 | |
PlotVariable | 2.600 | 0.388 | 3.077 | |
Purity | 0.001 | 0.000 | 0.001 | |
QueryMultiple | 3.481 | 0.329 | 3.857 | |
QueryStarPlot | 2.627 | 0.199 | 2.836 | |
ReadInput | 1.106 | 0.310 | 1.473 | |
SaveClustersToFCS | 2.025 | 0.397 | 2.480 | |
TestOutliers | 1.867 | 0.336 | 2.230 | |
UpdateMetaclusters | 5.921 | 0.684 | 6.817 | |
UpdateNodeSize | 1.981 | 0.167 | 2.161 | |
get_channels | 0.013 | 0.002 | 0.016 | |
get_markers | 0.013 | 0.002 | 0.015 | |
metaClustering_consensus | 0.845 | 0.250 | 1.096 | |
plotStarLegend | 0.176 | 0.001 | 0.181 | |
print.FlowSOM | 1.796 | 0.370 | 2.177 | |
query_multiple | 3.500 | 0.245 | 3.791 | |