| Back to Multiple platform build/check report for BioC 3.23: simplified long |
|
This page was generated on 2025-11-21 11:39 -0500 (Fri, 21 Nov 2025).
| Hostname | OS | Arch (*) | R version | Installed pkgs |
|---|---|---|---|---|
| nebbiolo1 | Linux (Ubuntu 24.04.3 LTS) | x86_64 | R Under development (unstable) (2025-10-20 r88955) -- "Unsuffered Consequences" | 4829 |
| lconway | macOS 12.7.6 Monterey | x86_64 | R Under development (unstable) (2025-10-21 r88958) -- "Unsuffered Consequences" | 4602 |
| kjohnson3 | macOS 13.7.7 Ventura | arm64 | R Under development (unstable) (2025-11-04 r88984) -- "Unsuffered Consequences" | 4566 |
| Click on any hostname to see more info about the system (e.g. compilers) (*) as reported by 'uname -p', except on Windows and Mac OS X | ||||
| Package 1456/2327 | Hostname | OS / Arch | INSTALL | BUILD | CHECK | BUILD BIN | ||||||||
| notameStats 1.1.0 (landing page) Vilhelm Suksi
| nebbiolo1 | Linux (Ubuntu 24.04.3 LTS) / x86_64 | OK | OK | ERROR | |||||||||
| lconway | macOS 12.7.6 Monterey / x86_64 | OK | OK | ERROR | OK | |||||||||
| kjohnson3 | macOS 13.7.7 Ventura / arm64 | OK | OK | ERROR | OK | |||||||||
|
To the developers/maintainers of the notameStats package: - Allow up to 24 hours (and sometimes 48 hours) for your latest push to git@git.bioconductor.org:packages/notameStats.git to reflect on this report. See Troubleshooting Build Report for more information. - Use the following Renviron settings to reproduce errors and warnings. - If 'R CMD check' started to fail recently on the Linux builder(s) over a missing dependency, add the missing dependency to 'Suggests:' in your DESCRIPTION file. See Renviron.bioc for more information. |
| Package: notameStats |
| Version: 1.1.0 |
| Command: /Library/Frameworks/R.framework/Resources/bin/R CMD check --install=check:notameStats.install-out.txt --library=/Library/Frameworks/R.framework/Resources/library --no-vignettes --timings notameStats_1.1.0.tar.gz |
| StartedAt: 2025-11-20 21:24:20 -0500 (Thu, 20 Nov 2025) |
| EndedAt: 2025-11-20 21:26:25 -0500 (Thu, 20 Nov 2025) |
| EllapsedTime: 124.7 seconds |
| RetCode: 1 |
| Status: ERROR |
| CheckDir: notameStats.Rcheck |
| Warnings: NA |
##############################################################################
##############################################################################
###
### Running command:
###
### /Library/Frameworks/R.framework/Resources/bin/R CMD check --install=check:notameStats.install-out.txt --library=/Library/Frameworks/R.framework/Resources/library --no-vignettes --timings notameStats_1.1.0.tar.gz
###
##############################################################################
##############################################################################
* using log directory ‘/Users/biocbuild/bbs-3.23-bioc/meat/notameStats.Rcheck’
* using R Under development (unstable) (2025-11-04 r88984)
* using platform: aarch64-apple-darwin20
* R was compiled by
Apple clang version 16.0.0 (clang-1600.0.26.6)
GNU Fortran (GCC) 14.2.0
* running under: macOS Ventura 13.7.8
* using session charset: UTF-8
* using option ‘--no-vignettes’
* checking for file ‘notameStats/DESCRIPTION’ ... OK
* checking extension type ... Package
* this is package ‘notameStats’ version ‘1.1.0’
* package encoding: UTF-8
* checking package namespace information ... OK
* checking package dependencies ... OK
* checking if this is a source package ... OK
* checking if there is a namespace ... OK
* checking for hidden files and directories ... OK
* checking for portable file names ... OK
* checking for sufficient/correct file permissions ... OK
* checking whether package ‘notameStats’ can be installed ... OK
* checking installed package size ... OK
* checking package directory ... OK
* checking ‘build’ directory ... OK
* checking DESCRIPTION meta-information ... NOTE
License stub is invalid DCF.
* checking top-level files ... OK
* checking for left-over files ... OK
* checking index information ... OK
* checking package subdirectories ... OK
* checking code files for non-ASCII characters ... OK
* checking R files for syntax errors ... OK
* checking whether the package can be loaded ... OK
* checking whether the package can be loaded with stated dependencies ... OK
* checking whether the package can be unloaded cleanly ... OK
* checking whether the namespace can be loaded with stated dependencies ... OK
* checking whether the namespace can be unloaded cleanly ... OK
* checking dependencies in R code ... OK
* checking S3 generic/method consistency ... OK
* checking replacement functions ... OK
* checking foreign function calls ... OK
* checking R code for possible problems ... OK
* checking Rd files ... OK
* checking Rd metadata ... OK
* checking Rd cross-references ... OK
* checking for missing documentation entries ... OK
* checking for code/documentation mismatches ... OK
* checking Rd \usage sections ... OK
* checking Rd contents ... OK
* checking for unstated dependencies in examples ... OK
* checking files in ‘vignettes’ ... OK
* checking examples ... OK
Examples with CPU (user + system) or elapsed time > 5s
user system elapsed
pls_da 6.771 1.402 8.434
perform_auc 5.226 1.102 1.830
perform_lmer 4.899 0.990 1.737
muvr_analysis 4.936 0.183 5.432
perform_non_parametric 2.733 2.294 1.993
* checking for unstated dependencies in ‘tests’ ... OK
* checking tests ...
Running ‘testthat.R’
ERROR
Running the tests in ‘tests/testthat.R’ failed.
Last 13 lines of output:
INFO [2025-11-20 21:26:21] Tests performed
[ FAIL 1 | WARN 1 | SKIP 0 | PASS 87 ]
══ Failed tests ════════════════════════════════════════════════════════════════
── Failure ('test_stats.R:654:3'): Simple tests work in cases where alternative levels for confidence intervals are returned in case 95% confidence interval can't be computed ──
Expected `any(grepl(c("UCI0"), colnames(res)))` to be TRUE.
Differences:
`actual`: FALSE
`expected`: TRUE
[ FAIL 1 | WARN 1 | SKIP 0 | PASS 87 ]
Error:
! Test failures.
Execution halted
* checking for unstated dependencies in vignettes ... OK
* checking package vignettes ... OK
* checking running R code from vignettes ... SKIPPED
* checking re-building of vignette outputs ... SKIPPED
* checking PDF version of manual ... OK
* DONE
Status: 1 ERROR, 1 NOTE
See
‘/Users/biocbuild/bbs-3.23-bioc/meat/notameStats.Rcheck/00check.log’
for details.
notameStats.Rcheck/00install.out
############################################################################## ############################################################################## ### ### Running command: ### ### /Library/Frameworks/R.framework/Resources/bin/R CMD INSTALL notameStats ### ############################################################################## ############################################################################## * installing to library ‘/Library/Frameworks/R.framework/Versions/4.6-arm64/Resources/library’ * installing *source* package ‘notameStats’ ... ** this is package ‘notameStats’ version ‘1.1.0’ ** using staged installation ** R ** inst ** byte-compile and prepare package for lazy loading ** help *** installing help indices ** building package indices ** installing vignettes ** testing if installed package can be loaded from temporary location ** testing if installed package can be loaded from final location ** testing if installed package keeps a record of temporary installation path * DONE (notameStats)
notameStats.Rcheck/tests/testthat.Rout.fail
R Under development (unstable) (2025-11-04 r88984) -- "Unsuffered Consequences"
Copyright (C) 2025 The R Foundation for Statistical Computing
Platform: aarch64-apple-darwin20
R is free software and comes with ABSOLUTELY NO WARRANTY.
You are welcome to redistribute it under certain conditions.
Type 'license()' or 'licence()' for distribution details.
R is a collaborative project with many contributors.
Type 'contributors()' for more information and
'citation()' on how to cite R or R packages in publications.
Type 'demo()' for some demos, 'help()' for on-line help, or
'help.start()' for an HTML browser interface to help.
Type 'q()' to quit R.
> library(testthat)
> library(notameStats)
Loading required package: SummarizedExperiment
Loading required package: MatrixGenerics
Loading required package: matrixStats
Attaching package: 'MatrixGenerics'
The following objects are masked from 'package:matrixStats':
colAlls, colAnyNAs, colAnys, colAvgsPerRowSet, colCollapse,
colCounts, colCummaxs, colCummins, colCumprods, colCumsums,
colDiffs, colIQRDiffs, colIQRs, colLogSumExps, colMadDiffs,
colMads, colMaxs, colMeans2, colMedians, colMins, colOrderStats,
colProds, colQuantiles, colRanges, colRanks, colSdDiffs, colSds,
colSums2, colTabulates, colVarDiffs, colVars, colWeightedMads,
colWeightedMeans, colWeightedMedians, colWeightedSds,
colWeightedVars, rowAlls, rowAnyNAs, rowAnys, rowAvgsPerColSet,
rowCollapse, rowCounts, rowCummaxs, rowCummins, rowCumprods,
rowCumsums, rowDiffs, rowIQRDiffs, rowIQRs, rowLogSumExps,
rowMadDiffs, rowMads, rowMaxs, rowMeans2, rowMedians, rowMins,
rowOrderStats, rowProds, rowQuantiles, rowRanges, rowRanks,
rowSdDiffs, rowSds, rowSums2, rowTabulates, rowVarDiffs, rowVars,
rowWeightedMads, rowWeightedMeans, rowWeightedMedians,
rowWeightedSds, rowWeightedVars
Loading required package: GenomicRanges
Loading required package: stats4
Loading required package: BiocGenerics
Loading required package: generics
Attaching package: 'generics'
The following objects are masked from 'package:base':
as.difftime, as.factor, as.ordered, intersect, is.element, setdiff,
setequal, union
Attaching package: 'BiocGenerics'
The following objects are masked from 'package:stats':
IQR, mad, sd, var, xtabs
The following objects are masked from 'package:base':
Filter, Find, Map, Position, Reduce, anyDuplicated, aperm, append,
as.data.frame, basename, cbind, colnames, dirname, do.call,
duplicated, eval, evalq, get, grep, grepl, is.unsorted, lapply,
mapply, match, mget, order, paste, pmax, pmax.int, pmin, pmin.int,
rank, rbind, rownames, sapply, saveRDS, table, tapply, unique,
unsplit, which.max, which.min
Loading required package: S4Vectors
Attaching package: 'S4Vectors'
The following object is masked from 'package:utils':
findMatches
The following objects are masked from 'package:base':
I, expand.grid, unname
Loading required package: IRanges
Loading required package: Seqinfo
Loading required package: Biobase
Welcome to Bioconductor
Vignettes contain introductory material; view with
'browseVignettes()'. To cite Bioconductor, see
'citation("Biobase")', and for packages 'citation("pkgname")'.
Attaching package: 'Biobase'
The following object is masked from 'package:MatrixGenerics':
rowMedians
The following objects are masked from 'package:matrixStats':
anyMissing, rowMedians
>
> test_check("notameStats")
Running tests in parallel requires the 3rd edition.
INFO [2025-11-20 21:26:08] Starting to compute Cohen's D between groups B & A from time change 2 - 1
INFO [2025-11-20 21:26:08] Cohen's D computed.
INFO [2025-11-20 21:26:08] Starting to compute Cohen's D between groups B & A
INFO [2025-11-20 21:26:08] Cohen's D computed.
INFO [2025-11-20 21:26:08] Starting to compute fold changes.
INFO [2025-11-20 21:26:08] Fold changes computed.
INFO [2025-11-20 21:26:08] Starting to compute fold changes.
INFO [2025-11-20 21:26:08] Fold changes computed.
INFO [2025-11-20 21:26:08] Starting linear regression.
INFO [2025-11-20 21:26:09] Linear regression performed.
INFO [2025-11-20 21:26:09] Starting linear regression.
INFO [2025-11-20 21:26:09] Linear regression performed.
INFO [2025-11-20 21:26:09]
92% of features flagged for low quality
INFO [2025-11-20 21:26:09] Starting linear regression.
INFO [2025-11-20 21:26:10] Linear regression performed.
INFO [2025-11-20 21:26:10] Starting logistic regression
INFO [2025-11-20 21:26:11] Logistic regression performed.
INFO [2025-11-20 21:26:11] Starting logistic regression
INFO [2025-11-20 21:26:12] Logistic regression performed.
INFO [2025-11-20 21:26:12] Starting to compute Cohen's D between groups B & A
INFO [2025-11-20 21:26:12] Cohen's D computed.
INFO [2025-11-20 21:26:12] Starting to compute Cohen's D between groups C & A
INFO [2025-11-20 21:26:12] Cohen's D computed.
INFO [2025-11-20 21:26:12] Starting to compute Cohen's D between groups C & B
INFO [2025-11-20 21:26:12] Cohen's D computed.
INFO [2025-11-20 21:26:12] Starting to compute Cohen's D between groups B & A from time change 2 - 1
INFO [2025-11-20 21:26:12] Cohen's D computed.
INFO [2025-11-20 21:26:12] Starting to compute Cohen's D between groups B & A from time change 3 - 1
INFO [2025-11-20 21:26:12] Cohen's D computed.
INFO [2025-11-20 21:26:12] Starting to compute Cohen's D between groups B & A from time change 3 - 2
INFO [2025-11-20 21:26:12] Cohen's D computed.
INFO [2025-11-20 21:26:13] Starting to compute Cohen's D between groups C & A from time change 2 - 1
INFO [2025-11-20 21:26:13] Cohen's D computed.
INFO [2025-11-20 21:26:13] Starting to compute Cohen's D between groups C & A from time change 3 - 1
INFO [2025-11-20 21:26:13] Cohen's D computed.
INFO [2025-11-20 21:26:13] Starting to compute Cohen's D between groups C & A from time change 3 - 2
INFO [2025-11-20 21:26:13] Cohen's D computed.
INFO [2025-11-20 21:26:13] Starting to compute Cohen's D between groups C & B from time change 2 - 1
INFO [2025-11-20 21:26:13] Cohen's D computed.
INFO [2025-11-20 21:26:13] Starting to compute Cohen's D between groups C & B from time change 3 - 1
INFO [2025-11-20 21:26:13] Cohen's D computed.
INFO [2025-11-20 21:26:13] Starting to compute Cohen's D between groups C & B from time change 3 - 2
INFO [2025-11-20 21:26:13] Cohen's D computed.
INFO [2025-11-20 21:26:13] Starting to compute Cohen's D between groups B & A from time change 2 - 1
INFO [2025-11-20 21:26:13] Cohen's D computed.
INFO [2025-11-20 21:26:13] Starting to compute Cohen's D between groups B & A from time change 3 - 1
INFO [2025-11-20 21:26:13] Cohen's D computed.
INFO [2025-11-20 21:26:13] Starting to compute Cohen's D between groups B & A from time change 3 - 2
INFO [2025-11-20 21:26:13] Cohen's D computed.
INFO [2025-11-20 21:26:13] Starting to compute Cohen's D between groups C & A from time change 2 - 1
INFO [2025-11-20 21:26:13] Cohen's D computed.
INFO [2025-11-20 21:26:14] Starting to compute Cohen's D between groups C & A from time change 3 - 1
INFO [2025-11-20 21:26:14] Cohen's D computed.
INFO [2025-11-20 21:26:14] Starting to compute Cohen's D between groups C & A from time change 3 - 2
INFO [2025-11-20 21:26:14] Cohen's D computed.
INFO [2025-11-20 21:26:14] Starting to compute Cohen's D between groups C & B from time change 2 - 1
INFO [2025-11-20 21:26:14] Cohen's D computed.
INFO [2025-11-20 21:26:14] Starting to compute Cohen's D between groups C & B from time change 3 - 1
INFO [2025-11-20 21:26:14] Cohen's D computed.
INFO [2025-11-20 21:26:14] Starting to compute Cohen's D between groups C & B from time change 3 - 2
INFO [2025-11-20 21:26:14] Cohen's D computed.
INFO [2025-11-20 21:26:14] Starting to compute Cohen's D between groups B & A from time change 2 - 1
INFO [2025-11-20 21:26:14] Cohen's D computed.
INFO [2025-11-20 21:26:14] Starting to compute Cohen's D between groups B & A from time change 3 - 1
INFO [2025-11-20 21:26:14] Cohen's D computed.
INFO [2025-11-20 21:26:14] Starting to compute Cohen's D between groups B & A from time change 3 - 2
INFO [2025-11-20 21:26:14] Cohen's D computed.
INFO [2025-11-20 21:26:14] Starting to compute Cohen's D between groups C & A from time change 2 - 1
INFO [2025-11-20 21:26:14] Cohen's D computed.
INFO [2025-11-20 21:26:14] Starting to compute Cohen's D between groups C & B from time change 2 - 1
INFO [2025-11-20 21:26:14] Cohen's D computed.
INFO [2025-11-20 21:26:15] Starting to compute Cohen's D between groups B & A from time change 2 - 1
INFO [2025-11-20 21:26:15] Cohen's D computed.
INFO [2025-11-20 21:26:15] Starting to compute Cohen's D between groups B & A from time change 3 - 1
INFO [2025-11-20 21:26:15] Cohen's D computed.
INFO [2025-11-20 21:26:15] Starting to compute Cohen's D between groups B & A from time change 3 - 2
INFO [2025-11-20 21:26:15] Cohen's D computed.
INFO [2025-11-20 21:26:15] Starting to compute Cohen's D between groups C & A from time change 2 - 1
INFO [2025-11-20 21:26:15] Cohen's D computed.
INFO [2025-11-20 21:26:15] Starting to compute Cohen's D between groups C & B from time change 2 - 1
INFO [2025-11-20 21:26:15] Cohen's D computed.
INFO [2025-11-20 21:26:15] Starting to compute Cohen's D between groups B & A from time change 3 - 2
INFO [2025-11-20 21:26:15] Cohen's D computed.
INFO [2025-11-20 21:26:15] Starting to compute Cohen's D between groups C & A from time change 2 - 1
INFO [2025-11-20 21:26:15] Cohen's D computed.
INFO [2025-11-20 21:26:15] Starting to compute Cohen's D between groups C & A from time change 3 - 1
INFO [2025-11-20 21:26:15] Cohen's D computed.
INFO [2025-11-20 21:26:15] Starting to compute Cohen's D between groups C & A from time change 3 - 2
INFO [2025-11-20 21:26:15] Cohen's D computed.
INFO [2025-11-20 21:26:15] Starting to compute Cohen's D between groups C & B from time change 2 - 1
INFO [2025-11-20 21:26:16] Cohen's D computed.
INFO [2025-11-20 21:26:16] Starting to compute Cohen's D between groups C & B from time change 3 - 1
INFO [2025-11-20 21:26:16] Cohen's D computed.
INFO [2025-11-20 21:26:16] Starting to compute Cohen's D between groups C & B from time change 3 - 2
INFO [2025-11-20 21:26:16] Cohen's D computed.
INFO [2025-11-20 21:26:16] Starting paired tests for 1 & 2
INFO [2025-11-20 21:26:16] Found 20 complete pairs.
INFO [2025-11-20 21:26:16] Paired tests performed.
INFO [2025-11-20 21:26:16] Starting tests for 1 & 2
INFO [2025-11-20 21:26:16] Tests performed
INFO [2025-11-20 21:26:16] Starting tests for 1 & 3
INFO [2025-11-20 21:26:16] Tests performed
INFO [2025-11-20 21:26:16] Starting tests for 2 & 3
INFO [2025-11-20 21:26:16] Tests performed
INFO [2025-11-20 21:26:16] Starting tests for 1 & 2
INFO [2025-11-20 21:26:16] Tests performed
INFO [2025-11-20 21:26:16] Starting tests for 1 & 3
INFO [2025-11-20 21:26:17] Tests performed
INFO [2025-11-20 21:26:17] Starting tests for 2 & 3
INFO [2025-11-20 21:26:17] Tests performed
INFO [2025-11-20 21:26:17] Starting paired tests for 1 & 2
INFO [2025-11-20 21:26:17] Found 4 complete pairs.
INFO [2025-11-20 21:26:17] Paired tests performed.
INFO [2025-11-20 21:26:17] Starting paired tests for 1 & 3
INFO [2025-11-20 21:26:17] Found 4 complete pairs.
INFO [2025-11-20 21:26:17] Paired tests performed.
INFO [2025-11-20 21:26:17] Starting paired tests for 2 & 3
INFO [2025-11-20 21:26:17] Found 4 complete pairs.
INFO [2025-11-20 21:26:17] Paired tests performed.
INFO [2025-11-20 21:26:17] Starting paired tests for 1 & 2
INFO [2025-11-20 21:26:17] Found 8 complete pairs.
INFO [2025-11-20 21:26:17] Paired tests performed.
INFO [2025-11-20 21:26:17] Starting paired tests for 1 & 3
INFO [2025-11-20 21:26:17] Found 8 complete pairs.
INFO [2025-11-20 21:26:17] Paired tests performed.
INFO [2025-11-20 21:26:17] Starting paired tests for 2 & 3
INFO [2025-11-20 21:26:17] Found 8 complete pairs.
INFO [2025-11-20 21:26:17] Paired tests performed.
INFO [2025-11-20 21:26:17] Starting paired tests for 1 & 2
INFO [2025-11-20 21:26:18] Found 4 complete pairs.
INFO [2025-11-20 21:26:18] Paired tests performed.
INFO [2025-11-20 21:26:18] Starting paired tests for 1 & 3
INFO [2025-11-20 21:26:18] Found 4 complete pairs.
INFO [2025-11-20 21:26:18] Paired tests performed.
INFO [2025-11-20 21:26:18] Starting paired tests for 2 & 3
INFO [2025-11-20 21:26:18] Found 4 complete pairs.
INFO [2025-11-20 21:26:18] Paired tests performed.
INFO [2025-11-20 21:26:18] Starting tests for A & B
INFO [2025-11-20 21:26:18] Tests performed
INFO [2025-11-20 21:26:19] Starting paired tests for 1 & 2
INFO [2025-11-20 21:26:19] Found 20 complete pairs.
INFO [2025-11-20 21:26:19] Paired tests performed.
INFO [2025-11-20 21:26:19] Starting tests for 1 & 2
INFO [2025-11-20 21:26:19] Tests performed
INFO [2025-11-20 21:26:19] Starting tests for 1 & 3
INFO [2025-11-20 21:26:19] Tests performed
INFO [2025-11-20 21:26:19] Starting tests for 2 & 3
INFO [2025-11-20 21:26:19] Tests performed
INFO [2025-11-20 21:26:19] Starting tests for 1 & 2
INFO [2025-11-20 21:26:19] Tests performed
INFO [2025-11-20 21:26:19] Starting tests for 1 & 3
INFO [2025-11-20 21:26:20] Tests performed
INFO [2025-11-20 21:26:20] Starting tests for 2 & 3
INFO [2025-11-20 21:26:20] Tests performed
INFO [2025-11-20 21:26:20] Starting paired tests for 1 & 2
INFO [2025-11-20 21:26:20] Found 4 complete pairs.
INFO [2025-11-20 21:26:20] Paired tests performed.
INFO [2025-11-20 21:26:20] Starting paired tests for 1 & 3
INFO [2025-11-20 21:26:20] Found 4 complete pairs.
INFO [2025-11-20 21:26:20] Paired tests performed.
INFO [2025-11-20 21:26:20] Starting paired tests for 2 & 3
INFO [2025-11-20 21:26:20] Found 4 complete pairs.
INFO [2025-11-20 21:26:20] Paired tests performed.
INFO [2025-11-20 21:26:20] Starting correlation tests.
INFO [2025-11-20 21:26:20] Performing correlation tests for single object
INFO [2025-11-20 21:26:20] Correlation tests performed.
INFO [2025-11-20 21:26:20] Starting correlation tests.
INFO [2025-11-20 21:26:20] Starting correlation tests.
INFO [2025-11-20 21:26:20] Starting correlation tests.
INFO [2025-11-20 21:26:20] Starting correlation tests.
INFO [2025-11-20 21:26:20] Performing correlation tests for two objects
INFO [2025-11-20 21:26:20] Correlation tests performed.
INFO [2025-11-20 21:26:20] Starting correlation tests.
INFO [2025-11-20 21:26:20] Performing correlation tests for two objects
INFO [2025-11-20 21:26:20] Correlation tests performed.
INFO [2025-11-20 21:26:21] Starting paired tests for 1 & 2
INFO [2025-11-20 21:26:21] Found 20 complete pairs.
INFO [2025-11-20 21:26:21] Paired tests performed.
Saving _problems/test_stats-654.R
INFO [2025-11-20 21:26:21] Starting tests for A & B
INFO [2025-11-20 21:26:21] Tests performed
[ FAIL 1 | WARN 1 | SKIP 0 | PASS 87 ]
══ Failed tests ════════════════════════════════════════════════════════════════
── Failure ('test_stats.R:654:3'): Simple tests work in cases where alternative levels for confidence intervals are returned in case 95% confidence interval can't be computed ──
Expected `any(grepl(c("UCI0"), colnames(res)))` to be TRUE.
Differences:
`actual`: FALSE
`expected`: TRUE
[ FAIL 1 | WARN 1 | SKIP 0 | PASS 87 ]
Error:
! Test failures.
Execution halted
notameStats.Rcheck/notameStats-Ex.timings
| name | user | system | elapsed | |
| cohens_d | 1.299 | 0.182 | 1.442 | |
| fit_rf | 0.085 | 0.031 | 0.125 | |
| fold_change | 0.158 | 0.248 | 0.178 | |
| importance_rf | 0.082 | 0.013 | 0.102 | |
| muvr_analysis | 4.936 | 0.183 | 5.432 | |
| perform_auc | 5.226 | 1.102 | 1.830 | |
| perform_correlation_tests | 1.850 | 1.447 | 1.420 | |
| perform_homoscedasticity_tests | 1.376 | 0.941 | 0.665 | |
| perform_kruskal_wallis | 0.582 | 0.366 | 0.286 | |
| perform_lm | 1.302 | 0.814 | 0.618 | |
| perform_lm_anova | 0.64 | 0.49 | 0.36 | |
| perform_lmer | 4.899 | 0.990 | 1.737 | |
| perform_logistic | 1.569 | 0.935 | 0.734 | |
| perform_non_parametric | 2.733 | 2.294 | 1.993 | |
| perform_oneway_anova | 0.610 | 0.668 | 0.435 | |
| perform_permanova | 0.310 | 0.082 | 0.397 | |
| perform_t_test | 0.839 | 0.996 | 0.726 | |
| pls | 2.405 | 0.253 | 2.814 | |
| pls_da | 6.771 | 1.402 | 8.434 | |
| summarize_results | 1.187 | 0.706 | 0.618 | |
| summary_statistics | 0.534 | 0.484 | 0.405 | |