Back to Multiple platform build/check report for BioC 3.22:   simplified   long
ABCDEFGHIJKLM[N]OPQRSTUVWXYZ

This page was generated on 2025-10-15 12:06 -0400 (Wed, 15 Oct 2025).

HostnameOSArch (*)R versionInstalled pkgs
nebbiolo2Linux (Ubuntu 24.04.3 LTS)x86_644.5.1 Patched (2025-08-23 r88802) -- "Great Square Root" 4866
lconwaymacOS 12.7.6 Montereyx86_644.5.1 Patched (2025-09-10 r88807) -- "Great Square Root" 4653
kjohnson3macOS 13.7.7 Venturaarm644.5.1 Patched (2025-09-10 r88807) -- "Great Square Root" 4598
taishanLinux (openEuler 24.03 LTS)aarch644.5.0 (2025-04-11) -- "How About a Twenty-Six" 4610
Click on any hostname to see more info about the system (e.g. compilers)      (*) as reported by 'uname -p', except on Windows and Mac OS X

Package 1463/2346HostnameOS / ArchINSTALLBUILDCHECKBUILD BIN
notame 0.99.7  (landing page)
Vilhelm Suksi
Snapshot Date: 2025-10-14 13:45 -0400 (Tue, 14 Oct 2025)
git_url: https://git.bioconductor.org/packages/notame
git_branch: devel
git_last_commit: 4cc3f9f
git_last_commit_date: 2025-10-14 06:19:32 -0400 (Tue, 14 Oct 2025)
nebbiolo2Linux (Ubuntu 24.04.3 LTS) / x86_64  OK    OK    OK  YES
lconwaymacOS 12.7.6 Monterey / x86_64  OK    OK    OK    OK  YES
kjohnson3macOS 13.7.7 Ventura / arm64  OK    OK    OK    OK  YES
taishanLinux (openEuler 24.03 LTS) / aarch64  OK    OK    OK  


CHECK results for notame on kjohnson3

To the developers/maintainers of the notame package:
- Allow up to 24 hours (and sometimes 48 hours) for your latest push to git@git.bioconductor.org:packages/notame.git to reflect on this report. See Troubleshooting Build Report for more information.
- Use the following Renviron settings to reproduce errors and warnings.
- If 'R CMD check' started to fail recently on the Linux builder(s) over a missing dependency, add the missing dependency to 'Suggests:' in your DESCRIPTION file. See Renviron.bioc for more information.

raw results


Summary

Package: notame
Version: 0.99.7
Command: /Library/Frameworks/R.framework/Resources/bin/R CMD check --install=check:notame.install-out.txt --library=/Library/Frameworks/R.framework/Resources/library --no-vignettes --timings notame_0.99.7.tar.gz
StartedAt: 2025-10-14 21:27:17 -0400 (Tue, 14 Oct 2025)
EndedAt: 2025-10-14 21:29:01 -0400 (Tue, 14 Oct 2025)
EllapsedTime: 104.3 seconds
RetCode: 0
Status:   OK  
CheckDir: notame.Rcheck
Warnings: 0

Command output

##############################################################################
##############################################################################
###
### Running command:
###
###   /Library/Frameworks/R.framework/Resources/bin/R CMD check --install=check:notame.install-out.txt --library=/Library/Frameworks/R.framework/Resources/library --no-vignettes --timings notame_0.99.7.tar.gz
###
##############################################################################
##############################################################################


* using log directory ‘/Users/biocbuild/bbs-3.22-bioc/meat/notame.Rcheck’
* using R version 4.5.1 Patched (2025-09-10 r88807)
* using platform: aarch64-apple-darwin20
* R was compiled by
    Apple clang version 16.0.0 (clang-1600.0.26.6)
    GNU Fortran (GCC) 14.2.0
* running under: macOS Ventura 13.7.7
* using session charset: UTF-8
* using option ‘--no-vignettes’
* checking for file ‘notame/DESCRIPTION’ ... OK
* checking extension type ... Package
* this is package ‘notame’ version ‘0.99.7’
* package encoding: UTF-8
* checking package namespace information ... OK
* checking package dependencies ... OK
* checking if this is a source package ... OK
* checking if there is a namespace ... OK
* checking for hidden files and directories ... OK
* checking for portable file names ... OK
* checking for sufficient/correct file permissions ... OK
* checking whether package ‘notame’ can be installed ... OK
* checking installed package size ... OK
* checking package directory ... OK
* checking ‘build’ directory ... OK
* checking DESCRIPTION meta-information ... NOTE
License stub is invalid DCF.
* checking top-level files ... OK
* checking for left-over files ... OK
* checking index information ... OK
* checking package subdirectories ... OK
* checking code files for non-ASCII characters ... OK
* checking R files for syntax errors ... OK
* checking whether the package can be loaded ... OK
* checking whether the package can be loaded with stated dependencies ... OK
* checking whether the package can be unloaded cleanly ... OK
* checking whether the namespace can be loaded with stated dependencies ... OK
* checking whether the namespace can be unloaded cleanly ... OK
* checking whether startup messages can be suppressed ... OK
* checking dependencies in R code ... OK
* checking S3 generic/method consistency ... OK
* checking replacement functions ... OK
* checking foreign function calls ... OK
* checking R code for possible problems ... OK
* checking Rd files ... OK
* checking Rd metadata ... OK
* checking Rd cross-references ... OK
* checking for missing documentation entries ... OK
* checking for code/documentation mismatches ... OK
* checking Rd \usage sections ... OK
* checking Rd contents ... OK
* checking for unstated dependencies in examples ... OK
* checking contents of ‘data’ directory ... OK
* checking data for non-ASCII characters ... OK
* checking data for ASCII and uncompressed saves ... OK
* checking files in ‘vignettes’ ... OK
* checking examples ... OK
* checking for unstated dependencies in ‘tests’ ... OK
* checking tests ...
  Running ‘testthat.R’
 OK
* checking for unstated dependencies in vignettes ... OK
* checking package vignettes ... OK
* checking running R code from vignettes ... SKIPPED
* checking re-building of vignette outputs ... SKIPPED
* checking PDF version of manual ... OK
* DONE

Status: 1 NOTE
See
  ‘/Users/biocbuild/bbs-3.22-bioc/meat/notame.Rcheck/00check.log’
for details.


Installation output

notame.Rcheck/00install.out

##############################################################################
##############################################################################
###
### Running command:
###
###   /Library/Frameworks/R.framework/Resources/bin/R CMD INSTALL notame
###
##############################################################################
##############################################################################


* installing to library ‘/Library/Frameworks/R.framework/Versions/4.5-arm64/Resources/library’
* installing *source* package ‘notame’ ...
** this is package ‘notame’ version ‘0.99.7’
** using staged installation
** R
** data
** inst
** byte-compile and prepare package for lazy loading
** help
*** installing help indices
** building package indices
** installing vignettes
** testing if installed package can be loaded from temporary location
** testing if installed package can be loaded from final location
** testing if installed package keeps a record of temporary installation path
* DONE (notame)

Tests output

notame.Rcheck/tests/testthat.Rout


R version 4.5.1 Patched (2025-09-10 r88807) -- "Great Square Root"
Copyright (C) 2025 The R Foundation for Statistical Computing
Platform: aarch64-apple-darwin20

R is free software and comes with ABSOLUTELY NO WARRANTY.
You are welcome to redistribute it under certain conditions.
Type 'license()' or 'licence()' for distribution details.

R is a collaborative project with many contributors.
Type 'contributors()' for more information and
'citation()' on how to cite R or R packages in publications.

Type 'demo()' for some demos, 'help()' for on-line help, or
'help.start()' for an HTML browser interface to help.
Type 'q()' to quit R.

> library(testthat)
> library(notame)
Loading required package: ggplot2
Loading required package: SummarizedExperiment
Loading required package: MatrixGenerics
Loading required package: matrixStats

Attaching package: 'MatrixGenerics'

The following objects are masked from 'package:matrixStats':

    colAlls, colAnyNAs, colAnys, colAvgsPerRowSet, colCollapse,
    colCounts, colCummaxs, colCummins, colCumprods, colCumsums,
    colDiffs, colIQRDiffs, colIQRs, colLogSumExps, colMadDiffs,
    colMads, colMaxs, colMeans2, colMedians, colMins, colOrderStats,
    colProds, colQuantiles, colRanges, colRanks, colSdDiffs, colSds,
    colSums2, colTabulates, colVarDiffs, colVars, colWeightedMads,
    colWeightedMeans, colWeightedMedians, colWeightedSds,
    colWeightedVars, rowAlls, rowAnyNAs, rowAnys, rowAvgsPerColSet,
    rowCollapse, rowCounts, rowCummaxs, rowCummins, rowCumprods,
    rowCumsums, rowDiffs, rowIQRDiffs, rowIQRs, rowLogSumExps,
    rowMadDiffs, rowMads, rowMaxs, rowMeans2, rowMedians, rowMins,
    rowOrderStats, rowProds, rowQuantiles, rowRanges, rowRanks,
    rowSdDiffs, rowSds, rowSums2, rowTabulates, rowVarDiffs, rowVars,
    rowWeightedMads, rowWeightedMeans, rowWeightedMedians,
    rowWeightedSds, rowWeightedVars

Loading required package: GenomicRanges
Loading required package: stats4
Loading required package: BiocGenerics
Loading required package: generics

Attaching package: 'generics'

The following objects are masked from 'package:base':

    as.difftime, as.factor, as.ordered, intersect, is.element, setdiff,
    setequal, union


Attaching package: 'BiocGenerics'

The following objects are masked from 'package:stats':

    IQR, mad, sd, var, xtabs

The following objects are masked from 'package:base':

    Filter, Find, Map, Position, Reduce, anyDuplicated, aperm, append,
    as.data.frame, basename, cbind, colnames, dirname, do.call,
    duplicated, eval, evalq, get, grep, grepl, is.unsorted, lapply,
    mapply, match, mget, order, paste, pmax, pmax.int, pmin, pmin.int,
    rank, rbind, rownames, sapply, saveRDS, table, tapply, unique,
    unsplit, which.max, which.min

Loading required package: S4Vectors

Attaching package: 'S4Vectors'

The following object is masked from 'package:utils':

    findMatches

The following objects are masked from 'package:base':

    I, expand.grid, unname

Loading required package: IRanges
Loading required package: Seqinfo
Loading required package: Biobase
Welcome to Bioconductor

    Vignettes contain introductory material; view with
    'browseVignettes()'. To cite Bioconductor, see
    'citation("Biobase")', and for packages 'citation("pkgname")'.


Attaching package: 'Biobase'

The following object is masked from 'package:MatrixGenerics':

    rowMedians

The following objects are masked from 'package:matrixStats':

    anyMissing, rowMedians

> 
> test_check("notame")
Running tests in parallel requires the 3rd edition
INFO [2025-10-14 21:28:44] Pheno data was cleaned
INFO [2025-10-14 21:28:44] Checking provided sample ID column
INFO [2025-10-14 21:28:44] Column 'Sample_ID' created from id
INFO [2025-10-14 21:28:44] Pheno data was cleaned
INFO [2025-10-14 21:28:44] Sample ID generated from injection orders and prefix ID_
INFO [2025-10-14 21:28:44] Pheno data was cleaned
INFO [2025-10-14 21:28:44] Pheno data was cleaned
INFO [2025-10-14 21:28:44] Adding running index to 'QC' sample IDs
INFO [2025-10-14 21:28:44] Pheno data was cleaned
INFO [2025-10-14 21:28:44] Initializing 'Flag' column with unflagged features
INFO [2025-10-14 21:28:44] Assigning HILIC_pos as the value of the Split column for each feature
INFO [2025-10-14 21:28:44] Feature data was cleaned
INFO [2025-10-14 21:28:44] Initializing 'Flag' column with unflagged features
INFO [2025-10-14 21:28:44] Feature_ID column not found, creating feature IDs
INFO [2025-10-14 21:28:44] Initializing 'Flag' column with unflagged features
INFO [2025-10-14 21:28:44] Feature_ID column not found, creating feature IDs
INFO [2025-10-14 21:28:44] Initializing 'Flag' column with unflagged features
INFO [2025-10-14 21:28:44] Feature_ID column not found, creating feature IDs
INFO [2025-10-14 21:28:44] Identified m/z column Average_Mz and retention time column Average_Rt_min
INFO [2025-10-14 21:28:44] Identified m/z column Average_Mz and retention time column Average_Rt_min
INFO [2025-10-14 21:28:44] Creating feature IDs from Split, m/z and retention time
INFO [2025-10-14 21:28:44] Feature data was cleaned
INFO [2025-10-14 21:28:44] Identified m/z column Mass and retention time column RetentionTime
INFO [2025-10-14 21:28:44] Identified m/z column Mass and retention time column RetentionTime
INFO [2025-10-14 21:28:44] Creating feature IDs from Split, m/z and retention time
INFO [2025-10-14 21:28:44] Corner detected correctly at row 4, column D
INFO [2025-10-14 21:28:44] 
Extracting sample information from rows 1 to 4 and columns E to P
INFO [2025-10-14 21:28:44] Replacing spaces in sample information column names with underscores (_)
INFO [2025-10-14 21:28:44] Naming the last column of sample information "easy_Datafile"
INFO [2025-10-14 21:28:44] 
Extracting feature information from rows 5 to 14 and columns A to D
INFO [2025-10-14 21:28:44] 
Extracting feature abundances from rows 5 to 14 and columns E to P
INFO [2025-10-14 21:28:44] Sample ID generated from injection orders and prefix TEST_
INFO [2025-10-14 21:28:44] Pheno data was cleaned
INFO [2025-10-14 21:28:44] Initializing 'Flag' column with unflagged features
INFO [2025-10-14 21:28:44] Assigning easy as the value of the Split column for each feature
INFO [2025-10-14 21:28:44] Feature_ID column not found, creating feature IDs
INFO [2025-10-14 21:28:44] Identified m/z column Mass and retention time column RetentionTime
INFO [2025-10-14 21:28:44] Identified m/z column Mass and retention time column RetentionTime
INFO [2025-10-14 21:28:44] Creating feature IDs from Split, m/z and retention time
INFO [2025-10-14 21:28:44] Feature data was cleaned
INFO [2025-10-14 21:28:44] 
Checking sample information
INFO [2025-10-14 21:28:44] Checking 'Injection_order' column in feature data
INFO [2025-10-14 21:28:44] Checking 'Sample_ID' column in pheno data
INFO [2025-10-14 21:28:44] Checking 'QC' column in feature data
INFO [2025-10-14 21:28:44] Checking that feature abundances only contain numeric values
INFO [2025-10-14 21:28:44] 
Checking feature information
INFO [2025-10-14 21:28:44] Checking that feature IDs are unique and not storedas numbers
INFO [2025-10-14 21:28:44] Checking that m/z and retention time values are reasonable.
INFO [2025-10-14 21:28:44] Identified m/z column Mass and retention time column RetentionTime
INFO [2025-10-14 21:28:44] Identified m/z column Mass and retention time column RetentionTime
INFO [2025-10-14 21:28:44] Checking that feature data includes a 'Split' column
INFO [2025-10-14 21:28:44] Checking that feature data includes a 'Flag' column
INFO [2025-10-14 21:28:44] Identified m/z column Mass and retention time column RetentionTime
INFO [2025-10-14 21:28:44] Identified m/z column Mass and retention time column RetentionTime
INFO [2025-10-14 21:28:44] Creating feature IDs from Split, m/z and retention time
INFO [2025-10-14 21:28:44] Corner detected correctly at row 4, column F
INFO [2025-10-14 21:28:44] 
Extracting sample information from rows 1 to 4 and columns G to R
INFO [2025-10-14 21:28:44] Replacing spaces in sample information column names with underscores (_)
INFO [2025-10-14 21:28:44] Naming the last column of sample information "Datafile"
INFO [2025-10-14 21:28:44] 
Extracting feature information from rows 5 to 20 and columns A to F
INFO [2025-10-14 21:28:44] 
Extracting feature abundances from rows 5 to 20 and columns G to R
INFO [2025-10-14 21:28:44] Sample ID generated from injection orders and prefix TEST_
INFO [2025-10-14 21:28:44] Pheno data was cleaned
INFO [2025-10-14 21:28:44] Initializing 'Flag' column with unflagged features
INFO [2025-10-14 21:28:44] Creating Split column from Column, Mode
INFO [2025-10-14 21:28:44] Feature_ID column not found, creating feature IDs
INFO [2025-10-14 21:28:44] Identified m/z column Mass and retention time column RetentionTime
INFO [2025-10-14 21:28:44] Identified m/z column Mass and retention time column RetentionTime
INFO [2025-10-14 21:28:44] Creating feature IDs from Split, m/z and retention time
INFO [2025-10-14 21:28:44] Feature data was cleaned
INFO [2025-10-14 21:28:44] 
Checking sample information
INFO [2025-10-14 21:28:44] Checking 'Injection_order' column in feature data
INFO [2025-10-14 21:28:44] Checking 'Sample_ID' column in pheno data
INFO [2025-10-14 21:28:44] Checking 'QC' column in feature data
INFO [2025-10-14 21:28:44] Checking that feature abundances only contain numeric values
INFO [2025-10-14 21:28:44] 
Checking feature information
INFO [2025-10-14 21:28:44] Checking that feature IDs are unique and not storedas numbers
INFO [2025-10-14 21:28:44] Checking that m/z and retention time values are reasonable.
INFO [2025-10-14 21:28:44] Identified m/z column Mass and retention time column RetentionTime
INFO [2025-10-14 21:28:44] Identified m/z column Mass and retention time column RetentionTime
INFO [2025-10-14 21:28:44] Checking that feature data includes a 'Split' column
INFO [2025-10-14 21:28:44] Checking that feature data includes a 'Flag' column
INFO [2025-10-14 21:28:44] Pheno data was cleaned
INFO [2025-10-14 21:28:44] Feature data was cleaned
INFO [2025-10-14 21:28:44] Pheno data was cleaned
INFO [2025-10-14 21:28:44] Feature data was cleaned
INFO [2025-10-14 21:28:45] Detecting corner position
INFO [2025-10-14 21:28:45] Corner detected correctly at row 11, column H
INFO [2025-10-14 21:28:45] 
Extracting sample information from rows 1 to 11 and columns I to BF
INFO [2025-10-14 21:28:45] Replacing spaces in sample information column names with underscores (_)
INFO [2025-10-14 21:28:45] Naming the last column of sample information "hilic_neg_Datafile"
INFO [2025-10-14 21:28:45] 
Extracting feature information from rows 12 to 31 and columns A to H
INFO [2025-10-14 21:28:45] 
Extracting feature abundances from rows 12 to 31 and columns I to BF
INFO [2025-10-14 21:28:45] Pheno data was cleaned
INFO [2025-10-14 21:28:45] Feature data was cleaned
INFO [2025-10-14 21:28:45] 
Checking sample information
INFO [2025-10-14 21:28:45] Checking 'Injection_order' column in feature data
INFO [2025-10-14 21:28:45] Checking 'Sample_ID' column in pheno data
INFO [2025-10-14 21:28:45] Checking 'QC' column in feature data
INFO [2025-10-14 21:28:45] Checking that feature abundances only contain numeric values
INFO [2025-10-14 21:28:45] 
Checking feature information
INFO [2025-10-14 21:28:45] Checking that feature IDs are unique and not storedas numbers
INFO [2025-10-14 21:28:45] Checking that m/z and retention time values are reasonable.
INFO [2025-10-14 21:28:45] Identified m/z column Average_Mz and retention time column Average_Rt_min
INFO [2025-10-14 21:28:45] Identified m/z column Average_Mz and retention time column Average_Rt_min
INFO [2025-10-14 21:28:45] Checking that feature data includes a 'Split' column
INFO [2025-10-14 21:28:45] Checking that feature data includes a 'Flag' column
INFO [2025-10-14 21:28:45] Detecting corner position
INFO [2025-10-14 21:28:45] Corner detected correctly at row 11, column H
INFO [2025-10-14 21:28:45] 
Extracting sample information from rows 1 to 11 and columns I to BF
INFO [2025-10-14 21:28:45] Replacing spaces in sample information column names with underscores (_)
INFO [2025-10-14 21:28:45] Naming the last column of sample information "hilic_pos_Datafile"
INFO [2025-10-14 21:28:45] 
Extracting feature information from rows 12 to 31 and columns A to H
INFO [2025-10-14 21:28:45] 
Extracting feature abundances from rows 12 to 31 and columns I to BF
INFO [2025-10-14 21:28:45] Pheno data was cleaned
INFO [2025-10-14 21:28:45] Feature data was cleaned
INFO [2025-10-14 21:28:45] 
Checking sample information
INFO [2025-10-14 21:28:45] Checking 'Injection_order' column in feature data
INFO [2025-10-14 21:28:45] Checking 'Sample_ID' column in pheno data
INFO [2025-10-14 21:28:45] Checking 'QC' column in feature data
INFO [2025-10-14 21:28:45] Checking that feature abundances only contain numeric values
INFO [2025-10-14 21:28:45] 
Checking feature information
INFO [2025-10-14 21:28:45] Checking that feature IDs are unique and not storedas numbers
INFO [2025-10-14 21:28:45] Checking that m/z and retention time values are reasonable.
INFO [2025-10-14 21:28:45] Identified m/z column Average_Mz and retention time column Average_Rt_min
INFO [2025-10-14 21:28:45] Identified m/z column Average_Mz and retention time column Average_Rt_min
INFO [2025-10-14 21:28:45] Checking that feature data includes a 'Split' column
INFO [2025-10-14 21:28:45] Checking that feature data includes a 'Flag' column
INFO [2025-10-14 21:28:45] Detecting corner position
INFO [2025-10-14 21:28:45] Corner detected correctly at row 11, column H
INFO [2025-10-14 21:28:45] 
Extracting sample information from rows 1 to 11 and columns I to BF
INFO [2025-10-14 21:28:45] Replacing spaces in sample information column names with underscores (_)
INFO [2025-10-14 21:28:45] Naming the last column of sample information "rp_neg_Datafile"
INFO [2025-10-14 21:28:45] 
Extracting feature information from rows 12 to 31 and columns A to H
INFO [2025-10-14 21:28:45] 
Extracting feature abundances from rows 12 to 31 and columns I to BF
INFO [2025-10-14 21:28:45] Pheno data was cleaned
INFO [2025-10-14 21:28:45] Feature data was cleaned
INFO [2025-10-14 21:28:45] 
Checking sample information
INFO [2025-10-14 21:28:45] Checking 'Injection_order' column in feature data
INFO [2025-10-14 21:28:45] Checking 'Sample_ID' column in pheno data
INFO [2025-10-14 21:28:45] Checking 'QC' column in feature data
INFO [2025-10-14 21:28:45] Checking that feature abundances only contain numeric values
INFO [2025-10-14 21:28:45] 
Checking feature information
INFO [2025-10-14 21:28:45] Checking that feature IDs are unique and not storedas numbers
INFO [2025-10-14 21:28:45] Checking that m/z and retention time values are reasonable.
INFO [2025-10-14 21:28:45] Identified m/z column Average_Mz and retention time column Average_Rt_min
INFO [2025-10-14 21:28:45] Identified m/z column Average_Mz and retention time column Average_Rt_min
INFO [2025-10-14 21:28:45] Checking that feature data includes a 'Split' column
INFO [2025-10-14 21:28:45] Checking that feature data includes a 'Flag' column
INFO [2025-10-14 21:28:45] Detecting corner position
INFO [2025-10-14 21:28:45] Corner detected correctly at row 11, column H
INFO [2025-10-14 21:28:45] 
Extracting sample information from rows 1 to 11 and columns I to BF
INFO [2025-10-14 21:28:45] Replacing spaces in sample information column names with underscores (_)
INFO [2025-10-14 21:28:45] Naming the last column of sample information "rp_pos_Datafile"
INFO [2025-10-14 21:28:45] 
Extracting feature information from rows 12 to 31 and columns A to H
INFO [2025-10-14 21:28:45] 
Extracting feature abundances from rows 12 to 31 and columns I to BF
INFO [2025-10-14 21:28:45] Pheno data was cleaned
INFO [2025-10-14 21:28:45] Feature data was cleaned
INFO [2025-10-14 21:28:45] 
Checking sample information
INFO [2025-10-14 21:28:45] Checking 'Injection_order' column in feature data
INFO [2025-10-14 21:28:45] Checking 'Sample_ID' column in pheno data
INFO [2025-10-14 21:28:45] Checking 'QC' column in feature data
INFO [2025-10-14 21:28:45] Checking that feature abundances only contain numeric values
INFO [2025-10-14 21:28:45] 
Checking feature information
INFO [2025-10-14 21:28:45] Checking that feature IDs are unique and not storedas numbers
INFO [2025-10-14 21:28:45] Checking that m/z and retention time values are reasonable.
INFO [2025-10-14 21:28:45] Identified m/z column Average_Mz and retention time column Average_Rt_min
INFO [2025-10-14 21:28:45] Identified m/z column Average_Mz and retention time column Average_Rt_min
INFO [2025-10-14 21:28:45] Checking that feature data includes a 'Split' column
INFO [2025-10-14 21:28:45] Checking that feature data includes a 'Flag' column
INFO [2025-10-14 21:28:45] Injection order differs between modes.Creating dummy injection order
INFO [2025-10-14 21:28:45] Dummy injection order (row numbers) created
INFO [2025-10-14 21:28:45] Merging objects with unequal amounts of samples.
INFO [2025-10-14 21:28:45] Samples only in first object:
INFO [2025-10-14 21:28:45] ID_666

INFO [2025-10-14 21:28:45] Samples only in second object:
INFO [2025-10-14 21:28:45] Demo_2

INFO [2025-10-14 21:28:45] Injection order differs between modes.Creating dummy injection order
INFO [2025-10-14 21:28:45] Dummy injection order (row numbers) created
INFO [2025-10-14 21:28:45] Merging objects with unequal amounts of samples.
INFO [2025-10-14 21:28:45] Samples only in first object:
INFO [2025-10-14 21:28:45] ID_666

INFO [2025-10-14 21:28:45] Samples only in second object:
INFO [2025-10-14 21:28:45] 

INFO [2025-10-14 21:28:45] Injection order differs between modes.Creating dummy injection order
INFO [2025-10-14 21:28:45] Dummy injection order (row numbers) created
INFO [2025-10-14 21:28:45] Merging objects with unequal amounts of samples.
INFO [2025-10-14 21:28:45] Samples only in first object:
INFO [2025-10-14 21:28:45] ID_666, Demo_22

INFO [2025-10-14 21:28:45] Samples only in second object:
INFO [2025-10-14 21:28:45] ID_999

INFO [2025-10-14 21:28:45] Starting logging
INFO [2025-10-14 21:28:45] Finished analysis. Tue Oct 14 21:28:45 2025
Session info:

INFO [2025-10-14 21:28:45] R version 4.5.1 Patched (2025-09-10 r88807)
INFO [2025-10-14 21:28:45] Platform: aarch64-apple-darwin20
INFO [2025-10-14 21:28:45] Running under: macOS Ventura 13.7.7
INFO [2025-10-14 21:28:45] 
INFO [2025-10-14 21:28:45] Matrix products: default
INFO [2025-10-14 21:28:45] BLAS:   /Library/Frameworks/R.framework/Versions/4.5-arm64/Resources/lib/libRblas.0.dylib 
INFO [2025-10-14 21:28:45] LAPACK: /Library/Frameworks/R.framework/Versions/4.5-arm64/Resources/lib/libRlapack.dylib;  LAPACK version 3.12.1
INFO [2025-10-14 21:28:45] 
INFO [2025-10-14 21:28:45] locale:
INFO [2025-10-14 21:28:45] [1] C/en_US.UTF-8/en_US.UTF-8/C/en_US.UTF-8/en_US.UTF-8
INFO [2025-10-14 21:28:45] 
INFO [2025-10-14 21:28:45] time zone: America/New_York
INFO [2025-10-14 21:28:45] tzcode source: internal
INFO [2025-10-14 21:28:45] 
INFO [2025-10-14 21:28:45] attached base packages:
INFO [2025-10-14 21:28:45] [1] stats4    stats     graphics  grDevices utils     datasets  methods  
INFO [2025-10-14 21:28:45] [8] base     
INFO [2025-10-14 21:28:45] 
INFO [2025-10-14 21:28:45] other attached packages:
INFO [2025-10-14 21:28:45]  [1] notame_0.99.7               SummarizedExperiment_1.39.2
INFO [2025-10-14 21:28:45]  [3] Biobase_2.69.1              GenomicRanges_1.61.5       
INFO [2025-10-14 21:28:45]  [5] Seqinfo_0.99.2              IRanges_2.43.5             
INFO [2025-10-14 21:28:45]  [7] S4Vectors_0.47.4            BiocGenerics_0.55.3        
INFO [2025-10-14 21:28:45]  [9] generics_0.1.4              MatrixGenerics_1.21.0      
INFO [2025-10-14 21:28:45] [11] matrixStats_1.5.0           ggplot2_4.0.0              
INFO [2025-10-14 21:28:45] [13] testthat_3.2.3             
INFO [2025-10-14 21:28:45] 
INFO [2025-10-14 21:28:45] loaded via a namespace (and not attached):
INFO [2025-10-14 21:28:45]  [1] tidyr_1.3.1          futile.options_1.0.1 SparseArray_1.9.1   
INFO [2025-10-14 21:28:45]  [4] stringi_1.8.7        lattice_0.22-7       magrittr_2.0.4      
INFO [2025-10-14 21:28:45]  [7] grid_4.5.1           RColorBrewer_1.1-3   Matrix_1.7-4        
INFO [2025-10-14 21:28:45] [10] zip_2.3.3            brio_1.1.5           formatR_1.14        
INFO [2025-10-14 21:28:45] [13] purrr_1.1.0          viridisLite_0.4.2    scales_1.4.0        
INFO [2025-10-14 21:28:45] [16] abind_1.4-8          cli_3.6.5            rlang_1.1.6         
INFO [2025-10-14 21:28:45] [19] crayon_1.5.3         XVector_0.49.1       futile.logger_1.4.3 
INFO [2025-10-14 21:28:45] [22] withr_3.0.2          DelayedArray_0.35.3  S4Arrays_1.9.1      
INFO [2025-10-14 21:28:45] [25] tools_4.5.1          dplyr_1.1.4          lambda.r_1.2.4      
INFO [2025-10-14 21:28:45] [28] vctrs_0.6.5          R6_2.6.1             lifecycle_1.0.4     
INFO [2025-10-14 21:28:45] [31] pkgconfig_2.0.3      waldo_0.6.2          desc_1.4.3          
INFO [2025-10-14 21:28:45] [34] pillar_1.11.1        openxlsx_4.2.8       gtable_0.3.6        
INFO [2025-10-14 21:28:45] [37] glue_1.8.0           Rcpp_1.1.0           tibble_3.3.0        
INFO [2025-10-14 21:28:45] [40] tidyselect_1.2.1     dichromat_2.0-0.1    farver_2.1.2        
INFO [2025-10-14 21:28:45] [43] compiler_4.5.1       S7_0.2.0            
INFO [2025-10-14 21:28:45] New line
INFO [2025-10-14 21:28:45] Starting logging
INFO [2025-10-14 21:28:45] New line
INFO [2025-10-14 21:28:45] Finished analysis. Tue Oct 14 21:28:45 2025
Session info:

INFO [2025-10-14 21:28:45] R version 4.5.1 Patched (2025-09-10 r88807)
INFO [2025-10-14 21:28:45] Platform: aarch64-apple-darwin20
INFO [2025-10-14 21:28:45] Running under: macOS Ventura 13.7.7
INFO [2025-10-14 21:28:45] 
INFO [2025-10-14 21:28:45] Matrix products: default
INFO [2025-10-14 21:28:45] BLAS:   /Library/Frameworks/R.framework/Versions/4.5-arm64/Resources/lib/libRblas.0.dylib 
INFO [2025-10-14 21:28:45] LAPACK: /Library/Frameworks/R.framework/Versions/4.5-arm64/Resources/lib/libRlapack.dylib;  LAPACK version 3.12.1
INFO [2025-10-14 21:28:45] 
INFO [2025-10-14 21:28:45] locale:
INFO [2025-10-14 21:28:45] [1] C/en_US.UTF-8/en_US.UTF-8/C/en_US.UTF-8/en_US.UTF-8
INFO [2025-10-14 21:28:45] 
INFO [2025-10-14 21:28:45] time zone: America/New_York
INFO [2025-10-14 21:28:45] tzcode source: internal
INFO [2025-10-14 21:28:45] 
INFO [2025-10-14 21:28:45] attached base packages:
INFO [2025-10-14 21:28:45] [1] stats4    stats     graphics  grDevices utils     datasets  methods  
INFO [2025-10-14 21:28:45] [8] base     
INFO [2025-10-14 21:28:45] 
INFO [2025-10-14 21:28:45] other attached packages:
INFO [2025-10-14 21:28:45]  [1] notame_0.99.7               SummarizedExperiment_1.39.2
INFO [2025-10-14 21:28:45]  [3] Biobase_2.69.1              GenomicRanges_1.61.5       
INFO [2025-10-14 21:28:45]  [5] Seqinfo_0.99.2              IRanges_2.43.5             
INFO [2025-10-14 21:28:45]  [7] S4Vectors_0.47.4            BiocGenerics_0.55.3        
INFO [2025-10-14 21:28:45]  [9] generics_0.1.4              MatrixGenerics_1.21.0      
INFO [2025-10-14 21:28:45] [11] matrixStats_1.5.0           ggplot2_4.0.0              
INFO [2025-10-14 21:28:45] [13] testthat_3.2.3             
INFO [2025-10-14 21:28:45] 
INFO [2025-10-14 21:28:45] loaded via a namespace (and not attached):
INFO [2025-10-14 21:28:45]  [1] tidyr_1.3.1          futile.options_1.0.1 SparseArray_1.9.1   
INFO [2025-10-14 21:28:45]  [4] stringi_1.8.7        lattice_0.22-7       magrittr_2.0.4      
INFO [2025-10-14 21:28:45]  [7] grid_4.5.1           RColorBrewer_1.1-3   Matrix_1.7-4        
INFO [2025-10-14 21:28:45] [10] zip_2.3.3            brio_1.1.5           formatR_1.14        
INFO [2025-10-14 21:28:45] [13] purrr_1.1.0          viridisLite_0.4.2    scales_1.4.0        
INFO [2025-10-14 21:28:45] [16] abind_1.4-8          cli_3.6.5            rlang_1.1.6         
INFO [2025-10-14 21:28:45] [19] crayon_1.5.3         XVector_0.49.1       futile.logger_1.4.3 
INFO [2025-10-14 21:28:45] [22] withr_3.0.2          DelayedArray_0.35.3  S4Arrays_1.9.1      
INFO [2025-10-14 21:28:45] [25] tools_4.5.1          dplyr_1.1.4          lambda.r_1.2.4      
INFO [2025-10-14 21:28:45] [28] vctrs_0.6.5          R6_2.6.1             lifecycle_1.0.4     
INFO [2025-10-14 21:28:45] [31] pkgconfig_2.0.3      waldo_0.6.2          desc_1.4.3          
INFO [2025-10-14 21:28:45] [34] pillar_1.11.1        openxlsx_4.2.8       gtable_0.3.6        
INFO [2025-10-14 21:28:45] [37] glue_1.8.0           Rcpp_1.1.0           tibble_3.3.0        
INFO [2025-10-14 21:28:45] [40] tidyselect_1.2.1     dichromat_2.0-0.1    farver_2.1.2        
INFO [2025-10-14 21:28:45] [43] compiler_4.5.1       S7_0.2.0            
INFO [2025-10-14 21:28:45] New line
INFO [2025-10-14 21:28:45] 
Starting random forest imputation at 2025-10-14 21:28:45.583085
INFO [2025-10-14 21:28:48] Out-of-bag error in random forest imputation: 0.469
INFO [2025-10-14 21:28:48] Random forest imputation finished at 2025-10-14 21:28:48.801287 

INFO [2025-10-14 21:28:48] 
Starting random forest imputation at 2025-10-14 21:28:48.8633
INFO [2025-10-14 21:28:51] Out-of-bag error in random forest imputation: 0.471
INFO [2025-10-14 21:28:51] Random forest imputation finished at 2025-10-14 21:28:51.034291 

INFO [2025-10-14 21:28:51] 
Starting random forest imputation at 2025-10-14 21:28:51.039764
INFO [2025-10-14 21:28:53] Out-of-bag error in random forest imputation: 0.47
INFO [2025-10-14 21:28:53] Random forest imputation finished at 2025-10-14 21:28:53.293339 

INFO [2025-10-14 21:28:53] 
Starting random forest imputation at 2025-10-14 21:28:53.310108
INFO [2025-10-14 21:28:55] Out-of-bag error in random forest imputation: 0.469
INFO [2025-10-14 21:28:55] Random forest imputation finished at 2025-10-14 21:28:55.553553 

INFO [2025-10-14 21:28:55] Starting PQN normalization
INFO [2025-10-14 21:28:55] Using median of qc samples as reference spectrum
INFO [2025-10-14 21:28:55] Starting PQN normalization
INFO [2025-10-14 21:28:55] Using median of all samples as reference spectrum
INFO [2025-10-14 21:28:55] Starting PQN normalization
INFO [2025-10-14 21:28:55] Using mean of qc samples as reference spectrum
INFO [2025-10-14 21:28:55] Starting PQN normalization
INFO [2025-10-14 21:28:55] Using mean of all samples as reference spectrum
INFO [2025-10-14 21:28:55] 
92% of features flagged for low quality
INFO [2025-10-14 21:28:55] Starting PQN normalization
INFO [2025-10-14 21:28:55] Using median of qc samples as reference spectrum
INFO [2025-10-14 21:28:55] Starting drift correction
INFO [2025-10-14 21:28:55] Zero values in feature abundances detected. Zeroes will be replaced with 1.1.
INFO [2025-10-14 21:28:57] Recomputing quality metrics for drift corrected data
INFO [2025-10-14 21:28:57] Drift correction performed
INFO [2025-10-14 21:28:57] Inspecting drift correction results
INFO [2025-10-14 21:28:57] Original quality metrics missing, recomputing
INFO [2025-10-14 21:28:57] Drift correction results inspected: Drift_corrected: 100%
[ FAIL 0 | WARN 5 | SKIP 0 | PASS 84 ]

[ FAIL 0 | WARN 5 | SKIP 0 | PASS 84 ]
> 
> proc.time()
   user  system elapsed 
 15.777   0.612  16.397 

Example timings

notame.Rcheck/notame-Ex.timings

nameusersystemelapsed
assess_quality0.0550.0050.060
citations0.1100.0100.119
cluster_features0.0790.0080.088
combined_data0.0200.0120.032
compress_clusters0.0400.0050.050
correct_drift1.4040.1391.535
drop_flagged0.0360.0120.048
drop_qcs0.0130.0040.017
finish_log0.0100.0050.017
fix_MSMS0.0360.0100.047
fix_object0.0440.0080.054
flag0.0110.0040.016
flag_contaminants0.0590.0080.073
flag_detection0.0700.0050.076
flag_quality0.0640.0030.067
flag_report0.0940.0020.097
import_from_excel0.1020.0150.118
impute_rf4.4690.1274.620
impute_simple0.0240.0030.027
init_log0.0010.0000.001
inverse_normalize0.0140.0030.017
join_colData0.0100.0020.012
join_rowData0.0080.0010.010
log_text0.0020.0010.001
mark_nas0.0130.0020.015
merge_notame_sets0.1430.0040.147
pca_bhattacharyya_dist2.5190.2112.762
perform_repeatability0.0520.0020.054
pqn_normalization0.0200.0020.023
quality0.0300.0030.032
ruvs_qc0.0480.0010.050
write_to_excel0.0650.0090.074