| Back to Multiple platform build/check report for BioC 3.22: simplified long |
|
This page was generated on 2025-10-23 12:05 -0400 (Thu, 23 Oct 2025).
| Hostname | OS | Arch (*) | R version | Installed pkgs |
|---|---|---|---|---|
| nebbiolo2 | Linux (Ubuntu 24.04.3 LTS) | x86_64 | 4.5.1 Patched (2025-08-23 r88802) -- "Great Square Root" | 4894 |
| lconway | macOS 12.7.6 Monterey | x86_64 | 4.5.1 Patched (2025-09-10 r88807) -- "Great Square Root" | 4684 |
| kjohnson3 | macOS 13.7.7 Ventura | arm64 | 4.5.1 Patched (2025-09-10 r88807) -- "Great Square Root" | 4629 |
| taishan | Linux (openEuler 24.03 LTS) | aarch64 | 4.5.0 (2025-04-11) -- "How About a Twenty-Six" | 4642 |
| Click on any hostname to see more info about the system (e.g. compilers) (*) as reported by 'uname -p', except on Windows and Mac OS X | ||||
| Package 56/2355 | Hostname | OS / Arch | INSTALL | BUILD | CHECK | BUILD BIN | ||||||||
| AllelicImbalance 1.47.0 (landing page) Jesper R Gadin
| nebbiolo2 | Linux (Ubuntu 24.04.3 LTS) / x86_64 | OK | OK | OK | |||||||||
| lconway | macOS 12.7.6 Monterey / x86_64 | OK | OK | OK | OK | |||||||||
| kjohnson3 | macOS 13.7.7 Ventura / arm64 | OK | OK | OK | OK | |||||||||
| taishan | Linux (openEuler 24.03 LTS) / aarch64 | OK | OK | OK | ||||||||||
|
To the developers/maintainers of the AllelicImbalance package: - Allow up to 24 hours (and sometimes 48 hours) for your latest push to git@git.bioconductor.org:packages/AllelicImbalance.git to reflect on this report. See Troubleshooting Build Report for more information. - Use the following Renviron settings to reproduce errors and warnings. - If 'R CMD check' started to fail recently on the Linux builder(s) over a missing dependency, add the missing dependency to 'Suggests:' in your DESCRIPTION file. See Renviron.bioc for more information. |
| Package: AllelicImbalance |
| Version: 1.47.0 |
| Command: /Library/Frameworks/R.framework/Resources/bin/R CMD check --install=check:AllelicImbalance.install-out.txt --library=/Library/Frameworks/R.framework/Resources/library --no-vignettes --timings AllelicImbalance_1.47.0.tar.gz |
| StartedAt: 2025-10-22 18:27:42 -0400 (Wed, 22 Oct 2025) |
| EndedAt: 2025-10-22 18:30:48 -0400 (Wed, 22 Oct 2025) |
| EllapsedTime: 185.4 seconds |
| RetCode: 0 |
| Status: OK |
| CheckDir: AllelicImbalance.Rcheck |
| Warnings: 0 |
##############################################################################
##############################################################################
###
### Running command:
###
### /Library/Frameworks/R.framework/Resources/bin/R CMD check --install=check:AllelicImbalance.install-out.txt --library=/Library/Frameworks/R.framework/Resources/library --no-vignettes --timings AllelicImbalance_1.47.0.tar.gz
###
##############################################################################
##############################################################################
* using log directory ‘/Users/biocbuild/bbs-3.22-bioc/meat/AllelicImbalance.Rcheck’
* using R version 4.5.1 Patched (2025-09-10 r88807)
* using platform: aarch64-apple-darwin20
* R was compiled by
Apple clang version 16.0.0 (clang-1600.0.26.6)
GNU Fortran (GCC) 14.2.0
* running under: macOS Ventura 13.7.7
* using session charset: UTF-8
* using option ‘--no-vignettes’
* checking for file ‘AllelicImbalance/DESCRIPTION’ ... OK
* checking extension type ... Package
* this is package ‘AllelicImbalance’ version ‘1.47.0’
* package encoding: UTF-8
* checking package namespace information ... OK
* checking package dependencies ... OK
* checking if this is a source package ... OK
* checking if there is a namespace ... OK
* checking for hidden files and directories ... OK
* checking for portable file names ... OK
* checking for sufficient/correct file permissions ... OK
* checking whether package ‘AllelicImbalance’ can be installed ... OK
* checking installed package size ... OK
* checking package directory ... OK
* checking ‘build’ directory ... OK
* checking DESCRIPTION meta-information ... OK
* checking top-level files ... OK
* checking for left-over files ... OK
* checking index information ... OK
* checking package subdirectories ... NOTE
Problems with news in ‘NEWS’:
Cannot process chunk/lines:
CHANGES IN VERSION 1.12.0
* checking code files for non-ASCII characters ... OK
* checking R files for syntax errors ... OK
* checking whether the package can be loaded ... OK
* checking whether the package can be loaded with stated dependencies ... OK
* checking whether the package can be unloaded cleanly ... OK
* checking whether the namespace can be loaded with stated dependencies ... OK
* checking whether the namespace can be unloaded cleanly ... OK
* checking dependencies in R code ... OK
* checking S3 generic/method consistency ... OK
* checking replacement functions ... OK
* checking foreign function calls ... OK
* checking R code for possible problems ... OK
* checking Rd files ... OK
* checking Rd metadata ... OK
* checking Rd cross-references ... OK
* checking for missing documentation entries ... OK
* checking for code/documentation mismatches ... OK
* checking Rd \usage sections ... OK
* checking Rd contents ... OK
* checking for unstated dependencies in examples ... OK
* checking contents of ‘data’ directory ... OK
* checking data for non-ASCII characters ... OK
* checking LazyData ... OK
* checking data for ASCII and uncompressed saves ... OK
* checking sizes of PDF files under ‘inst/doc’ ... OK
* checking files in ‘vignettes’ ... OK
* checking examples ... OK
Examples with CPU (user + system) or elapsed time > 5s
user system elapsed
import-bam 11.807 0.052 11.925
getSnpIdFromLocation 7.246 0.264 7.575
* checking for unstated dependencies in ‘tests’ ... OK
* checking tests ...
Running ‘test-all.R’
OK
* checking for unstated dependencies in vignettes ... OK
* checking package vignettes ... OK
* checking running R code from vignettes ... SKIPPED
* checking re-building of vignette outputs ... SKIPPED
* checking PDF version of manual ... OK
* DONE
Status: 1 NOTE
See
‘/Users/biocbuild/bbs-3.22-bioc/meat/AllelicImbalance.Rcheck/00check.log’
for details.
AllelicImbalance.Rcheck/00install.out
############################################################################## ############################################################################## ### ### Running command: ### ### /Library/Frameworks/R.framework/Resources/bin/R CMD INSTALL AllelicImbalance ### ############################################################################## ############################################################################## * installing to library ‘/Library/Frameworks/R.framework/Versions/4.5-arm64/Resources/library’ * installing *source* package ‘AllelicImbalance’ ... ** this is package ‘AllelicImbalance’ version ‘1.47.0’ ** using staged installation ** R ** data *** moving datasets to lazyload DB ** inst ** byte-compile and prepare package for lazy loading Creating a generic function for 'chisq.test' from package 'stats' in package 'AllelicImbalance' Creating a generic function for 'binom.test' from package 'stats' in package 'AllelicImbalance' ** help *** installing help indices ** building package indices ** installing vignettes ** testing if installed package can be loaded from temporary location ** testing if installed package can be loaded from final location ** testing if installed package keeps a record of temporary installation path * DONE (AllelicImbalance)
AllelicImbalance.Rcheck/tests/test-all.Rout
R version 4.5.1 Patched (2025-09-10 r88807) -- "Great Square Root"
Copyright (C) 2025 The R Foundation for Statistical Computing
Platform: aarch64-apple-darwin20
R is free software and comes with ABSOLUTELY NO WARRANTY.
You are welcome to redistribute it under certain conditions.
Type 'license()' or 'licence()' for distribution details.
R is a collaborative project with many contributors.
Type 'contributors()' for more information and
'citation()' on how to cite R or R packages in publications.
Type 'demo()' for some demos, 'help()' for on-line help, or
'help.start()' for an HTML browser interface to help.
Type 'q()' to quit R.
> library(testthat)
> test_check("AllelicImbalance")
Loading required package: AllelicImbalance
Loading required package: grid
Loading required package: GenomicRanges
Loading required package: stats4
Loading required package: BiocGenerics
Loading required package: generics
Attaching package: 'generics'
The following objects are masked from 'package:base':
as.difftime, as.factor, as.ordered, intersect, is.element, setdiff,
setequal, union
Attaching package: 'BiocGenerics'
The following objects are masked from 'package:stats':
IQR, mad, sd, var, xtabs
The following objects are masked from 'package:base':
Filter, Find, Map, Position, Reduce, anyDuplicated, aperm, append,
as.data.frame, basename, cbind, colnames, dirname, do.call,
duplicated, eval, evalq, get, grep, grepl, is.unsorted, lapply,
mapply, match, mget, order, paste, pmax, pmax.int, pmin, pmin.int,
rank, rbind, rownames, sapply, saveRDS, table, tapply, unique,
unsplit, which.max, which.min
Loading required package: S4Vectors
Attaching package: 'S4Vectors'
The following object is masked from 'package:utils':
findMatches
The following objects are masked from 'package:base':
I, expand.grid, unname
Loading required package: IRanges
Loading required package: Seqinfo
Loading required package: SummarizedExperiment
Loading required package: MatrixGenerics
Loading required package: matrixStats
Attaching package: 'MatrixGenerics'
The following objects are masked from 'package:matrixStats':
colAlls, colAnyNAs, colAnys, colAvgsPerRowSet, colCollapse,
colCounts, colCummaxs, colCummins, colCumprods, colCumsums,
colDiffs, colIQRDiffs, colIQRs, colLogSumExps, colMadDiffs,
colMads, colMaxs, colMeans2, colMedians, colMins, colOrderStats,
colProds, colQuantiles, colRanges, colRanks, colSdDiffs, colSds,
colSums2, colTabulates, colVarDiffs, colVars, colWeightedMads,
colWeightedMeans, colWeightedMedians, colWeightedSds,
colWeightedVars, rowAlls, rowAnyNAs, rowAnys, rowAvgsPerColSet,
rowCollapse, rowCounts, rowCummaxs, rowCummins, rowCumprods,
rowCumsums, rowDiffs, rowIQRDiffs, rowIQRs, rowLogSumExps,
rowMadDiffs, rowMads, rowMaxs, rowMeans2, rowMedians, rowMins,
rowOrderStats, rowProds, rowQuantiles, rowRanges, rowRanks,
rowSdDiffs, rowSds, rowSums2, rowTabulates, rowVarDiffs, rowVars,
rowWeightedMads, rowWeightedMeans, rowWeightedMedians,
rowWeightedSds, rowWeightedVars
Loading required package: Biobase
Welcome to Bioconductor
Vignettes contain introductory material; view with
'browseVignettes()'. To cite Bioconductor, see
'citation("Biobase")', and for packages 'citation("pkgname")'.
Attaching package: 'Biobase'
The following object is masked from 'package:MatrixGenerics':
rowMedians
The following objects are masked from 'package:matrixStats':
anyMissing, rowMedians
Loading required package: GenomicAlignments
Loading required package: Biostrings
Loading required package: XVector
Attaching package: 'Biostrings'
The following object is masked from 'package:grid':
pattern
The following object is masked from 'package:base':
strsplit
Loading required package: Rsamtools
[ FAIL 0 | WARN 0 | SKIP 1 | PASS 96 ]
══ Skipped tests (1) ═══════════════════════════════════════════════════════════
• empty test (1): 'test_utils.R:3:1'
[ FAIL 0 | WARN 0 | SKIP 1 | PASS 96 ]
>
>
>
> proc.time()
user system elapsed
7.171 0.302 7.536
AllelicImbalance.Rcheck/AllelicImbalance-Ex.timings
| name | user | system | elapsed | |
| ASEset-barplot | 0.067 | 0.006 | 0.073 | |
| ASEset-class | 0.198 | 0.005 | 0.208 | |
| ASEset-filters | 0.016 | 0.001 | 0.017 | |
| ASEset-gbarplot | 0.013 | 0.001 | 0.014 | |
| ASEset-glocationplot | 2.287 | 0.023 | 2.324 | |
| ASEset-gviztrack | 0.190 | 0.010 | 0.199 | |
| ASEset-scanForHeterozygotes | 0.514 | 0.004 | 0.521 | |
| ASEset.old | 0 | 0 | 0 | |
| ASEset.sim | 0 | 0 | 0 | |
| ASEsetFromBam | 0.000 | 0.001 | 0.002 | |
| DetectedAI-class | 0.029 | 0.001 | 0.031 | |
| DetectedAI-plot | 0.384 | 0.005 | 0.392 | |
| DetectedAI-summary | 0.037 | 0.003 | 0.043 | |
| GRvariants | 0.001 | 0.001 | 0.001 | |
| GlobalAnalysis-class | 0.000 | 0.001 | 0.001 | |
| LinkVariantAlmlof-class | 0.000 | 0.000 | 0.001 | |
| LinkVariantAlmlof-plot | 0.624 | 0.005 | 0.643 | |
| RegionSummary-class | 0 | 0 | 0 | |
| RiskVariant-class | 0.000 | 0.000 | 0.001 | |
| annotation-wrappers | 4.573 | 0.134 | 4.718 | |
| annotationBarplot | 0 | 0 | 0 | |
| barplot-lattice-support | 0.037 | 0.002 | 0.038 | |
| binom.test | 0.016 | 0.001 | 0.019 | |
| chisq.test | 0.042 | 0.002 | 0.045 | |
| cigar-utilities | 0.003 | 0.001 | 0.004 | |
| countAllelesFromBam | 0.000 | 0.001 | 0.002 | |
| coverageMatrixListFromGAL | 0.246 | 0.009 | 0.265 | |
| decorateWithExons | 0.000 | 0.002 | 0.002 | |
| decorateWithGenes | 0.001 | 0.001 | 0.002 | |
| defaultMapBias | 0.012 | 0.002 | 0.016 | |
| defaultPhase | 0 | 0 | 0 | |
| detectAI | 0.029 | 0.001 | 0.030 | |
| fractionPlotDf | 0.010 | 0.001 | 0.012 | |
| gba | 0 | 0 | 0 | |
| genomatrix | 0 | 0 | 0 | |
| genotype2phase | 0.009 | 0.003 | 0.012 | |
| getAlleleCounts | 1.288 | 0.006 | 1.329 | |
| getAlleleQuality | 1.133 | 0.005 | 1.166 | |
| getAreaFromGeneNames | 0.278 | 0.008 | 0.286 | |
| getDefaultMapBiasExpMean | 0.009 | 0.001 | 0.009 | |
| getSnpIdFromLocation | 7.246 | 0.264 | 7.575 | |
| histplot | 0.000 | 0.001 | 0.001 | |
| implodeList-old | 0.002 | 0.000 | 0.002 | |
| import-bam-2 | 0.003 | 0.000 | 0.003 | |
| import-bam | 11.807 | 0.052 | 11.925 | |
| import-bcf | 0.567 | 0.007 | 0.575 | |
| inferAlleles | 0.004 | 0.001 | 0.006 | |
| inferAltAllele | 0.005 | 0.002 | 0.006 | |
| inferGenotypes | 0.009 | 0.001 | 0.011 | |
| initialize-ASEset | 0.022 | 0.001 | 0.022 | |
| initialize-DetectedAI | 0.028 | 0.001 | 0.028 | |
| initialize-GlobalAnalysis | 0.000 | 0.001 | 0.002 | |
| initialize-RiskVariant | 0.001 | 0.001 | 0.001 | |
| legendBarplot | 0 | 0 | 0 | |
| locationplot | 0.451 | 0.013 | 0.465 | |
| lva | 2.581 | 0.008 | 2.592 | |
| lva.internal | 0.095 | 0.001 | 0.097 | |
| makeMaskedFasta | 0.558 | 0.005 | 0.563 | |
| mapBiasRef | 0.005 | 0.001 | 0.005 | |
| minCountFilt | 0.020 | 0.001 | 0.021 | |
| minFreqFilt | 0.020 | 0.001 | 0.021 | |
| multiAllelicFilt | 0.003 | 0.002 | 0.004 | |
| phase2genotype | 0.007 | 0.002 | 0.008 | |
| phaseArray2phaseMatrix | 0.001 | 0.001 | 0.002 | |
| phaseMatrix2Array | 0.000 | 0.001 | 0.002 | |
| randomRef | 0.005 | 0.001 | 0.006 | |
| reads | 0 | 0 | 0 | |
| refAllele | 0.004 | 0.001 | 0.005 | |
| regionSummary | 0.158 | 0.001 | 0.161 | |
| scanForHeterozygotes-old | 1.298 | 0.017 | 1.315 | |