| Back to Multiple platform build/check report for BioC 3.22: simplified long |
|
This page was generated on 2025-10-24 12:03 -0400 (Fri, 24 Oct 2025).
| Hostname | OS | Arch (*) | R version | Installed pkgs |
|---|---|---|---|---|
| nebbiolo2 | Linux (Ubuntu 24.04.3 LTS) | x86_64 | 4.5.1 Patched (2025-08-23 r88802) -- "Great Square Root" | 4898 |
| lconway | macOS 12.7.6 Monterey | x86_64 | 4.5.1 Patched (2025-09-10 r88807) -- "Great Square Root" | 4688 |
| kjohnson3 | macOS 13.7.7 Ventura | arm64 | 4.5.1 Patched (2025-09-10 r88807) -- "Great Square Root" | 4634 |
| taishan | Linux (openEuler 24.03 LTS) | aarch64 | 4.5.0 (2025-04-11) -- "How About a Twenty-Six" | 4658 |
| Click on any hostname to see more info about the system (e.g. compilers) (*) as reported by 'uname -p', except on Windows and Mac OS X | ||||
| Package 56/2359 | Hostname | OS / Arch | INSTALL | BUILD | CHECK | BUILD BIN | ||||||||
| AllelicImbalance 1.47.0 (landing page) Jesper R Gadin
| nebbiolo2 | Linux (Ubuntu 24.04.3 LTS) / x86_64 | OK | OK | OK | |||||||||
| lconway | macOS 12.7.6 Monterey / x86_64 | OK | OK | OK | OK | |||||||||
| kjohnson3 | macOS 13.7.7 Ventura / arm64 | OK | OK | OK | OK | |||||||||
| taishan | Linux (openEuler 24.03 LTS) / aarch64 | OK | OK | OK | ||||||||||
|
To the developers/maintainers of the AllelicImbalance package: - Allow up to 24 hours (and sometimes 48 hours) for your latest push to git@git.bioconductor.org:packages/AllelicImbalance.git to reflect on this report. See Troubleshooting Build Report for more information. - Use the following Renviron settings to reproduce errors and warnings. - If 'R CMD check' started to fail recently on the Linux builder(s) over a missing dependency, add the missing dependency to 'Suggests:' in your DESCRIPTION file. See Renviron.bioc for more information. |
| Package: AllelicImbalance |
| Version: 1.47.0 |
| Command: /home/biocbuild/bbs-3.22-bioc/R/bin/R CMD check --install=check:AllelicImbalance.install-out.txt --library=/home/biocbuild/bbs-3.22-bioc/R/site-library --timings AllelicImbalance_1.47.0.tar.gz |
| StartedAt: 2025-10-23 21:01:12 -0400 (Thu, 23 Oct 2025) |
| EndedAt: 2025-10-23 21:10:35 -0400 (Thu, 23 Oct 2025) |
| EllapsedTime: 562.7 seconds |
| RetCode: 0 |
| Status: OK |
| CheckDir: AllelicImbalance.Rcheck |
| Warnings: 0 |
##############################################################################
##############################################################################
###
### Running command:
###
### /home/biocbuild/bbs-3.22-bioc/R/bin/R CMD check --install=check:AllelicImbalance.install-out.txt --library=/home/biocbuild/bbs-3.22-bioc/R/site-library --timings AllelicImbalance_1.47.0.tar.gz
###
##############################################################################
##############################################################################
* using log directory ‘/home/biocbuild/bbs-3.22-bioc/meat/AllelicImbalance.Rcheck’
* using R version 4.5.1 Patched (2025-08-23 r88802)
* using platform: x86_64-pc-linux-gnu
* R was compiled by
gcc (Ubuntu 13.3.0-6ubuntu2~24.04) 13.3.0
GNU Fortran (Ubuntu 13.3.0-6ubuntu2~24.04) 13.3.0
* running under: Ubuntu 24.04.3 LTS
* using session charset: UTF-8
* checking for file ‘AllelicImbalance/DESCRIPTION’ ... OK
* checking extension type ... Package
* this is package ‘AllelicImbalance’ version ‘1.47.0’
* package encoding: UTF-8
* checking package namespace information ... OK
* checking package dependencies ... OK
* checking if this is a source package ... OK
* checking if there is a namespace ... OK
* checking for hidden files and directories ... OK
* checking for portable file names ... OK
* checking for sufficient/correct file permissions ... OK
* checking whether package ‘AllelicImbalance’ can be installed ... OK
* checking installed package size ... OK
* checking package directory ... OK
* checking ‘build’ directory ... OK
* checking DESCRIPTION meta-information ... OK
* checking top-level files ... OK
* checking for left-over files ... OK
* checking index information ... OK
* checking package subdirectories ... NOTE
Problems with news in ‘NEWS’:
Cannot process chunk/lines:
CHANGES IN VERSION 1.12.0
* checking code files for non-ASCII characters ... OK
* checking R files for syntax errors ... OK
* checking whether the package can be loaded ... OK
* checking whether the package can be loaded with stated dependencies ... OK
* checking whether the package can be unloaded cleanly ... OK
* checking whether the namespace can be loaded with stated dependencies ... OK
* checking whether the namespace can be unloaded cleanly ... OK
* checking loading without being on the library search path ... OK
* checking dependencies in R code ... OK
* checking S3 generic/method consistency ... OK
* checking replacement functions ... OK
* checking foreign function calls ... OK
* checking R code for possible problems ... OK
* checking Rd files ... OK
* checking Rd metadata ... OK
* checking Rd cross-references ... OK
* checking for missing documentation entries ... OK
* checking for code/documentation mismatches ... OK
* checking Rd \usage sections ... OK
* checking Rd contents ... OK
* checking for unstated dependencies in examples ... OK
* checking contents of ‘data’ directory ... OK
* checking data for non-ASCII characters ... OK
* checking LazyData ... OK
* checking data for ASCII and uncompressed saves ... OK
* checking files in ‘vignettes’ ... OK
* checking examples ... OK
Examples with CPU (user + system) or elapsed time > 5s
user system elapsed
import-bam 24.655 0.315 24.981
getSnpIdFromLocation 17.918 1.617 19.602
annotation-wrappers 9.986 0.630 10.618
lva 8.380 0.025 8.405
ASEset-glocationplot 5.743 0.354 6.097
* checking for unstated dependencies in ‘tests’ ... OK
* checking tests ...
Running ‘test-all.R’
OK
* checking for unstated dependencies in vignettes ... OK
* checking package vignettes ... OK
* checking re-building of vignette outputs ... OK
* checking PDF version of manual ... OK
* DONE
Status: 1 NOTE
See
‘/home/biocbuild/bbs-3.22-bioc/meat/AllelicImbalance.Rcheck/00check.log’
for details.
AllelicImbalance.Rcheck/00install.out
############################################################################## ############################################################################## ### ### Running command: ### ### /home/biocbuild/bbs-3.22-bioc/R/bin/R CMD INSTALL AllelicImbalance ### ############################################################################## ############################################################################## * installing to library ‘/home/biocbuild/bbs-3.22-bioc/R/site-library’ * installing *source* package ‘AllelicImbalance’ ... ** this is package ‘AllelicImbalance’ version ‘1.47.0’ ** using staged installation ** R ** data *** moving datasets to lazyload DB ** inst ** byte-compile and prepare package for lazy loading Creating a generic function for 'chisq.test' from package 'stats' in package 'AllelicImbalance' Creating a generic function for 'binom.test' from package 'stats' in package 'AllelicImbalance' ** help *** installing help indices ** building package indices ** installing vignettes ** testing if installed package can be loaded from temporary location ** testing if installed package can be loaded from final location ** testing if installed package keeps a record of temporary installation path * DONE (AllelicImbalance)
AllelicImbalance.Rcheck/tests/test-all.Rout
R version 4.5.1 Patched (2025-08-23 r88802) -- "Great Square Root"
Copyright (C) 2025 The R Foundation for Statistical Computing
Platform: x86_64-pc-linux-gnu
R is free software and comes with ABSOLUTELY NO WARRANTY.
You are welcome to redistribute it under certain conditions.
Type 'license()' or 'licence()' for distribution details.
R is a collaborative project with many contributors.
Type 'contributors()' for more information and
'citation()' on how to cite R or R packages in publications.
Type 'demo()' for some demos, 'help()' for on-line help, or
'help.start()' for an HTML browser interface to help.
Type 'q()' to quit R.
> library(testthat)
> test_check("AllelicImbalance")
Loading required package: AllelicImbalance
Loading required package: grid
Loading required package: GenomicRanges
Loading required package: stats4
Loading required package: BiocGenerics
Loading required package: generics
Attaching package: 'generics'
The following objects are masked from 'package:base':
as.difftime, as.factor, as.ordered, intersect, is.element, setdiff,
setequal, union
Attaching package: 'BiocGenerics'
The following objects are masked from 'package:stats':
IQR, mad, sd, var, xtabs
The following objects are masked from 'package:base':
Filter, Find, Map, Position, Reduce, anyDuplicated, aperm, append,
as.data.frame, basename, cbind, colnames, dirname, do.call,
duplicated, eval, evalq, get, grep, grepl, is.unsorted, lapply,
mapply, match, mget, order, paste, pmax, pmax.int, pmin, pmin.int,
rank, rbind, rownames, sapply, saveRDS, table, tapply, unique,
unsplit, which.max, which.min
Loading required package: S4Vectors
Attaching package: 'S4Vectors'
The following object is masked from 'package:utils':
findMatches
The following objects are masked from 'package:base':
I, expand.grid, unname
Loading required package: IRanges
Loading required package: Seqinfo
Loading required package: SummarizedExperiment
Loading required package: MatrixGenerics
Loading required package: matrixStats
Attaching package: 'MatrixGenerics'
The following objects are masked from 'package:matrixStats':
colAlls, colAnyNAs, colAnys, colAvgsPerRowSet, colCollapse,
colCounts, colCummaxs, colCummins, colCumprods, colCumsums,
colDiffs, colIQRDiffs, colIQRs, colLogSumExps, colMadDiffs,
colMads, colMaxs, colMeans2, colMedians, colMins, colOrderStats,
colProds, colQuantiles, colRanges, colRanks, colSdDiffs, colSds,
colSums2, colTabulates, colVarDiffs, colVars, colWeightedMads,
colWeightedMeans, colWeightedMedians, colWeightedSds,
colWeightedVars, rowAlls, rowAnyNAs, rowAnys, rowAvgsPerColSet,
rowCollapse, rowCounts, rowCummaxs, rowCummins, rowCumprods,
rowCumsums, rowDiffs, rowIQRDiffs, rowIQRs, rowLogSumExps,
rowMadDiffs, rowMads, rowMaxs, rowMeans2, rowMedians, rowMins,
rowOrderStats, rowProds, rowQuantiles, rowRanges, rowRanks,
rowSdDiffs, rowSds, rowSums2, rowTabulates, rowVarDiffs, rowVars,
rowWeightedMads, rowWeightedMeans, rowWeightedMedians,
rowWeightedSds, rowWeightedVars
Loading required package: Biobase
Welcome to Bioconductor
Vignettes contain introductory material; view with
'browseVignettes()'. To cite Bioconductor, see
'citation("Biobase")', and for packages 'citation("pkgname")'.
Attaching package: 'Biobase'
The following object is masked from 'package:MatrixGenerics':
rowMedians
The following objects are masked from 'package:matrixStats':
anyMissing, rowMedians
Loading required package: GenomicAlignments
Loading required package: Biostrings
Loading required package: XVector
Attaching package: 'Biostrings'
The following object is masked from 'package:grid':
pattern
The following object is masked from 'package:base':
strsplit
Loading required package: Rsamtools
[ FAIL 0 | WARN 0 | SKIP 1 | PASS 96 ]
══ Skipped tests (1) ═══════════════════════════════════════════════════════════
• empty test (1): 'test_utils.R:3:1'
[ FAIL 0 | WARN 0 | SKIP 1 | PASS 96 ]
>
>
>
> proc.time()
user system elapsed
17.751 0.904 18.644
AllelicImbalance.Rcheck/AllelicImbalance-Ex.timings
| name | user | system | elapsed | |
| ASEset-barplot | 0.200 | 0.026 | 0.227 | |
| ASEset-class | 0.500 | 0.031 | 0.533 | |
| ASEset-filters | 0.053 | 0.000 | 0.055 | |
| ASEset-gbarplot | 0.041 | 0.000 | 0.041 | |
| ASEset-glocationplot | 5.743 | 0.354 | 6.097 | |
| ASEset-gviztrack | 0.563 | 0.070 | 0.635 | |
| ASEset-scanForHeterozygotes | 1.660 | 0.034 | 1.695 | |
| ASEset.old | 0.001 | 0.000 | 0.000 | |
| ASEset.sim | 0 | 0 | 0 | |
| ASEsetFromBam | 0.001 | 0.000 | 0.001 | |
| DetectedAI-class | 0.101 | 0.002 | 0.103 | |
| DetectedAI-plot | 1.255 | 0.037 | 1.292 | |
| DetectedAI-summary | 0.113 | 0.009 | 0.122 | |
| GRvariants | 0.001 | 0.000 | 0.002 | |
| GlobalAnalysis-class | 0.001 | 0.000 | 0.001 | |
| LinkVariantAlmlof-class | 0 | 0 | 0 | |
| LinkVariantAlmlof-plot | 1.998 | 0.087 | 2.085 | |
| RegionSummary-class | 0 | 0 | 0 | |
| RiskVariant-class | 0 | 0 | 0 | |
| annotation-wrappers | 9.986 | 0.630 | 10.618 | |
| annotationBarplot | 0 | 0 | 0 | |
| barplot-lattice-support | 0.12 | 0.00 | 0.12 | |
| binom.test | 0.051 | 0.001 | 0.052 | |
| chisq.test | 0.144 | 0.004 | 0.148 | |
| cigar-utilities | 0.011 | 0.001 | 0.011 | |
| countAllelesFromBam | 0.001 | 0.000 | 0.001 | |
| coverageMatrixListFromGAL | 0.758 | 0.018 | 0.776 | |
| decorateWithExons | 0.000 | 0.001 | 0.001 | |
| decorateWithGenes | 0.001 | 0.000 | 0.001 | |
| defaultMapBias | 0.031 | 0.001 | 0.032 | |
| defaultPhase | 0.001 | 0.000 | 0.000 | |
| detectAI | 0.092 | 0.001 | 0.093 | |
| fractionPlotDf | 0.032 | 0.001 | 0.033 | |
| gba | 0 | 0 | 0 | |
| genomatrix | 0 | 0 | 0 | |
| genotype2phase | 0.023 | 0.001 | 0.024 | |
| getAlleleCounts | 4.015 | 0.042 | 4.057 | |
| getAlleleQuality | 3.646 | 0.066 | 3.712 | |
| getAreaFromGeneNames | 0.619 | 0.036 | 0.655 | |
| getDefaultMapBiasExpMean | 0.026 | 0.002 | 0.029 | |
| getSnpIdFromLocation | 17.918 | 1.617 | 19.602 | |
| histplot | 0 | 0 | 0 | |
| implodeList-old | 0.005 | 0.001 | 0.006 | |
| import-bam-2 | 0.009 | 0.000 | 0.009 | |
| import-bam | 24.655 | 0.315 | 24.981 | |
| import-bcf | 1.193 | 0.011 | 1.204 | |
| inferAlleles | 0.011 | 0.000 | 0.012 | |
| inferAltAllele | 0.015 | 0.001 | 0.016 | |
| inferGenotypes | 0.029 | 0.001 | 0.029 | |
| initialize-ASEset | 0.072 | 0.000 | 0.072 | |
| initialize-DetectedAI | 0.089 | 0.000 | 0.090 | |
| initialize-GlobalAnalysis | 0.001 | 0.000 | 0.002 | |
| initialize-RiskVariant | 0.000 | 0.001 | 0.001 | |
| legendBarplot | 0.000 | 0.000 | 0.001 | |
| locationplot | 1.398 | 0.021 | 1.419 | |
| lva | 8.380 | 0.025 | 8.405 | |
| lva.internal | 0.302 | 0.001 | 0.303 | |
| makeMaskedFasta | 1.091 | 0.041 | 1.132 | |
| mapBiasRef | 0.013 | 0.001 | 0.014 | |
| minCountFilt | 0.065 | 0.001 | 0.067 | |
| minFreqFilt | 0.066 | 0.000 | 0.066 | |
| multiAllelicFilt | 0.011 | 0.000 | 0.011 | |
| phase2genotype | 0.023 | 0.000 | 0.022 | |
| phaseArray2phaseMatrix | 0.004 | 0.000 | 0.003 | |
| phaseMatrix2Array | 0.002 | 0.001 | 0.003 | |
| randomRef | 0.018 | 0.000 | 0.018 | |
| reads | 0 | 0 | 0 | |
| refAllele | 0.013 | 0.000 | 0.014 | |
| regionSummary | 0.531 | 0.000 | 0.531 | |
| scanForHeterozygotes-old | 4.606 | 0.017 | 4.623 | |