| Back to Multiple platform build/check report for BioC 3.22: simplified long |
|
This page was generated on 2025-10-23 12:06 -0400 (Thu, 23 Oct 2025).
| Hostname | OS | Arch (*) | R version | Installed pkgs |
|---|---|---|---|---|
| nebbiolo2 | Linux (Ubuntu 24.04.3 LTS) | x86_64 | 4.5.1 Patched (2025-08-23 r88802) -- "Great Square Root" | 4894 |
| lconway | macOS 12.7.6 Monterey | x86_64 | 4.5.1 Patched (2025-09-10 r88807) -- "Great Square Root" | 4684 |
| kjohnson3 | macOS 13.7.7 Ventura | arm64 | 4.5.1 Patched (2025-09-10 r88807) -- "Great Square Root" | 4629 |
| taishan | Linux (openEuler 24.03 LTS) | aarch64 | 4.5.0 (2025-04-11) -- "How About a Twenty-Six" | 4642 |
| Click on any hostname to see more info about the system (e.g. compilers) (*) as reported by 'uname -p', except on Windows and Mac OS X | ||||
| Package 1660/2355 | Hostname | OS / Arch | INSTALL | BUILD | CHECK | BUILD BIN | ||||||||
| PureCN 2.15.4 (landing page) Markus Riester
| nebbiolo2 | Linux (Ubuntu 24.04.3 LTS) / x86_64 | OK | OK | OK | |||||||||
| lconway | macOS 12.7.6 Monterey / x86_64 | OK | OK | OK | OK | |||||||||
| kjohnson3 | macOS 13.7.7 Ventura / arm64 | OK | OK | OK | OK | |||||||||
| taishan | Linux (openEuler 24.03 LTS) / aarch64 | OK | OK | NA | ||||||||||
|
To the developers/maintainers of the PureCN package: - Allow up to 24 hours (and sometimes 48 hours) for your latest push to git@git.bioconductor.org:packages/PureCN.git to reflect on this report. See Troubleshooting Build Report for more information. - Use the following Renviron settings to reproduce errors and warnings. - If 'R CMD check' started to fail recently on the Linux builder(s) over a missing dependency, add the missing dependency to 'Suggests:' in your DESCRIPTION file. See Renviron.bioc for more information. |
| Package: PureCN |
| Version: 2.15.4 |
| Command: /Library/Frameworks/R.framework/Resources/bin/R CMD check --install=check:PureCN.install-out.txt --library=/Library/Frameworks/R.framework/Resources/library --no-vignettes --timings PureCN_2.15.4.tar.gz |
| StartedAt: 2025-10-22 21:26:56 -0400 (Wed, 22 Oct 2025) |
| EndedAt: 2025-10-22 21:32:40 -0400 (Wed, 22 Oct 2025) |
| EllapsedTime: 343.5 seconds |
| RetCode: 0 |
| Status: OK |
| CheckDir: PureCN.Rcheck |
| Warnings: 0 |
##############################################################################
##############################################################################
###
### Running command:
###
### /Library/Frameworks/R.framework/Resources/bin/R CMD check --install=check:PureCN.install-out.txt --library=/Library/Frameworks/R.framework/Resources/library --no-vignettes --timings PureCN_2.15.4.tar.gz
###
##############################################################################
##############################################################################
* using log directory ‘/Users/biocbuild/bbs-3.22-bioc/meat/PureCN.Rcheck’
* using R version 4.5.1 Patched (2025-09-10 r88807)
* using platform: aarch64-apple-darwin20
* R was compiled by
Apple clang version 16.0.0 (clang-1600.0.26.6)
GNU Fortran (GCC) 14.2.0
* running under: macOS Ventura 13.7.7
* using session charset: UTF-8
* using option ‘--no-vignettes’
* checking for file ‘PureCN/DESCRIPTION’ ... OK
* checking extension type ... Package
* this is package ‘PureCN’ version ‘2.15.4’
* checking package namespace information ... OK
* checking package dependencies ... INFO
Package which this enhances but not available for checking: ‘genomicsdb’
Imports includes 21 non-default packages.
Importing from so many packages makes the package vulnerable to any of
them becoming unavailable. Move as many as possible to Suggests and
use conditionally.
* checking if this is a source package ... OK
* checking if there is a namespace ... OK
* checking for hidden files and directories ... OK
* checking for portable file names ... OK
* checking for sufficient/correct file permissions ... OK
* checking whether package ‘PureCN’ can be installed ... OK
* checking installed package size ... OK
* checking package directory ... OK
* checking ‘build’ directory ... OK
* checking DESCRIPTION meta-information ... OK
* checking top-level files ... OK
* checking for left-over files ... OK
* checking index information ... OK
* checking package subdirectories ... OK
* checking code files for non-ASCII characters ... OK
* checking R files for syntax errors ... OK
* checking whether the package can be loaded ... OK
* checking whether the package can be loaded with stated dependencies ... OK
* checking whether the package can be unloaded cleanly ... OK
* checking whether the namespace can be loaded with stated dependencies ... OK
* checking whether the namespace can be unloaded cleanly ... OK
* checking dependencies in R code ... OK
* checking S3 generic/method consistency ... OK
* checking replacement functions ... OK
* checking foreign function calls ... OK
* checking R code for possible problems ... OK
* checking Rd files ... OK
* checking Rd metadata ... OK
* checking Rd cross-references ... OK
* checking for missing documentation entries ... OK
* checking for code/documentation mismatches ... OK
* checking Rd \usage sections ... OK
* checking Rd contents ... OK
* checking for unstated dependencies in examples ... OK
* checking contents of ‘data’ directory ... OK
* checking data for non-ASCII characters ... OK
* checking data for ASCII and uncompressed saves ... OK
* checking sizes of PDF files under ‘inst/doc’ ... OK
* checking files in ‘vignettes’ ... OK
* checking examples ... OK
Examples with CPU (user + system) or elapsed time > 5s
user system elapsed
callAmplificationsInLowPurity 13.989 0.238 14.297
segmentationPSCBS 12.987 0.133 13.146
filterIntervals 7.055 0.203 7.274
runAbsoluteCN 5.750 0.103 5.860
annotateTargets 5.496 0.227 5.881
segmentationHclust 5.248 0.144 5.415
* checking for unstated dependencies in ‘tests’ ... OK
* checking tests ...
Running ‘testthat.R’
OK
* checking for unstated dependencies in vignettes ... OK
* checking package vignettes ... OK
* checking running R code from vignettes ... SKIPPED
* checking re-building of vignette outputs ... SKIPPED
* checking PDF version of manual ... OK
* DONE
Status: OK
PureCN.Rcheck/00install.out
############################################################################## ############################################################################## ### ### Running command: ### ### /Library/Frameworks/R.framework/Resources/bin/R CMD INSTALL PureCN ### ############################################################################## ############################################################################## * installing to library ‘/Library/Frameworks/R.framework/Versions/4.5-arm64/Resources/library’ * installing *source* package ‘PureCN’ ... ** this is package ‘PureCN’ version ‘2.15.4’ ** using staged installation ** R ** data ** inst ** byte-compile and prepare package for lazy loading ** help *** installing help indices ** building package indices ** installing vignettes ** testing if installed package can be loaded from temporary location ** testing if installed package can be loaded from final location ** testing if installed package keeps a record of temporary installation path * DONE (PureCN)
PureCN.Rcheck/tests/testthat.Rout
R version 4.5.1 Patched (2025-09-10 r88807) -- "Great Square Root"
Copyright (C) 2025 The R Foundation for Statistical Computing
Platform: aarch64-apple-darwin20
R is free software and comes with ABSOLUTELY NO WARRANTY.
You are welcome to redistribute it under certain conditions.
Type 'license()' or 'licence()' for distribution details.
R is a collaborative project with many contributors.
Type 'contributors()' for more information and
'citation()' on how to cite R or R packages in publications.
Type 'demo()' for some demos, 'help()' for on-line help, or
'help.start()' for an HTML browser interface to help.
Type 'q()' to quit R.
> library(testthat)
> library(PureCN)
Loading required package: DNAcopy
Loading required package: VariantAnnotation
Loading required package: BiocGenerics
Loading required package: generics
Attaching package: 'generics'
The following objects are masked from 'package:base':
as.difftime, as.factor, as.ordered, intersect, is.element, setdiff,
setequal, union
Attaching package: 'BiocGenerics'
The following objects are masked from 'package:stats':
IQR, mad, sd, var, xtabs
The following objects are masked from 'package:base':
Filter, Find, Map, Position, Reduce, anyDuplicated, aperm, append,
as.data.frame, basename, cbind, colnames, dirname, do.call,
duplicated, eval, evalq, get, grep, grepl, is.unsorted, lapply,
mapply, match, mget, order, paste, pmax, pmax.int, pmin, pmin.int,
rank, rbind, rownames, sapply, saveRDS, table, tapply, unique,
unsplit, which.max, which.min
Loading required package: MatrixGenerics
Loading required package: matrixStats
Attaching package: 'MatrixGenerics'
The following objects are masked from 'package:matrixStats':
colAlls, colAnyNAs, colAnys, colAvgsPerRowSet, colCollapse,
colCounts, colCummaxs, colCummins, colCumprods, colCumsums,
colDiffs, colIQRDiffs, colIQRs, colLogSumExps, colMadDiffs,
colMads, colMaxs, colMeans2, colMedians, colMins, colOrderStats,
colProds, colQuantiles, colRanges, colRanks, colSdDiffs, colSds,
colSums2, colTabulates, colVarDiffs, colVars, colWeightedMads,
colWeightedMeans, colWeightedMedians, colWeightedSds,
colWeightedVars, rowAlls, rowAnyNAs, rowAnys, rowAvgsPerColSet,
rowCollapse, rowCounts, rowCummaxs, rowCummins, rowCumprods,
rowCumsums, rowDiffs, rowIQRDiffs, rowIQRs, rowLogSumExps,
rowMadDiffs, rowMads, rowMaxs, rowMeans2, rowMedians, rowMins,
rowOrderStats, rowProds, rowQuantiles, rowRanges, rowRanks,
rowSdDiffs, rowSds, rowSums2, rowTabulates, rowVarDiffs, rowVars,
rowWeightedMads, rowWeightedMeans, rowWeightedMedians,
rowWeightedSds, rowWeightedVars
Loading required package: Seqinfo
Loading required package: GenomicRanges
Loading required package: stats4
Loading required package: S4Vectors
Attaching package: 'S4Vectors'
The following object is masked from 'package:utils':
findMatches
The following objects are masked from 'package:base':
I, expand.grid, unname
Loading required package: IRanges
Loading required package: SummarizedExperiment
Loading required package: Biobase
Welcome to Bioconductor
Vignettes contain introductory material; view with
'browseVignettes()'. To cite Bioconductor, see
'citation("Biobase")', and for packages 'citation("pkgname")'.
Attaching package: 'Biobase'
The following object is masked from 'package:MatrixGenerics':
rowMedians
The following objects are masked from 'package:matrixStats':
anyMissing, rowMedians
Loading required package: Rsamtools
Loading required package: Biostrings
Loading required package: XVector
Attaching package: 'Biostrings'
The following object is masked from 'package:base':
strsplit
Attaching package: 'VariantAnnotation'
The following object is masked from 'package:base':
tabulate
>
> test_check("PureCN")
WARN [2025-10-22 21:30:20] Attempted adding gene symbols to intervals. Heuristics have been used to pick symbols for overlapping genes.
WARN [2025-10-22 21:30:21] Chromosome naming style of txdb file (UCSC) was different from interval file (Ensembl).
WARN [2025-10-22 21:30:25] Attempted adding gene symbols to intervals. Heuristics have been used to pick symbols for overlapping genes.
FATAL [2025-10-22 21:30:26] tumor.coverage.file and interval.file do not align.
FATAL [2025-10-22 21:30:26]
FATAL [2025-10-22 21:30:26] This is most likely a user error due to invalid input data or
FATAL [2025-10-22 21:30:26] parameters (PureCN 2.15.4).
WARN [2025-10-22 21:30:26] Cannot find all contig lengths while exporting interval file.
INFO [2025-10-22 21:30:26] Processing seq1:1-21 (1/3)...
INFO [2025-10-22 21:30:26] Processing seq1:1227-1247 (2/3)...
INFO [2025-10-22 21:30:26] Processing seq2:594-614 (3/3)...
WARN [2025-10-22 21:30:27] Large potential mis-calibration of on- and off-target log2 ratios: 0.26
FATAL [2025-10-22 21:30:27] Need either f or purity and ploidy.
FATAL [2025-10-22 21:30:27]
FATAL [2025-10-22 21:30:27] This is most likely a user error due to invalid input data or
FATAL [2025-10-22 21:30:27] parameters (PureCN 2.15.4).
FATAL [2025-10-22 21:30:27] f not in expected range.
FATAL [2025-10-22 21:30:27]
FATAL [2025-10-22 21:30:27] This is most likely a user error due to invalid input data or
FATAL [2025-10-22 21:30:27] parameters (PureCN 2.15.4).
FATAL [2025-10-22 21:30:27] coverage not in expected range (>=2)
FATAL [2025-10-22 21:30:27]
FATAL [2025-10-22 21:30:27] This is most likely a user error due to invalid input data or
FATAL [2025-10-22 21:30:27] parameters (PureCN 2.15.4).
FATAL [2025-10-22 21:30:27] purity not in expected range.
FATAL [2025-10-22 21:30:27]
FATAL [2025-10-22 21:30:27] This is most likely a user error due to invalid input data or
FATAL [2025-10-22 21:30:27] parameters (PureCN 2.15.4).
FATAL [2025-10-22 21:30:27] ploidy not in expected range.
FATAL [2025-10-22 21:30:27]
FATAL [2025-10-22 21:30:27] This is most likely a user error due to invalid input data or
FATAL [2025-10-22 21:30:27] parameters (PureCN 2.15.4).
FATAL [2025-10-22 21:30:27] cell.fraction not in expected range.
FATAL [2025-10-22 21:30:27]
FATAL [2025-10-22 21:30:27] This is most likely a user error due to invalid input data or
FATAL [2025-10-22 21:30:27] parameters (PureCN 2.15.4).
INFO [2025-10-22 21:30:28] 576 on-target bins with low coverage in all samples.
WARN [2025-10-22 21:30:28] You are likely not using the correct baits file!
WARN [2025-10-22 21:30:28] Allosome coverage missing, cannot determine sex.
WARN [2025-10-22 21:30:28] Allosome coverage missing, cannot determine sex.
INFO [2025-10-22 21:30:28] Processing on-target regions...
INFO [2025-10-22 21:30:28] Removing 930 intervals with low coverage in normalDB.
INFO [2025-10-22 21:30:28] Removing 1 intervals with zero coverage in more than 3% of normalDB.
INFO [2025-10-22 21:30:29] Tumor/normal noise ratio: 19.041
WARN [2025-10-22 21:30:29] Extensive noise in tumor compared to normals.
INFO [2025-10-22 21:30:44] Tumor/normal noise ratio: 19.041
WARN [2025-10-22 21:30:44] Extensive noise in tumor compared to normals.
INFO [2025-10-22 21:30:46] Using BiocParallel for parallel optimization.
FATAL [2025-10-22 21:30:50] pvalue.cutoff not within expected range or format.
FATAL [2025-10-22 21:30:50]
FATAL [2025-10-22 21:30:50] This is most likely a user error due to invalid input data or
FATAL [2025-10-22 21:30:50] parameters (PureCN 2.15.4).
FATAL [2025-10-22 21:30:50] pvalue.cutoff not within expected range or format.
FATAL [2025-10-22 21:30:50]
FATAL [2025-10-22 21:30:50] This is most likely a user error due to invalid input data or
FATAL [2025-10-22 21:30:50] parameters (PureCN 2.15.4).
FATAL [2025-10-22 21:30:50] percentile.cutoff not in expected range (0 to 100).
FATAL [2025-10-22 21:30:50]
FATAL [2025-10-22 21:30:50] This is most likely a user error due to invalid input data or
FATAL [2025-10-22 21:30:50] parameters (PureCN 2.15.4).
FATAL [2025-10-22 21:30:50] percentile.cutoff not in expected range (0 to 100).
FATAL [2025-10-22 21:30:50]
FATAL [2025-10-22 21:30:50] This is most likely a user error due to invalid input data or
FATAL [2025-10-22 21:30:50] parameters (PureCN 2.15.4).
FATAL [2025-10-22 21:30:50] purity not within expected range or format.
FATAL [2025-10-22 21:30:50]
FATAL [2025-10-22 21:30:50] This is most likely a user error due to invalid input data or
FATAL [2025-10-22 21:30:50] parameters (PureCN 2.15.4).
FATAL [2025-10-22 21:30:50] purity not within expected range or format.
FATAL [2025-10-22 21:30:50]
FATAL [2025-10-22 21:30:50] This is most likely a user error due to invalid input data or
FATAL [2025-10-22 21:30:50] parameters (PureCN 2.15.4).
INFO [2025-10-22 21:30:51] ------------------------------------------------------------
INFO [2025-10-22 21:30:51] PureCN 2.15.4
INFO [2025-10-22 21:30:51] ------------------------------------------------------------
INFO [2025-10-22 21:30:51] Loading coverage files...
INFO [2025-10-22 21:30:51] Mean target coverages: 112X (tumor) 99X (normal).
WARN [2025-10-22 21:30:51] Allosome coverage missing, cannot determine sex.
WARN [2025-10-22 21:30:51] Allosome coverage missing, cannot determine sex.
INFO [2025-10-22 21:30:51] Removing 228 intervals with missing log.ratio.
INFO [2025-10-22 21:30:51] Removing 22 small (< 5bp) intervals.
INFO [2025-10-22 21:30:51] Removing 19 intervals with low total coverage in normal (< 150.00 reads).
WARN [2025-10-22 21:30:51] No normalDB provided. Provide one for better results.
INFO [2025-10-22 21:30:51] Removing 1724 low count (< 100 total reads) intervals.
INFO [2025-10-22 21:30:51] Removing 6 low coverage (< 15.0000X) intervals.
INFO [2025-10-22 21:30:51] Using 8050 intervals (8050 on-target, 0 off-target).
INFO [2025-10-22 21:30:51] No off-target intervals. If this is hybrid-capture data, consider adding them.
INFO [2025-10-22 21:30:51] No interval.file provided. Cannot check for any GC-biases.
INFO [2025-10-22 21:30:51] Loading VCF...
INFO [2025-10-22 21:30:51] Found 127 variants in VCF file.
INFO [2025-10-22 21:30:51] 127 (100.0%) variants annotated as likely germline (DB INFO flag).
INFO [2025-10-22 21:30:51] LIB-02240e4 is tumor in VCF file.
INFO [2025-10-22 21:30:51] No homozygous variants in VCF, provide unfiltered VCF.
INFO [2025-10-22 21:30:51] Removing 1 non heterozygous (in matched normal) germline SNPs.
INFO [2025-10-22 21:30:51] Removing 0 low quality variants with non-offset BQ < 25.
INFO [2025-10-22 21:30:51] Base quality scores range from 29 to 35 (offset by 1)
INFO [2025-10-22 21:30:51] Minimum number of supporting reads ranges from 2 to 5, depending on coverage and BQS.
INFO [2025-10-22 21:30:52] Removing 1 variants with AF < 0.030 or AF >= 1.000 or insufficient supporting reads or depth < 15.
INFO [2025-10-22 21:30:52] Total size of targeted genomic region: 1.53Mb (2.33Mb with 50bp padding).
INFO [2025-10-22 21:30:52] 1.2% of targets contain variants.
INFO [2025-10-22 21:30:52] Removing 4 variants outside intervals.
INFO [2025-10-22 21:30:52] Found SOMATIC annotation in VCF.
INFO [2025-10-22 21:30:52] Setting somatic prior probabilities for somatic variants to 0.999000 or to 0.000100 otherwise.
INFO [2025-10-22 21:30:52] Found SOMATIC annotation in VCF. Setting mapping bias to 0.972.
INFO [2025-10-22 21:30:52] Excluding 0 novel or poor quality variants from segmentation.
INFO [2025-10-22 21:30:52] Sample sex: ?
INFO [2025-10-22 21:30:52] Segmenting data...
INFO [2025-10-22 21:30:52] Loading pre-computed boundaries for DNAcopy...
INFO [2025-10-22 21:30:52] Setting undo.SD parameter to 1.000000.
INFO [2025-10-22 21:30:52] Setting prune.hclust.h parameter to 0.200000.
INFO [2025-10-22 21:30:52] Found 59 segments with median size of 17.67Mb.
INFO [2025-10-22 21:30:52] Using 121 variants.
INFO [2025-10-22 21:30:52] Mean standard deviation of log-ratios: 0.34 (MAPD: 0.30)
INFO [2025-10-22 21:30:52] 2D-grid search of purity and ploidy...
INFO [2025-10-22 21:30:53] Local optima: 0.63/1.9, 0.5/2
INFO [2025-10-22 21:30:53] Testing local optimum 1/2 at purity 0.63 and total ploidy 1.90...
INFO [2025-10-22 21:30:53] Testing local optimum 2/2 at purity 0.50 and total ploidy 2.00...
INFO [2025-10-22 21:30:53] Skipping 1 solutions that converged to the same optima.
INFO [2025-10-22 21:30:53] Fitting variants with beta model for local optimum 1/2...
INFO [2025-10-22 21:30:53] Fitting variants for purity 0.65, tumor ploidy 1.75 and contamination 0.01.
INFO [2025-10-22 21:30:54] Optimized purity: 0.65
INFO [2025-10-22 21:30:54] Done.
INFO [2025-10-22 21:30:54] ------------------------------------------------------------
INFO [2025-10-22 21:30:54] Estimating callable regions.
FATAL [2025-10-22 21:30:55] exclude not a GRanges object.
FATAL [2025-10-22 21:30:55]
FATAL [2025-10-22 21:30:55] This is most likely a user error due to invalid input data or
FATAL [2025-10-22 21:30:55] parameters (PureCN 2.15.4).
FATAL [2025-10-22 21:30:55] callable not a GRanges object.
FATAL [2025-10-22 21:30:55]
FATAL [2025-10-22 21:30:55] This is most likely a user error due to invalid input data or
FATAL [2025-10-22 21:30:55] parameters (PureCN 2.15.4).
WARN [2025-10-22 21:30:58] tumor.coverage.file and interval.file do not align.
INFO [2025-10-22 21:30:58] No Gene column in interval.file. You won't get gene-level calls.
FATAL [2025-10-22 21:30:59] No gc_bias column in interval.file.
FATAL [2025-10-22 21:30:59]
FATAL [2025-10-22 21:30:59] This is most likely a user error due to invalid input data or
FATAL [2025-10-22 21:30:59] parameters (PureCN 2.15.4).
FATAL [2025-10-22 21:30:59] Provided coverage is zero, most likely due to a corrupt BAM file.
FATAL [2025-10-22 21:30:59]
FATAL [2025-10-22 21:30:59] This is most likely a user error due to invalid input data or
FATAL [2025-10-22 21:30:59] parameters (PureCN 2.15.4).
INFO [2025-10-22 21:31:00] No reptiming column in interval.file.
INFO [2025-10-22 21:31:01] Reading /var/folders/r0/l4fjk6cj5xj0j3brt4bplpl40000gt/T//RtmpstHZvC/filee3525a4530ff.rds...
INFO [2025-10-22 21:31:01] Reading /var/folders/r0/l4fjk6cj5xj0j3brt4bplpl40000gt/T//RtmpstHZvC/filee3525a4530ff.rds...
INFO [2025-10-22 21:31:01] Reading /var/folders/r0/l4fjk6cj5xj0j3brt4bplpl40000gt/T//RtmpstHZvC/filee3525a4530ff.rds...
INFO [2025-10-22 21:31:01] Reading /var/folders/r0/l4fjk6cj5xj0j3brt4bplpl40000gt/T//RtmpstHZvC/filee3525a4530ff.rds...
INFO [2025-10-22 21:31:01] Reading /var/folders/r0/l4fjk6cj5xj0j3brt4bplpl40000gt/T//RtmpstHZvC/filee3525a4530ff.rds...
INFO [2025-10-22 21:31:01] Reading /var/folders/r0/l4fjk6cj5xj0j3brt4bplpl40000gt/T//RtmpstHZvC/filee3525a4530ff.rds...
FATAL [2025-10-22 21:31:01] Purity or Ploidy not numeric or in expected range.
FATAL [2025-10-22 21:31:01]
FATAL [2025-10-22 21:31:01] This is most likely a user error due to invalid input data or
FATAL [2025-10-22 21:31:01] parameters (PureCN 2.15.4).
INFO [2025-10-22 21:31:01] Reading /var/folders/r0/l4fjk6cj5xj0j3brt4bplpl40000gt/T//RtmpstHZvC/filee3525a4530ff.rds...
INFO [2025-10-22 21:31:01] Reading /var/folders/r0/l4fjk6cj5xj0j3brt4bplpl40000gt/T//RtmpstHZvC/filee3525a4530ff.rds...
FATAL [2025-10-22 21:31:01] 'Failed' column in
FATAL [2025-10-22 21:31:01] /var/folders/r0/l4fjk6cj5xj0j3brt4bplpl40000gt/T//RtmpstHZvC/filee3525a4530ff.csv
FATAL [2025-10-22 21:31:01] not logical(1).
FATAL [2025-10-22 21:31:01]
FATAL [2025-10-22 21:31:01] This is most likely a user error due to invalid input data or
FATAL [2025-10-22 21:31:01] parameters (PureCN 2.15.4).
INFO [2025-10-22 21:31:02] 576 on-target bins with low coverage in all samples.
WARN [2025-10-22 21:31:02] You are likely not using the correct baits file!
WARN [2025-10-22 21:31:02] Allosome coverage missing, cannot determine sex.
WARN [2025-10-22 21:31:02] Allosome coverage missing, cannot determine sex.
INFO [2025-10-22 21:31:02] Processing on-target regions...
INFO [2025-10-22 21:31:02] Removing 930 intervals with low coverage in normalDB.
INFO [2025-10-22 21:31:02] Removing 1 intervals with zero coverage in more than 3% of normalDB.
INFO [2025-10-22 21:31:03] 576 on-target bins with low coverage in all samples.
WARN [2025-10-22 21:31:03] You are likely not using the correct baits file!
WARN [2025-10-22 21:31:03] Allosome coverage missing, cannot determine sex.
WARN [2025-10-22 21:31:03] Allosome coverage missing, cannot determine sex.
INFO [2025-10-22 21:31:03] Processing on-target regions...
INFO [2025-10-22 21:31:03] Removing 930 intervals with low coverage in normalDB.
INFO [2025-10-22 21:31:03] Removing 1 intervals with zero coverage in more than 3% of normalDB.
INFO [2025-10-22 21:31:05] 576 on-target bins with low coverage in all samples.
WARN [2025-10-22 21:31:05] You are likely not using the correct baits file!
WARN [2025-10-22 21:31:05] Allosome coverage missing, cannot determine sex.
WARN [2025-10-22 21:31:05] Allosome coverage missing, cannot determine sex.
INFO [2025-10-22 21:31:05] Processing on-target regions...
INFO [2025-10-22 21:31:05] Removing 930 intervals with low coverage in normalDB.
INFO [2025-10-22 21:31:05] Removing 1 intervals with zero coverage in more than 3% of normalDB.
WARN [2025-10-22 21:31:05] Allosome coverage missing, cannot determine sex.
INFO [2025-10-22 21:31:05] Sample sex: NA
WARN [2025-10-22 21:31:05] Allosome coverage missing, cannot determine sex.
INFO [2025-10-22 21:31:05] Sample sex: NA
INFO [2025-10-22 21:31:05] 576 on-target bins with low coverage in all samples.
WARN [2025-10-22 21:31:05] You are likely not using the correct baits file!
WARN [2025-10-22 21:31:05] Allosome coverage missing, cannot determine sex.
WARN [2025-10-22 21:31:05] Allosome coverage missing, cannot determine sex.
FATAL [2025-10-22 21:31:05] Length of normal.coverage.files and sex different
FATAL [2025-10-22 21:31:05]
FATAL [2025-10-22 21:31:05] This is most likely a user error due to invalid input data or
FATAL [2025-10-22 21:31:05] parameters (PureCN 2.15.4).
WARN [2025-10-22 21:31:07] Target intervals were not sorted.
INFO [2025-10-22 21:31:07] 560 on-target bins with low coverage in all samples.
WARN [2025-10-22 21:31:07] You are likely not using the correct baits file!
WARN [2025-10-22 21:31:07] Allosome coverage missing, cannot determine sex.
WARN [2025-10-22 21:31:07] Allosome coverage missing, cannot determine sex.
WARN [2025-10-22 21:31:07] Allosome coverage missing, cannot determine sex.
INFO [2025-10-22 21:31:07] Processing on-target regions...
INFO [2025-10-22 21:31:07] Removing 978 intervals with low coverage in normalDB.
INFO [2025-10-22 21:31:07] Removing 11 intervals with zero coverage in more than 3% of normalDB.
FATAL [2025-10-22 21:31:08] tumor.coverage.file and normalDB do not align.
FATAL [2025-10-22 21:31:08]
FATAL [2025-10-22 21:31:08] This is most likely a user error due to invalid input data or
FATAL [2025-10-22 21:31:08] parameters (PureCN 2.15.4).
FATAL [2025-10-22 21:31:08] At least 2 normal.coverage.files required.
FATAL [2025-10-22 21:31:08]
FATAL [2025-10-22 21:31:08] This is most likely a user error due to invalid input data or
FATAL [2025-10-22 21:31:08] parameters (PureCN 2.15.4).
INFO [2025-10-22 21:31:09] ------------------------------------------------------------
INFO [2025-10-22 21:31:09] PureCN 2.15.4
INFO [2025-10-22 21:31:09] ------------------------------------------------------------
INFO [2025-10-22 21:31:09] Loading coverage files...
INFO [2025-10-22 21:31:09] Mean target coverages: 112X (tumor) 99X (normal).
WARN [2025-10-22 21:31:09] Allosome coverage missing, cannot determine sex.
WARN [2025-10-22 21:31:09] Allosome coverage missing, cannot determine sex.
INFO [2025-10-22 21:31:09] Removing 228 intervals with missing log.ratio.
FATAL [2025-10-22 21:31:09] normalDB incompatible with this PureCN version. Please re-run
FATAL [2025-10-22 21:31:09] NormalDB.R.
FATAL [2025-10-22 21:31:09]
FATAL [2025-10-22 21:31:09] This is most likely a user error due to invalid input data or
FATAL [2025-10-22 21:31:09] parameters (PureCN 2.15.4).
FATAL [2025-10-22 21:31:09] normalDB incompatible with this PureCN version. Please re-run
FATAL [2025-10-22 21:31:09] NormalDB.R.
FATAL [2025-10-22 21:31:09]
FATAL [2025-10-22 21:31:09] This is most likely a user error due to invalid input data or
FATAL [2025-10-22 21:31:09] parameters (PureCN 2.15.4).
FATAL [2025-10-22 21:31:09] normal.coverage.files with _coverage.txt and _loess.txt suffix
FATAL [2025-10-22 21:31:09] provided. Provide either only GC-normalized or raw coverage files!
FATAL [2025-10-22 21:31:09]
FATAL [2025-10-22 21:31:09] This is most likely a user error due to invalid input data or
FATAL [2025-10-22 21:31:09] parameters (PureCN 2.15.4).
INFO [2025-10-22 21:31:09] Removing 22 non heterozygous (in matched normal) germline SNPs.
INFO [2025-10-22 21:31:09] Removing 19 low quality variants with non-offset BQ < 25.
INFO [2025-10-22 21:31:09] Base quality scores range from 24 to 35 (offset by 1)
INFO [2025-10-22 21:31:09] Minimum number of supporting reads ranges from 2 to 9, depending on coverage and BQS.
INFO [2025-10-22 21:31:09] Initial testing for significant sample cross-contamination: unlikely
INFO [2025-10-22 21:31:09] Removing 45 variants with AF < 0.030 or AF >= 1.000 or insufficient supporting reads or depth < 15.
INFO [2025-10-22 21:31:09] Removing 22 non heterozygous (in matched normal) germline SNPs.
INFO [2025-10-22 21:31:09] Removing 19 low quality variants with non-offset BQ < 25.
INFO [2025-10-22 21:31:10] Base quality scores range from 24 to 35 (offset by 1)
INFO [2025-10-22 21:31:10] Minimum number of supporting reads ranges from 2 to 9, depending on coverage and BQS.
INFO [2025-10-22 21:31:10] Initial testing for significant sample cross-contamination: unlikely
INFO [2025-10-22 21:31:10] Removing 45 variants with AF < 0.030 or AF >= 1.000 or insufficient supporting reads or depth < 15.
INFO [2025-10-22 21:31:10] Removing 6 blacklisted variants.
INFO [2025-10-22 21:31:10] Removing 22 non heterozygous (in matched normal) germline SNPs.
INFO [2025-10-22 21:31:10] Removing 19 low quality variants with non-offset BQ < 25.
INFO [2025-10-22 21:31:10] Base quality scores range from 24 to 35 (offset by 1)
INFO [2025-10-22 21:31:10] Minimum number of supporting reads ranges from 2 to 9, depending on coverage and BQS.
INFO [2025-10-22 21:31:10] Initial testing for significant sample cross-contamination: unlikely
INFO [2025-10-22 21:31:10] Removing 45 variants with AF < 0.030 or AF >= 1.000 or insufficient supporting reads or depth < 15.
WARN [2025-10-22 21:31:10] MuTect stats file lacks contig and position columns.
INFO [2025-10-22 21:31:10] Removing 22 non heterozygous (in matched normal) germline SNPs.
INFO [2025-10-22 21:31:10] Removing 19 low quality variants with non-offset BQ < 25.
INFO [2025-10-22 21:31:10] Base quality scores range from 24 to 35 (offset by 1)
INFO [2025-10-22 21:31:10] Minimum number of supporting reads ranges from 2 to 9, depending on coverage and BQS.
INFO [2025-10-22 21:31:10] Initial testing for significant sample cross-contamination: unlikely
INFO [2025-10-22 21:31:10] Removing 45 variants with AF < 0.030 or AF >= 1.000 or insufficient supporting reads or depth < 15.
WARN [2025-10-22 21:31:10] MuTect stats file and VCF file do not align perfectly. Will remove 2325 unmatched variants.
WARN [2025-10-22 21:31:10] MuTect stats file lacks failure_reasons column. Keeping all variants listed in stats file.
INFO [2025-10-22 21:31:10] Removing 0 non heterozygous (in matched normal) germline SNPs.
INFO [2025-10-22 21:31:10] Removing 0 low quality variants with non-offset BQ < 25.
INFO [2025-10-22 21:31:10] Base quality scores range from 31 to 33 (offset by 1)
INFO [2025-10-22 21:31:10] Minimum number of supporting reads ranges from 3 to 4, depending on coverage and BQS.
INFO [2025-10-22 21:31:10] Removing 0 variants with AF < 0.030 or AF >= 1.000 or insufficient supporting reads or depth < 15.
INFO [2025-10-22 21:31:10] Removing 22 non heterozygous (in matched normal) germline SNPs.
INFO [2025-10-22 21:31:10] Base quality scores range from 7 to 35 (offset by 1)
INFO [2025-10-22 21:31:10] Minimum number of supporting reads ranges from 1 to 41, depending on coverage and BQS.
INFO [2025-10-22 21:31:11] Initial testing for significant sample cross-contamination: unlikely
INFO [2025-10-22 21:31:11] Removing 49 variants with AF < 0.030 or AF >= 1.000 or insufficient supporting reads or depth < 15.
INFO [2025-10-22 21:31:11] Removing 22 non heterozygous (in matched normal) germline SNPs.
INFO [2025-10-22 21:31:11] Base quality scores range from 7 to 35 (offset by 1)
INFO [2025-10-22 21:31:11] Minimum number of supporting reads ranges from 1 to 41, depending on coverage and BQS.
INFO [2025-10-22 21:31:11] Initial testing for significant sample cross-contamination: unlikely
INFO [2025-10-22 21:31:11] Removing 49 variants with AF < 0.030 or AF >= 1.000 or insufficient supporting reads or depth < 15.
INFO [2025-10-22 21:31:11] Removing 22 non heterozygous (in matched normal) germline SNPs.
WARN [2025-10-22 21:31:11] Many variants removed by min.base.quality (50) filter. You might want to lower the cutoff.
FATAL [2025-10-22 21:31:11] No variants passed filter BQ.
FATAL [2025-10-22 21:31:11]
FATAL [2025-10-22 21:31:11] This is most likely a user error due to invalid input data or
FATAL [2025-10-22 21:31:11] parameters (PureCN 2.15.4).
INFO [2025-10-22 21:31:11] Found 11 variants in VCF file.
WARN [2025-10-22 21:31:11] vcf.file has no DB info field for membership in germline databases. Found and used valid population allele frequency > 0.001000 instead.
INFO [2025-10-22 21:31:11] 1 (9.1%) variants annotated as likely germline (DB INFO flag).
INFO [2025-10-22 21:31:12] Found 11 variants in VCF file.
WARN [2025-10-22 21:31:12] vcf.file has no DB info field for membership in germline databases. Found and used valid population allele frequency > 0.001000 instead.
INFO [2025-10-22 21:31:12] 1 (9.1%) variants annotated as likely germline (DB INFO flag).
INFO [2025-10-22 21:31:12] Found 11 variants in VCF file.
WARN [2025-10-22 21:31:12] vcf.file has no DB or POP_AF info field for membership in germline databases. Guessing it based on available dbSNP ID.
INFO [2025-10-22 21:31:12] 1 (9.1%) variants annotated as likely germline (DB INFO flag).
INFO [2025-10-22 21:31:12] Found 1000 variants in VCF file.
INFO [2025-10-22 21:31:12] Removing 2 triallelic sites.
WARN [2025-10-22 21:31:12] Having trouble guessing SOMATIC status...
WARN [2025-10-22 21:31:12] DP FORMAT field contains NAs. Removing 44 variants.
INFO [2025-10-22 21:31:12] 954 (100.0%) variants annotated as likely germline (DB INFO flag).
INFO [2025-10-22 21:31:13] Found 12 variants in VCF file.
INFO [2025-10-22 21:31:13] Removing 1 triallelic sites.
WARN [2025-10-22 21:31:13] DP FORMAT field contains NAs. Removing 1 variants.
WARN [2025-10-22 21:31:13] vcf.file has no DB info field for membership in germline databases. Found and used somatic status instead.
INFO [2025-10-22 21:31:13] 8 (80.0%) variants annotated as likely germline (DB INFO flag).
WARN [2025-10-22 21:31:13] BQ FORMAT field contains NAs.
INFO [2025-10-22 21:31:13] Found 2331 variants in VCF file.
INFO [2025-10-22 21:31:13] 2282 (97.9%) variants annotated as likely germline (DB INFO flag).
INFO [2025-10-22 21:31:13] Found 2331 variants in VCF file.
INFO [2025-10-22 21:31:13] 2282 (97.9%) variants annotated as likely germline (DB INFO flag).
WARN [2025-10-22 21:31:13] Did not find base quality scores, will use global error rate of 0.0010 instead.
INFO [2025-10-22 21:31:13] Removing 21 low quality variants with non-offset BQ < 25.
INFO [2025-10-22 21:31:13] Base quality scores range from 24 to 35 (offset by 1)
INFO [2025-10-22 21:31:13] Initial testing for significant sample cross-contamination: unlikely
INFO [2025-10-22 21:31:13] Removing 89 variants with AF < 0.030 or AF >= 0.970 or insufficient supporting reads or depth < 15.
INFO [2025-10-22 21:31:13] Found 2331 variants in VCF file.
INFO [2025-10-22 21:31:13] 2282 (97.9%) variants annotated as likely germline (DB INFO flag).
WARN [2025-10-22 21:31:14] BQ FORMAT field contains NAs.
WARN [2025-10-22 21:31:14] Allosome coverage missing, cannot determine sex.
WARN [2025-10-22 21:31:14] Allosome coverage missing, cannot determine sex.
INFO [2025-10-22 21:31:14] Mean coverages: chrX: 108.58, chrY: 108.58, chr1-22: 104.87.
INFO [2025-10-22 21:31:14] Mean coverages: chrX: 108.58, chrY: 2.17, chr1-22: 104.87.
INFO [2025-10-22 21:31:14] Mean coverages: chrX: 108.58, chrY: 5.17, chr1-22: 104.87.
INFO [2025-10-22 21:31:14] No homozygous variants in VCF, provide unfiltered VCF.
INFO [2025-10-22 21:31:14] No germline variants in VCF.
FATAL [2025-10-22 21:31:14] No solution with id hello
FATAL [2025-10-22 21:31:14]
FATAL [2025-10-22 21:31:14] This is most likely a user error due to invalid input data or
FATAL [2025-10-22 21:31:14] parameters (PureCN 2.15.4).
FATAL [2025-10-22 21:31:14] No solution with id 100
FATAL [2025-10-22 21:31:14]
FATAL [2025-10-22 21:31:14] This is most likely a user error due to invalid input data or
FATAL [2025-10-22 21:31:14] parameters (PureCN 2.15.4).
FATAL [2025-10-22 21:31:15] all.data and w have different lengths.
FATAL [2025-10-22 21:31:15]
FATAL [2025-10-22 21:31:15] This is most likely a user error due to invalid input data or
FATAL [2025-10-22 21:31:15] parameters (PureCN 2.15.4).
INFO [2025-10-22 21:31:15] Splitting 5 large targets to an average width of 400.
WARN [2025-10-22 21:31:15] No mappability scores provided.
WARN [2025-10-22 21:31:15] No reptiming scores provided.
INFO [2025-10-22 21:31:15] Calculating GC-content...
INFO [2025-10-22 21:31:15] Splitting 5 large targets to an average width of 400.
WARN [2025-10-22 21:31:15] No mappability scores provided.
WARN [2025-10-22 21:31:15] No reptiming scores provided.
INFO [2025-10-22 21:31:15] Calculating GC-content...
INFO [2025-10-22 21:31:15] Splitting 5 large targets to an average width of 400.
INFO [2025-10-22 21:31:15] Removing 1 targets overlapping with exclude.
WARN [2025-10-22 21:31:15] No mappability scores provided.
WARN [2025-10-22 21:31:15] No reptiming scores provided.
INFO [2025-10-22 21:31:15] Calculating GC-content...
WARN [2025-10-22 21:31:15] Found small target regions (< 100bp). Will resize them.
INFO [2025-10-22 21:31:15] Splitting 5 large targets to an average width of 400.
FATAL [2025-10-22 21:31:15] off.target.padding must be negative.
FATAL [2025-10-22 21:31:15]
FATAL [2025-10-22 21:31:15] This is most likely a user error due to invalid input data or
FATAL [2025-10-22 21:31:15] parameters (PureCN 2.15.4).
FATAL [2025-10-22 21:31:15] Interval coordinates should start at 1, not at 0
FATAL [2025-10-22 21:31:15]
FATAL [2025-10-22 21:31:15] This is most likely a user error due to invalid input data or
FATAL [2025-10-22 21:31:15] parameters (PureCN 2.15.4).
WARN [2025-10-22 21:31:15] Found small target regions (< 100bp). Will resize them.
INFO [2025-10-22 21:31:16] Splitting 5 large targets to an average width of 400.
FATAL [2025-10-22 21:31:16] No off-target regions after filtering for mappability and
FATAL [2025-10-22 21:31:16] off.target.padding
FATAL [2025-10-22 21:31:16]
FATAL [2025-10-22 21:31:16] This is most likely a user error due to invalid input data or
FATAL [2025-10-22 21:31:16] parameters (PureCN 2.15.4).
WARN [2025-10-22 21:31:16] Found small target regions (< 100bp). Will resize them.
INFO [2025-10-22 21:31:16] Splitting 5 large targets to an average width of 400.
WARN [2025-10-22 21:31:16] No mappability scores provided.
INFO [2025-10-22 21:31:16] Calculating GC-content...
WARN [2025-10-22 21:31:16] Found small target regions (< 100bp). Will resize them.
INFO [2025-10-22 21:31:16] Averaging reptiming into bins of size 200...
INFO [2025-10-22 21:31:16] Splitting 5 large targets to an average width of 400.
WARN [2025-10-22 21:31:16] No mappability scores provided.
INFO [2025-10-22 21:31:16] Calculating GC-content...
WARN [2025-10-22 21:31:16] Found small target regions (< 100bp). Will resize them.
INFO [2025-10-22 21:31:16] Splitting 6 large targets to an average width of 200.
WARN [2025-10-22 21:31:16] No mappability scores provided.
WARN [2025-10-22 21:31:16] No reptiming scores provided.
INFO [2025-10-22 21:31:16] Calculating GC-content...
WARN [2025-10-22 21:31:16] Found small target regions (< 100bp). Will resize them.
INFO [2025-10-22 21:31:16] Splitting 5 large targets to an average width of 400.
WARN [2025-10-22 21:31:16] No mappability scores provided.
WARN [2025-10-22 21:31:16] No reptiming scores provided.
INFO [2025-10-22 21:31:16] Calculating GC-content...
INFO [2025-10-22 21:31:16] Splitting 5 large targets to an average width of 400.
INFO [2025-10-22 21:31:16] Tiling off-target regions to an average width of 200000.
WARN [2025-10-22 21:31:16] No mappability scores provided.
WARN [2025-10-22 21:31:16] No reptiming scores provided.
INFO [2025-10-22 21:31:16] Calculating GC-content...
WARN [2025-10-22 21:31:16] Intervals contain off-target regions. Will not change intervals.
WARN [2025-10-22 21:31:16] No mappability scores provided.
WARN [2025-10-22 21:31:16] No reptiming scores provided.
INFO [2025-10-22 21:31:16] Calculating GC-content...
INFO [2025-10-22 21:31:16] Splitting 5 large targets to an average width of 400.
WARN [2025-10-22 21:31:16] No reptiming scores provided.
INFO [2025-10-22 21:31:16] Calculating GC-content...
WARN [2025-10-22 21:31:16] Found small target regions (< 100bp). Will resize them.
INFO [2025-10-22 21:31:16] Splitting 5 large targets to an average width of 400.
WARN [2025-10-22 21:31:16] No reptiming scores provided.
INFO [2025-10-22 21:31:16] Calculating GC-content...
WARN [2025-10-22 21:31:17] Found small target regions (< 100bp). Will resize them.
INFO [2025-10-22 21:31:17] Splitting 5 large targets to an average width of 400.
WARN [2025-10-22 21:31:17] 1 intervals without mappability score (1 on-target).
INFO [2025-10-22 21:31:17] Removing 1 intervals with low mappability score (<0.60).
WARN [2025-10-22 21:31:17] No reptiming scores provided.
INFO [2025-10-22 21:31:17] Calculating GC-content...
WARN [2025-10-22 21:31:17] Found small target regions (< 100bp). Will resize them.
INFO [2025-10-22 21:31:17] Splitting 5 large targets to an average width of 400.
INFO [2025-10-22 21:31:17] Tiling off-target regions to an average width of 200000.
WARN [2025-10-22 21:31:17] No reptiming scores provided.
INFO [2025-10-22 21:31:17] Calculating GC-content...
INFO [2025-10-22 21:31:17] Splitting 5 large targets to an average width of 400.
WARN [2025-10-22 21:31:17] No mappability scores provided.
WARN [2025-10-22 21:31:17] No reptiming scores provided.
INFO [2025-10-22 21:31:17] Calculating GC-content...
WARN [2025-10-22 21:31:17] Chromosome naming style of interval file (Ensembl) was different from reference (UCSC).
INFO [2025-10-22 21:31:17] Splitting 5 large targets to an average width of 400.
WARN [2025-10-22 21:31:17] No mappability scores provided.
WARN [2025-10-22 21:31:17] No reptiming scores provided.
INFO [2025-10-22 21:31:17] Calculating GC-content...
FATAL [2025-10-22 21:31:17] Chromosome naming style of interval file unknown, should be UCSC.
FATAL [2025-10-22 21:31:17]
FATAL [2025-10-22 21:31:17] This is most likely a user error due to invalid input data or
FATAL [2025-10-22 21:31:17] parameters (PureCN 2.15.4).
WARN [2025-10-22 21:31:17] Chromosome naming style of interval file (Ensembl) was different from reference (UCSC).
WARN [2025-10-22 21:31:18] Chromosome naming style of mappability file (Ensembl) was different from reference (UCSC).
INFO [2025-10-22 21:31:18] Splitting 5 large targets to an average width of 400.
WARN [2025-10-22 21:31:18] No reptiming scores provided.
INFO [2025-10-22 21:31:18] Calculating GC-content...
WARN [2025-10-22 21:31:18] Found small target regions (< 60bp). Will resize them.
INFO [2025-10-22 21:31:18] Splitting 5 large targets to an average width of 400.
WARN [2025-10-22 21:31:18] No mappability scores provided.
WARN [2025-10-22 21:31:18] No reptiming scores provided.
INFO [2025-10-22 21:31:18] Calculating GC-content...
WARN [2025-10-22 21:31:18] Found small target regions (< 60bp). Will drop them.
INFO [2025-10-22 21:31:18] Splitting 4 large targets to an average width of 400.
WARN [2025-10-22 21:31:18] No mappability scores provided.
WARN [2025-10-22 21:31:18] No reptiming scores provided.
INFO [2025-10-22 21:31:18] Calculating GC-content...
WARN [2025-10-22 21:31:18] Found small target regions (< 200bp). Will resize them.
INFO [2025-10-22 21:31:18] Splitting 5 large targets to an average width of 400.
WARN [2025-10-22 21:31:18] No mappability scores provided.
WARN [2025-10-22 21:31:18] No reptiming scores provided.
INFO [2025-10-22 21:31:18] Calculating GC-content...
INFO [2025-10-22 21:31:18] Found 20 variants in VCF file.
INFO [2025-10-22 21:31:18] 20 (100.0%) variants annotated as likely germline (DB INFO flag).
WARN [2025-10-22 21:31:18] Did not find base quality scores, will use global error rate of 0.0010 instead.
Error in read.table(file = file, header = header, sep = sep, quote = quote, :
no lines available in input
FATAL [2025-10-22 21:31:18] Error reading AllelicCountsFile
FATAL [2025-10-22 21:31:18] /Library/Frameworks/R.framework/Versions/4.5-arm64/Resources/library/PureCN/extdata/example_allelic_counts_empty.tsv
FATAL [2025-10-22 21:31:18]
FATAL [2025-10-22 21:31:18] This is most likely a user error due to invalid input data or
FATAL [2025-10-22 21:31:18] parameters (PureCN 2.15.4).
INFO [2025-10-22 21:31:18] Found 127 variants in VCF file.
INFO [2025-10-22 21:31:18] 127 (100.0%) variants annotated as likely germline (DB INFO flag).
WARN [2025-10-22 21:31:18] Did not find base quality scores, will use global error rate of 0.0010 instead.
INFO [2025-10-22 21:31:18] ------------------------------------------------------------
INFO [2025-10-22 21:31:18] PureCN 2.15.4
INFO [2025-10-22 21:31:18] ------------------------------------------------------------
INFO [2025-10-22 21:31:18] Loading coverage files...
INFO [2025-10-22 21:31:19] Mean target coverages: 112X (tumor) 99X (normal).
WARN [2025-10-22 21:31:19] Allosome coverage missing, cannot determine sex.
WARN [2025-10-22 21:31:19] Allosome coverage missing, cannot determine sex.
INFO [2025-10-22 21:31:19] Removing 228 intervals with missing log.ratio.
INFO [2025-10-22 21:31:19] Removing 22 small (< 5bp) intervals.
INFO [2025-10-22 21:31:19] Removing 19 intervals with low total coverage in normal (< 150.00 reads).
WARN [2025-10-22 21:31:19] No normalDB provided. Provide one for better results.
INFO [2025-10-22 21:31:19] Removing 1724 low count (< 100 total reads) intervals.
INFO [2025-10-22 21:31:19] Removing 6 low coverage (< 15.0000X) intervals.
INFO [2025-10-22 21:31:19] Using 8050 intervals (8050 on-target, 0 off-target).
INFO [2025-10-22 21:31:19] No off-target intervals. If this is hybrid-capture data, consider adding them.
INFO [2025-10-22 21:31:19] No interval.file provided. Cannot check for any GC-biases.
INFO [2025-10-22 21:31:19] Loading VCF...
INFO [2025-10-22 21:31:19] Found 127 variants in VCF file.
INFO [2025-10-22 21:31:19] 127 (100.0%) variants annotated as likely germline (DB INFO flag).
INFO [2025-10-22 21:31:19] LIB-02240e4 is tumor in VCF file.
INFO [2025-10-22 21:31:19] No homozygous variants in VCF, provide unfiltered VCF.
INFO [2025-10-22 21:31:19] Removing 1 non heterozygous (in matched normal) germline SNPs.
INFO [2025-10-22 21:31:19] Removing 0 low quality variants with non-offset BQ < 25.
INFO [2025-10-22 21:31:19] Base quality scores range from 29 to 35 (offset by 1)
INFO [2025-10-22 21:31:19] Minimum number of supporting reads ranges from 2 to 5, depending on coverage and BQS.
INFO [2025-10-22 21:31:19] Removing 1 variants with AF < 0.030 or AF >= 1.000 or insufficient supporting reads or depth < 15.
INFO [2025-10-22 21:31:19] Total size of targeted genomic region: 1.53Mb (2.33Mb with 50bp padding).
INFO [2025-10-22 21:31:19] 1.2% of targets contain variants.
INFO [2025-10-22 21:31:19] Removing 4 variants outside intervals.
INFO [2025-10-22 21:31:19] Found SOMATIC annotation in VCF.
INFO [2025-10-22 21:31:19] Setting somatic prior probabilities for somatic variants to 0.999000 or to 0.000100 otherwise.
INFO [2025-10-22 21:31:19] Found SOMATIC annotation in VCF. Setting mapping bias to 0.972.
INFO [2025-10-22 21:31:19] Excluding 0 novel or poor quality variants from segmentation.
INFO [2025-10-22 21:31:19] Sample sex: ?
INFO [2025-10-22 21:31:19] Segmenting data...
INFO [2025-10-22 21:31:19] Loading pre-computed boundaries for DNAcopy...
INFO [2025-10-22 21:31:19] Setting undo.SD parameter to 1.000000.
INFO [2025-10-22 21:31:20] Setting prune.hclust.h parameter to 0.200000.
INFO [2025-10-22 21:31:20] Found 59 segments with median size of 17.67Mb.
INFO [2025-10-22 21:31:20] Using 121 variants.
INFO [2025-10-22 21:31:20] Mean standard deviation of log-ratios: 0.34 (MAPD: 0.30)
INFO [2025-10-22 21:31:20] 2D-grid search of purity and ploidy...
INFO [2025-10-22 21:31:20] Local optima: 0.65/1.8, 0.52/2
INFO [2025-10-22 21:31:20] Testing local optimum 1/2 at purity 0.65 and total ploidy 1.80...
INFO [2025-10-22 21:31:20] Testing local optimum 2/2 at purity 0.52 and total ploidy 2.00...
INFO [2025-10-22 21:31:20] Skipping 1 solutions that converged to the same optima.
INFO [2025-10-22 21:31:20] Fitting variants with beta model for local optimum 1/2...
INFO [2025-10-22 21:31:20] Fitting variants for purity 0.65, tumor ploidy 1.75 and contamination 0.01.
INFO [2025-10-22 21:31:21] Optimized purity: 0.65
INFO [2025-10-22 21:31:21] Done.
INFO [2025-10-22 21:31:21] ------------------------------------------------------------
FATAL [2025-10-22 21:31:22] log.ratio NULL in .writeLogRatioFileGATK4
FATAL [2025-10-22 21:31:22]
FATAL [2025-10-22 21:31:22] This runtime error might be caused by invalid input data or parameters.
FATAL [2025-10-22 21:31:22] Please report bug (PureCN 2.15.4).
INFO [2025-10-22 21:31:22] Loaded provided segmentation file example_seg.txt (format DNAcopy).
INFO [2025-10-22 21:31:22] Re-centering provided segment means (offset -0.0033).
INFO [2025-10-22 21:31:22] Loaded provided segmentation file example_gatk4_modelfinal.seg.gz (format GATK4).
WARN [2025-10-22 21:31:22] Expecting numeric chromosome names in seg.file, assuming file is properly sorted.
INFO [2025-10-22 21:31:22] Re-centering provided segment means (offset -0.0037).
INFO [2025-10-22 21:31:22] 576 on-target bins with low coverage in all samples.
WARN [2025-10-22 21:31:22] You are likely not using the correct baits file!
WARN [2025-10-22 21:31:22] Allosome coverage missing, cannot determine sex.
WARN [2025-10-22 21:31:22] Allosome coverage missing, cannot determine sex.
INFO [2025-10-22 21:31:22] Processing on-target regions...
INFO [2025-10-22 21:31:22] Removing 930 intervals with low coverage in normalDB.
INFO [2025-10-22 21:31:22] Removing 1 intervals with zero coverage in more than 3% of normalDB.
INFO [2025-10-22 21:31:23] ------------------------------------------------------------
INFO [2025-10-22 21:31:23] PureCN 2.15.4
INFO [2025-10-22 21:31:23] ------------------------------------------------------------
INFO [2025-10-22 21:31:23] Using BiocParallel for parallel optimization.
INFO [2025-10-22 21:31:23] Loading coverage files...
INFO [2025-10-22 21:31:23] Mean target coverages: 112X (tumor) 99X (normal).
WARN [2025-10-22 21:31:23] Allosome coverage missing, cannot determine sex.
WARN [2025-10-22 21:31:23] Allosome coverage missing, cannot determine sex.
INFO [2025-10-22 21:31:23] Removing 228 intervals with missing log.ratio.
INFO [2025-10-22 21:31:23] Removing 705 intervals excluded in normalDB.
INFO [2025-10-22 21:31:23] normalDB provided. Setting minimum coverage for segmentation to 0.0015X.
INFO [2025-10-22 21:31:23] Removing 1066 low count (< 100 total reads) intervals.
INFO [2025-10-22 21:31:23] Using 8050 intervals (8050 on-target, 0 off-target).
INFO [2025-10-22 21:31:23] No off-target intervals. If this is hybrid-capture data, consider adding them.
INFO [2025-10-22 21:31:23] No interval.file provided. Cannot check for any GC-biases.
INFO [2025-10-22 21:31:23] Sample sex: ?
INFO [2025-10-22 21:31:23] Segmenting data...
INFO [2025-10-22 21:31:23] Interval weights found, will use weighted CBS.
INFO [2025-10-22 21:31:23] Loading pre-computed boundaries for DNAcopy...
INFO [2025-10-22 21:31:23] Setting undo.SD parameter to 1.000000.
Setting multi-figure configuration
INFO [2025-10-22 21:31:24] Found 52 segments with median size of 29.35Mb.
INFO [2025-10-22 21:31:24] Mean standard deviation of log-ratios: 0.34 (MAPD: 0.30)
INFO [2025-10-22 21:31:24] 2D-grid search of purity and ploidy...
INFO [2025-10-22 21:31:24] Local optima: 0.65/1.8, 0.52/2
INFO [2025-10-22 21:31:25] Skipping 1 solutions that converged to the same optima.
INFO [2025-10-22 21:31:25] Done.
INFO [2025-10-22 21:31:25] ------------------------------------------------------------
INFO [2025-10-22 21:31:25] Reading /var/folders/r0/l4fjk6cj5xj0j3brt4bplpl40000gt/T//RtmpstHZvC/filee3527e497956.rds...
FATAL [2025-10-22 21:31:25] runAbsoluteCN was run without a VCF file.
FATAL [2025-10-22 21:31:25]
FATAL [2025-10-22 21:31:25] This is most likely a user error due to invalid input data or
FATAL [2025-10-22 21:31:25] parameters (PureCN 2.15.4).
FATAL [2025-10-22 21:31:25] runAbsoluteCN was run without a VCF file.
FATAL [2025-10-22 21:31:25]
FATAL [2025-10-22 21:31:25] This is most likely a user error due to invalid input data or
FATAL [2025-10-22 21:31:25] parameters (PureCN 2.15.4).
INFO [2025-10-22 21:31:25] ------------------------------------------------------------
INFO [2025-10-22 21:31:25] PureCN 2.15.4
INFO [2025-10-22 21:31:25] ------------------------------------------------------------
INFO [2025-10-22 21:31:25] Loading coverage files...
INFO [2025-10-22 21:31:25] Mean target coverages: 112X (tumor) 99X (normal).
WARN [2025-10-22 21:31:25] Allosome coverage missing, cannot determine sex.
WARN [2025-10-22 21:31:25] Allosome coverage missing, cannot determine sex.
INFO [2025-10-22 21:31:25] Removing 228 intervals with missing log.ratio.
INFO [2025-10-22 21:31:25] Removing 705 intervals excluded in normalDB.
INFO [2025-10-22 21:31:25] normalDB provided. Setting minimum coverage for segmentation to 0.0015X.
INFO [2025-10-22 21:31:25] Removing 1066 low count (< 100 total reads) intervals.
INFO [2025-10-22 21:31:25] Using 8050 intervals (8050 on-target, 0 off-target).
INFO [2025-10-22 21:31:25] No off-target intervals. If this is hybrid-capture data, consider adding them.
INFO [2025-10-22 21:31:25] No interval.file provided. Cannot check for any GC-biases.
INFO [2025-10-22 21:31:25] Sample sex: ?
INFO [2025-10-22 21:31:25] Segmenting data...
INFO [2025-10-22 21:31:25] Interval weights found, will use weighted PSCBS.
FATAL [2025-10-22 21:31:25] segmentationPSCBS requires VCF file.
FATAL [2025-10-22 21:31:25]
FATAL [2025-10-22 21:31:25] This is most likely a user error due to invalid input data or
FATAL [2025-10-22 21:31:25] parameters (PureCN 2.15.4).
INFO [2025-10-22 21:31:27] ------------------------------------------------------------
INFO [2025-10-22 21:31:27] PureCN 2.15.4
INFO [2025-10-22 21:31:27] ------------------------------------------------------------
INFO [2025-10-22 21:31:27] Loading coverage files...
FATAL [2025-10-22 21:31:27] Need a normal coverage file if log.ratio and seg.file are not provided.
FATAL [2025-10-22 21:31:27]
FATAL [2025-10-22 21:31:27] This is most likely a user error due to invalid input data or
FATAL [2025-10-22 21:31:27] parameters (PureCN 2.15.4).
INFO [2025-10-22 21:31:27] ------------------------------------------------------------
INFO [2025-10-22 21:31:27] PureCN 2.15.4
INFO [2025-10-22 21:31:27] ------------------------------------------------------------
FATAL [2025-10-22 21:31:27] min.ploidy or max.ploidy not within expected range.
FATAL [2025-10-22 21:31:27]
FATAL [2025-10-22 21:31:27] This is most likely a user error due to invalid input data or
FATAL [2025-10-22 21:31:27] parameters (PureCN 2.15.4).
INFO [2025-10-22 21:31:27] ------------------------------------------------------------
INFO [2025-10-22 21:31:27] PureCN 2.15.4
INFO [2025-10-22 21:31:27] ------------------------------------------------------------
FATAL [2025-10-22 21:31:27] min.ploidy or max.ploidy not within expected range.
FATAL [2025-10-22 21:31:27]
FATAL [2025-10-22 21:31:27] This is most likely a user error due to invalid input data or
FATAL [2025-10-22 21:31:27] parameters (PureCN 2.15.4).
INFO [2025-10-22 21:31:27] ------------------------------------------------------------
INFO [2025-10-22 21:31:27] PureCN 2.15.4
INFO [2025-10-22 21:31:27] ------------------------------------------------------------
INFO [2025-10-22 21:31:27] ------------------------------------------------------------
INFO [2025-10-22 21:31:27] PureCN 2.15.4
INFO [2025-10-22 21:31:27] ------------------------------------------------------------
INFO [2025-10-22 21:31:27] ------------------------------------------------------------
INFO [2025-10-22 21:31:27] PureCN 2.15.4
INFO [2025-10-22 21:31:27] ------------------------------------------------------------
FATAL [2025-10-22 21:31:27] test.num.copy not within expected range.
FATAL [2025-10-22 21:31:27]
FATAL [2025-10-22 21:31:27] This is most likely a user error due to invalid input data or
FATAL [2025-10-22 21:31:27] parameters (PureCN 2.15.4).
INFO [2025-10-22 21:31:27] ------------------------------------------------------------
INFO [2025-10-22 21:31:27] PureCN 2.15.4
INFO [2025-10-22 21:31:27] ------------------------------------------------------------
WARN [2025-10-22 21:31:27] test.num.copy outside recommended range.
FATAL [2025-10-22 21:31:27] max.non.clonal not within expected range or format.
FATAL [2025-10-22 21:31:27]
FATAL [2025-10-22 21:31:27] This is most likely a user error due to invalid input data or
FATAL [2025-10-22 21:31:27] parameters (PureCN 2.15.4).
INFO [2025-10-22 21:31:27] ------------------------------------------------------------
INFO [2025-10-22 21:31:27] PureCN 2.15.4
INFO [2025-10-22 21:31:27] ------------------------------------------------------------
WARN [2025-10-22 21:31:27] test.num.copy outside recommended range.
FATAL [2025-10-22 21:31:27] max.non.clonal not within expected range or format.
FATAL [2025-10-22 21:31:27]
FATAL [2025-10-22 21:31:27] This is most likely a user error due to invalid input data or
FATAL [2025-10-22 21:31:27] parameters (PureCN 2.15.4).
INFO [2025-10-22 21:31:27] ------------------------------------------------------------
INFO [2025-10-22 21:31:27] PureCN 2.15.4
INFO [2025-10-22 21:31:27] ------------------------------------------------------------
FATAL [2025-10-22 21:31:27] test.purity not within expected range.
FATAL [2025-10-22 21:31:27]
FATAL [2025-10-22 21:31:27] This is most likely a user error due to invalid input data or
FATAL [2025-10-22 21:31:27] parameters (PureCN 2.15.4).
INFO [2025-10-22 21:31:27] ------------------------------------------------------------
INFO [2025-10-22 21:31:27] PureCN 2.15.4
INFO [2025-10-22 21:31:27] ------------------------------------------------------------
INFO [2025-10-22 21:31:27] Loading coverage files...
FATAL [2025-10-22 21:31:28] Tumor and normal are identical. This won't give any meaningful results
FATAL [2025-10-22 21:31:28] and I'm stopping here.
FATAL [2025-10-22 21:31:28]
FATAL [2025-10-22 21:31:28] This is most likely a user error due to invalid input data or
FATAL [2025-10-22 21:31:28] parameters (PureCN 2.15.4).
INFO [2025-10-22 21:31:28] ------------------------------------------------------------
INFO [2025-10-22 21:31:28] PureCN 2.15.4
INFO [2025-10-22 21:31:28] ------------------------------------------------------------
INFO [2025-10-22 21:31:28] Loading coverage files...
FATAL [2025-10-22 21:31:28] Length of log.ratio different from tumor coverage.
FATAL [2025-10-22 21:31:28]
FATAL [2025-10-22 21:31:28] This is most likely a user error due to invalid input data or
FATAL [2025-10-22 21:31:28] parameters (PureCN 2.15.4).
INFO [2025-10-22 21:31:28] ------------------------------------------------------------
INFO [2025-10-22 21:31:28] PureCN 2.15.4
INFO [2025-10-22 21:31:28] ------------------------------------------------------------
FATAL [2025-10-22 21:31:28] prior.purity must have the same length as test.purity.
FATAL [2025-10-22 21:31:28]
FATAL [2025-10-22 21:31:28] This is most likely a user error due to invalid input data or
FATAL [2025-10-22 21:31:28] parameters (PureCN 2.15.4).
INFO [2025-10-22 21:31:28] ------------------------------------------------------------
INFO [2025-10-22 21:31:28] PureCN 2.15.4
INFO [2025-10-22 21:31:28] ------------------------------------------------------------
FATAL [2025-10-22 21:31:28] min.gof not within expected range or format.
FATAL [2025-10-22 21:31:28]
FATAL [2025-10-22 21:31:28] This is most likely a user error due to invalid input data or
FATAL [2025-10-22 21:31:28] parameters (PureCN 2.15.4).
INFO [2025-10-22 21:31:28] ------------------------------------------------------------
INFO [2025-10-22 21:31:28] PureCN 2.15.4
INFO [2025-10-22 21:31:28] ------------------------------------------------------------
FATAL [2025-10-22 21:31:28] prior.purity not within expected range or format.
FATAL [2025-10-22 21:31:28]
FATAL [2025-10-22 21:31:28] This is most likely a user error due to invalid input data or
FATAL [2025-10-22 21:31:28] parameters (PureCN 2.15.4).
INFO [2025-10-22 21:31:28] ------------------------------------------------------------
INFO [2025-10-22 21:31:28] PureCN 2.15.4
INFO [2025-10-22 21:31:28] ------------------------------------------------------------
FATAL [2025-10-22 21:31:28] prior.purity must add to 1. Sum is 1.5
FATAL [2025-10-22 21:31:28]
FATAL [2025-10-22 21:31:28] This is most likely a user error due to invalid input data or
FATAL [2025-10-22 21:31:28] parameters (PureCN 2.15.4).
INFO [2025-10-22 21:31:28] ------------------------------------------------------------
INFO [2025-10-22 21:31:28] PureCN 2.15.4
INFO [2025-10-22 21:31:28] ------------------------------------------------------------
FATAL [2025-10-22 21:31:28] max.homozygous.loss not within expected range or format.
FATAL [2025-10-22 21:31:28]
FATAL [2025-10-22 21:31:28] This is most likely a user error due to invalid input data or
FATAL [2025-10-22 21:31:28] parameters (PureCN 2.15.4).
INFO [2025-10-22 21:31:28] ------------------------------------------------------------
INFO [2025-10-22 21:31:28] PureCN 2.15.4
INFO [2025-10-22 21:31:28] ------------------------------------------------------------
FATAL [2025-10-22 21:31:28] prior.K not within expected range or format.
FATAL [2025-10-22 21:31:28]
FATAL [2025-10-22 21:31:28] This is most likely a user error due to invalid input data or
FATAL [2025-10-22 21:31:28] parameters (PureCN 2.15.4).
INFO [2025-10-22 21:31:28] ------------------------------------------------------------
INFO [2025-10-22 21:31:28] PureCN 2.15.4
INFO [2025-10-22 21:31:28] ------------------------------------------------------------
FATAL [2025-10-22 21:31:28] prior.contamination not within expected range or format.
FATAL [2025-10-22 21:31:28]
FATAL [2025-10-22 21:31:28] This is most likely a user error due to invalid input data or
FATAL [2025-10-22 21:31:28] parameters (PureCN 2.15.4).
INFO [2025-10-22 21:31:28] ------------------------------------------------------------
INFO [2025-10-22 21:31:28] PureCN 2.15.4
INFO [2025-10-22 21:31:28] ------------------------------------------------------------
FATAL [2025-10-22 21:31:28] Iterations not in the expected range from 10 to 250.
FATAL [2025-10-22 21:31:28]
FATAL [2025-10-22 21:31:28] This is most likely a user error due to invalid input data or
FATAL [2025-10-22 21:31:28] parameters (PureCN 2.15.4).
INFO [2025-10-22 21:31:28] ------------------------------------------------------------
INFO [2025-10-22 21:31:28] PureCN 2.15.4
INFO [2025-10-22 21:31:28] ------------------------------------------------------------
FATAL [2025-10-22 21:31:28] Iterations not in the expected range from 10 to 250.
FATAL [2025-10-22 21:31:28]
FATAL [2025-10-22 21:31:28] This is most likely a user error due to invalid input data or
FATAL [2025-10-22 21:31:28] parameters (PureCN 2.15.4).
INFO [2025-10-22 21:31:28] ------------------------------------------------------------
INFO [2025-10-22 21:31:28] PureCN 2.15.4
INFO [2025-10-22 21:31:28] ------------------------------------------------------------
INFO [2025-10-22 21:31:28] Loading coverage files...
FATAL [2025-10-22 21:31:28] Missing tumor.coverage.file requires seg.file or log.ratio and
FATAL [2025-10-22 21:31:28] interval.file.
FATAL [2025-10-22 21:31:28]
FATAL [2025-10-22 21:31:28] This is most likely a user error due to invalid input data or
FATAL [2025-10-22 21:31:28] parameters (PureCN 2.15.4).
INFO [2025-10-22 21:31:28] ------------------------------------------------------------
INFO [2025-10-22 21:31:28] PureCN 2.15.4
INFO [2025-10-22 21:31:28] ------------------------------------------------------------
INFO [2025-10-22 21:31:28] ------------------------------------------------------------
INFO [2025-10-22 21:31:28] PureCN 2.15.4
INFO [2025-10-22 21:31:28] ------------------------------------------------------------
INFO [2025-10-22 21:31:28] Loading coverage files...
FATAL [2025-10-22 21:31:28] Interval files in normal and tumor different.
FATAL [2025-10-22 21:31:28]
FATAL [2025-10-22 21:31:28] This is most likely a user error due to invalid input data or
FATAL [2025-10-22 21:31:28] parameters (PureCN 2.15.4).
INFO [2025-10-22 21:31:28] ------------------------------------------------------------
INFO [2025-10-22 21:31:28] PureCN 2.15.4
INFO [2025-10-22 21:31:28] ------------------------------------------------------------
INFO [2025-10-22 21:31:28] Loading coverage files...
INFO [2025-10-22 21:31:28] Mean target coverages: 0X (tumor) 99X (normal).
WARN [2025-10-22 21:31:28] Large difference in coverage of tumor and normal.
FATAL [2025-10-22 21:31:28] No finite intervals.
FATAL [2025-10-22 21:31:28]
FATAL [2025-10-22 21:31:28] This is most likely a user error due to invalid input data or
FATAL [2025-10-22 21:31:28] parameters (PureCN 2.15.4).
INFO [2025-10-22 21:31:28] ------------------------------------------------------------
INFO [2025-10-22 21:31:28] PureCN 2.15.4
INFO [2025-10-22 21:31:28] ------------------------------------------------------------
INFO [2025-10-22 21:31:28] Loading coverage files...
INFO [2025-10-22 21:31:29] Mean target coverages: 112X (tumor) 99X (normal).
WARN [2025-10-22 21:31:29] Allosome coverage missing, cannot determine sex.
WARN [2025-10-22 21:31:29] Allosome coverage missing, cannot determine sex.
INFO [2025-10-22 21:31:29] Removing 228 intervals with missing log.ratio.
INFO [2025-10-22 21:31:29] Removing 22 small (< 5bp) intervals.
INFO [2025-10-22 21:31:29] Removing 19 intervals with low total coverage in normal (< 150.00 reads).
WARN [2025-10-22 21:31:29] No normalDB provided. Provide one for better results.
INFO [2025-10-22 21:31:29] Removing 1724 low count (< 100 total reads) intervals.
INFO [2025-10-22 21:31:29] Removing 6 low coverage (< 15.0000X) intervals.
INFO [2025-10-22 21:31:29] Using 8050 intervals (8050 on-target, 0 off-target).
INFO [2025-10-22 21:31:29] No off-target intervals. If this is hybrid-capture data, consider adding them.
INFO [2025-10-22 21:31:29] No interval.file provided. Cannot check for any GC-biases.
INFO [2025-10-22 21:31:29] Loading VCF...
INFO [2025-10-22 21:31:29] Found 127 variants in VCF file.
INFO [2025-10-22 21:31:29] 127 (100.0%) variants annotated as likely germline (DB INFO flag).
INFO [2025-10-22 21:31:29] LIB-02240e4 is tumor in VCF file.
INFO [2025-10-22 21:31:29] No homozygous variants in VCF, provide unfiltered VCF.
INFO [2025-10-22 21:31:29] Removing 1 non heterozygous (in matched normal) germline SNPs.
INFO [2025-10-22 21:31:29] Removing 0 low quality variants with non-offset BQ < 25.
INFO [2025-10-22 21:31:29] Base quality scores range from 29 to 35 (offset by 1)
INFO [2025-10-22 21:31:29] Minimum number of supporting reads ranges from 2 to 5, depending on coverage and BQS.
INFO [2025-10-22 21:31:29] Removing 1 variants with AF < 0.030 or AF >= 1.000 or insufficient supporting reads or depth < 15.
Error in FileForFormat(resource(con), fileFormat(con)) :
Format 'txt' unsupported
In addition: Warning messages:
1: closing unused connection 4 (/Library/Frameworks/R.framework/Versions/4.5-arm64/Resources/library/PureCN/extdata/example_allelic_counts_empty.tsv)
2: In UseMethod("mean") :
closing unused connection 5 (/var/folders/r0/l4fjk6cj5xj0j3brt4bplpl40000gt/T//RtmpstHZvC/filee352253a2edf.tsv)
3: In UseMethod("mean") :
closing unused connection 4 (/Library/Frameworks/R.framework/Versions/4.5-arm64/Resources/library/PureCN/extdata/example_gatk4_denoised_cr.tsv.gz)
FATAL [2025-10-22 21:31:29] Could not import snp.blacklist
FATAL [2025-10-22 21:31:29] /Library/Frameworks/R.framework/Versions/4.5-arm64/Resources/library/PureCN/extdata/example_normal.txt.gz:Error
FATAL [2025-10-22 21:31:29] in FileForFormat(resource(con), fileFormat(con)) : Format 'txt'
FATAL [2025-10-22 21:31:29] unsupported
FATAL [2025-10-22 21:31:29]
FATAL [2025-10-22 21:31:29] This is most likely a user error due to invalid input data or
FATAL [2025-10-22 21:31:29] parameters (PureCN 2.15.4).
INFO [2025-10-22 21:31:29] ------------------------------------------------------------
INFO [2025-10-22 21:31:29] PureCN 2.15.4
INFO [2025-10-22 21:31:29] ------------------------------------------------------------
INFO [2025-10-22 21:31:29] Loading coverage files...
INFO [2025-10-22 21:31:29] Mean target coverages: 112X (tumor) 99X (normal).
WARN [2025-10-22 21:31:29] Allosome coverage missing, cannot determine sex.
WARN [2025-10-22 21:31:29] Allosome coverage missing, cannot determine sex.
INFO [2025-10-22 21:31:29] Removing 228 intervals with missing log.ratio.
INFO [2025-10-22 21:31:29] Removing 22 small (< 5bp) intervals.
INFO [2025-10-22 21:31:29] Removing 19 intervals with low total coverage in normal (< 150.00 reads).
WARN [2025-10-22 21:31:29] No normalDB provided. Provide one for better results.
INFO [2025-10-22 21:31:29] Removing 233 low coverage (< 15.0000X) intervals.
INFO [2025-10-22 21:31:29] Using 9547 intervals (9547 on-target, 0 off-target).
INFO [2025-10-22 21:31:29] No off-target intervals. If this is hybrid-capture data, consider adding them.
INFO [2025-10-22 21:31:29] No interval.file provided. Cannot check for any GC-biases.
INFO [2025-10-22 21:31:29] Loading VCF...
INFO [2025-10-22 21:31:29] Found 127 variants in VCF file.
INFO [2025-10-22 21:31:29] 127 (100.0%) variants annotated as likely germline (DB INFO flag).
INFO [2025-10-22 21:31:29] LIB-02240e4 is tumor in VCF file.
INFO [2025-10-22 21:31:29] No homozygous variants in VCF, provide unfiltered VCF.
INFO [2025-10-22 21:31:30] Removing 1 non heterozygous (in matched normal) germline SNPs.
INFO [2025-10-22 21:31:30] Removing 0 low quality variants with non-offset BQ < 25.
INFO [2025-10-22 21:31:30] Base quality scores range from 29 to 35 (offset by 1)
INFO [2025-10-22 21:31:30] Minimum number of supporting reads ranges from 2 to 5, depending on coverage and BQS.
INFO [2025-10-22 21:31:30] Removing 1 variants with AF < 0.030 or AF >= 1.000 or insufficient supporting reads or depth < 15.
INFO [2025-10-22 21:31:30] Total size of targeted genomic region: 1.63Mb (2.58Mb with 50bp padding).
INFO [2025-10-22 21:31:30] 1.0% of targets contain variants.
INFO [2025-10-22 21:31:30] Removing 2 variants outside intervals.
INFO [2025-10-22 21:31:30] Found SOMATIC annotation in VCF.
INFO [2025-10-22 21:31:30] Setting somatic prior probabilities for somatic variants to 0.999000 or to 0.000100 otherwise.
INFO [2025-10-22 21:31:30] Found SOMATIC annotation in VCF. Setting mapping bias to 0.973.
INFO [2025-10-22 21:31:30] Excluding 0 novel or poor quality variants from segmentation.
INFO [2025-10-22 21:31:30] Sample sex: ?
INFO [2025-10-22 21:31:30] Segmenting data...
INFO [2025-10-22 21:31:30] Loading pre-computed boundaries for DNAcopy...
INFO [2025-10-22 21:31:30] Setting undo.SD parameter to 1.000000.
INFO [2025-10-22 21:31:30] Setting prune.hclust.h parameter to 0.200000.
INFO [2025-10-22 21:31:30] Found 54 segments with median size of 24.88Mb.
INFO [2025-10-22 21:31:30] Using 123 variants.
INFO [2025-10-22 21:31:30] Mean standard deviation of log-ratios: 0.37 (MAPD: 0.32)
INFO [2025-10-22 21:31:30] 2D-grid search of purity and ploidy...
INFO [2025-10-22 21:31:31] Local optima: 0.62/1.9, 0.3/1.9, 0.32/2
INFO [2025-10-22 21:31:31] Testing local optimum 1/3 at purity 0.62 and total ploidy 1.90...
INFO [2025-10-22 21:31:31] Testing local optimum 2/3 at purity 0.30 and total ploidy 1.90...
INFO [2025-10-22 21:31:31] Recalibrating log-ratios...
INFO [2025-10-22 21:31:31] Testing local optimum 2/3 at purity 0.30 and total ploidy 1.90...
INFO [2025-10-22 21:31:31] Recalibrating log-ratios...
INFO [2025-10-22 21:31:31] Testing local optimum 2/3 at purity 0.30 and total ploidy 1.90...
INFO [2025-10-22 21:31:31] Recalibrating log-ratios...
INFO [2025-10-22 21:31:31] Testing local optimum 2/3 at purity 0.30 and total ploidy 1.90...
INFO [2025-10-22 21:31:31] Testing local optimum 3/3 at purity 0.32 and total ploidy 2.00...
INFO [2025-10-22 21:31:32] Recalibrating log-ratios...
INFO [2025-10-22 21:31:32] Testing local optimum 3/3 at purity 0.32 and total ploidy 2.00...
INFO [2025-10-22 21:31:32] Recalibrating log-ratios...
INFO [2025-10-22 21:31:32] Testing local optimum 3/3 at purity 0.32 and total ploidy 2.00...
INFO [2025-10-22 21:31:32] Recalibrating log-ratios...
INFO [2025-10-22 21:31:32] Testing local optimum 3/3 at purity 0.32 and total ploidy 2.00...
INFO [2025-10-22 21:31:32] Skipping 1 solutions that converged to the same optima.
INFO [2025-10-22 21:31:32] Skipping 1 solutions exceeding max.non.clonal (0.20): 0.3/1.9 (purity/tumor ploidy)
INFO [2025-10-22 21:31:32] Fitting variants with beta model for local optimum 1/3...
INFO [2025-10-22 21:31:32] Fitting variants for purity 0.65, tumor ploidy 1.74 and contamination 0.01.
INFO [2025-10-22 21:31:33] Optimized purity: 0.65
INFO [2025-10-22 21:31:33] Done.
INFO [2025-10-22 21:31:33] ------------------------------------------------------------
INFO [2025-10-22 21:31:33] ------------------------------------------------------------
INFO [2025-10-22 21:31:33] PureCN 2.15.4
INFO [2025-10-22 21:31:33] ------------------------------------------------------------
INFO [2025-10-22 21:31:33] Loading coverage files...
INFO [2025-10-22 21:31:33] Mean target coverages: 112X (tumor) 99X (normal).
WARN [2025-10-22 21:31:33] Allosome coverage missing, cannot determine sex.
WARN [2025-10-22 21:31:33] Allosome coverage missing, cannot determine sex.
INFO [2025-10-22 21:31:33] Removing 228 intervals with missing log.ratio.
INFO [2025-10-22 21:31:33] Removing 22 small (< 5bp) intervals.
INFO [2025-10-22 21:31:33] Removing 19 intervals with low total coverage in normal (< 150.00 reads).
WARN [2025-10-22 21:31:33] No normalDB provided. Provide one for better results.
INFO [2025-10-22 21:31:33] Removing 1724 low count (< 100 total reads) intervals.
INFO [2025-10-22 21:31:33] Removing 6 low coverage (< 15.0000X) intervals.
INFO [2025-10-22 21:31:33] Using 8050 intervals (8050 on-target, 0 off-target).
INFO [2025-10-22 21:31:33] No off-target intervals. If this is hybrid-capture data, consider adding them.
INFO [2025-10-22 21:31:33] No interval.file provided. Cannot check for any GC-biases.
INFO [2025-10-22 21:31:33] Loading VCF...
INFO [2025-10-22 21:31:33] Found 127 variants in VCF file.
WARN [2025-10-22 21:31:33] DP FORMAT field contains NAs. Removing 3 variants.
WARN [2025-10-22 21:31:33] DB INFO flag contains NAs
INFO [2025-10-22 21:31:33] 119 (96.0%) variants annotated as likely germline (DB INFO flag).
INFO [2025-10-22 21:31:33] LIB-02240e4 is tumor in VCF file.
INFO [2025-10-22 21:31:33] No homozygous variants in VCF, provide unfiltered VCF.
INFO [2025-10-22 21:31:33] Removing 0 low quality variants with non-offset BQ < 25.
INFO [2025-10-22 21:31:33] Base quality scores range from 29 to 35 (offset by 1)
INFO [2025-10-22 21:31:33] Minimum number of supporting reads ranges from 2 to 5, depending on coverage and BQS.
INFO [2025-10-22 21:31:33] Removing 1 variants with AF < 0.030 or AF >= 0.970 or insufficient supporting reads or depth < 15.
INFO [2025-10-22 21:31:33] Total size of targeted genomic region: 1.53Mb (2.33Mb with 50bp padding).
INFO [2025-10-22 21:31:34] 1.2% of targets contain variants.
INFO [2025-10-22 21:31:34] Setting somatic prior probabilities for likely germline hits to 0.000500 or to 0.500000 otherwise.
INFO [2025-10-22 21:31:34] Excluding 5 novel or poor quality variants from segmentation.
INFO [2025-10-22 21:31:34] Sample sex: ?
INFO [2025-10-22 21:31:34] Segmenting data...
INFO [2025-10-22 21:31:34] Loading pre-computed boundaries for DNAcopy...
INFO [2025-10-22 21:31:34] Setting undo.SD parameter to 1.000000.
Setting multi-figure configuration
INFO [2025-10-22 21:31:34] Setting prune.hclust.h parameter to 0.200000.
INFO [2025-10-22 21:31:34] Found 59 segments with median size of 17.67Mb.
INFO [2025-10-22 21:31:34] Using 123 variants.
INFO [2025-10-22 21:31:34] Mean standard deviation of log-ratios: 0.34 (MAPD: 0.30)
INFO [2025-10-22 21:31:34] 2D-grid search of purity and ploidy...
INFO [2025-10-22 21:31:34] Local optima: 0.62/1.9, 0.3/1.9, 0.32/2
INFO [2025-10-22 21:31:34] Testing local optimum 1/3 at purity 0.62 and total ploidy 1.90...
INFO [2025-10-22 21:31:35] Testing local optimum 2/3 at purity 0.30 and total ploidy 1.90...
INFO [2025-10-22 21:31:35] Recalibrating log-ratios...
INFO [2025-10-22 21:31:35] Testing local optimum 2/3 at purity 0.30 and total ploidy 1.90...
INFO [2025-10-22 21:31:35] Recalibrating log-ratios...
INFO [2025-10-22 21:31:35] Testing local optimum 2/3 at purity 0.30 and total ploidy 1.90...
INFO [2025-10-22 21:31:35] Recalibrating log-ratios...
INFO [2025-10-22 21:31:35] Testing local optimum 2/3 at purity 0.30 and total ploidy 1.90...
INFO [2025-10-22 21:31:35] Testing local optimum 3/3 at purity 0.32 and total ploidy 2.00...
INFO [2025-10-22 21:31:35] Recalibrating log-ratios...
INFO [2025-10-22 21:31:35] Testing local optimum 3/3 at purity 0.32 and total ploidy 2.00...
INFO [2025-10-22 21:31:35] Recalibrating log-ratios...
INFO [2025-10-22 21:31:35] Testing local optimum 3/3 at purity 0.32 and total ploidy 2.00...
INFO [2025-10-22 21:31:35] Recalibrating log-ratios...
INFO [2025-10-22 21:31:35] Testing local optimum 3/3 at purity 0.32 and total ploidy 2.00...
INFO [2025-10-22 21:31:36] Skipping 2 solutions exceeding max.non.clonal (0.20): 0.3/1.9, 0.35/1.61 (purity/tumor ploidy)
INFO [2025-10-22 21:31:36] Fitting variants with beta model for local optimum 1/3...
INFO [2025-10-22 21:31:36] Fitting variants for purity 0.65, tumor ploidy 1.75 and contamination 0.01.
INFO [2025-10-22 21:31:37] Optimized purity: 0.65
INFO [2025-10-22 21:31:37] Done.
INFO [2025-10-22 21:31:37] ------------------------------------------------------------
INFO [2025-10-22 21:31:37] ------------------------------------------------------------
INFO [2025-10-22 21:31:37] PureCN 2.15.4
INFO [2025-10-22 21:31:37] ------------------------------------------------------------
INFO [2025-10-22 21:31:37] Loading coverage files...
INFO [2025-10-22 21:31:37] Mean target coverages: 112X (tumor) 99X (normal).
WARN [2025-10-22 21:31:37] Allosome coverage missing, cannot determine sex.
WARN [2025-10-22 21:31:37] Allosome coverage missing, cannot determine sex.
INFO [2025-10-22 21:31:37] No Gene column in interval.file. You won't get gene-level calls.
INFO [2025-10-22 21:31:37] Removing 228 intervals with missing log.ratio.
INFO [2025-10-22 21:31:37] Removing 15 low/high GC targets.
INFO [2025-10-22 21:31:37] Removing 21 small (< 5bp) intervals.
INFO [2025-10-22 21:31:37] Removing 19 intervals with low total coverage in normal (< 150.00 reads).
WARN [2025-10-22 21:31:37] No normalDB provided. Provide one for better results.
INFO [2025-10-22 21:31:37] Removing 1718 low count (< 100 total reads) intervals.
INFO [2025-10-22 21:31:37] Removing 6 low coverage (< 15.0000X) intervals.
INFO [2025-10-22 21:31:37] Removing 36 low mappability intervals.
INFO [2025-10-22 21:31:37] Using 8006 intervals (8006 on-target, 0 off-target).
INFO [2025-10-22 21:31:37] No off-target intervals. If this is hybrid-capture data, consider adding them.
INFO [2025-10-22 21:31:37] AT/GC dropout: 1.01 (tumor), 1.03 (normal), 0.98 (coverage log-ratio).
INFO [2025-10-22 21:31:37] Loading VCF...
INFO [2025-10-22 21:31:37] Found 127 variants in VCF file.
INFO [2025-10-22 21:31:37] 127 (100.0%) variants annotated as likely germline (DB INFO flag).
INFO [2025-10-22 21:31:37] LIB-02240e4 is tumor in VCF file.
INFO [2025-10-22 21:31:37] No homozygous variants in VCF, provide unfiltered VCF.
INFO [2025-10-22 21:31:37] Removing 1 non heterozygous (in matched normal) germline SNPs.
INFO [2025-10-22 21:31:37] Removing 0 low quality variants with non-offset BQ < 25.
INFO [2025-10-22 21:31:37] Base quality scores range from 29 to 35 (offset by 1)
INFO [2025-10-22 21:31:37] Minimum number of supporting reads ranges from 2 to 5, depending on coverage and BQS.
INFO [2025-10-22 21:31:37] Removing 1 variants with AF < 0.030 or AF >= Inf or insufficient supporting reads or depth < 15.
INFO [2025-10-22 21:31:37] Total size of targeted genomic region: 1.51Mb (2.31Mb with 50bp padding).
INFO [2025-10-22 21:31:38] 1.2% of targets contain variants.
INFO [2025-10-22 21:31:38] Removing 11 variants outside intervals.
INFO [2025-10-22 21:31:38] Found SOMATIC annotation in VCF.
INFO [2025-10-22 21:31:38] Setting somatic prior probabilities for somatic variants to 0.999000 or to 0.000100 otherwise.
INFO [2025-10-22 21:31:38] Found SOMATIC annotation in VCF. Setting mapping bias to 0.970.
INFO [2025-10-22 21:31:38] Excluding 0 novel or poor quality variants from segmentation.
INFO [2025-10-22 21:31:38] Sample sex: ?
INFO [2025-10-22 21:31:38] Segmenting data...
INFO [2025-10-22 21:31:38] MAPD of 114 allelic fractions: 0.14 (0.15 adjusted).
INFO [2025-10-22 21:31:38] Using unweighted PSCBS.
INFO [2025-10-22 21:31:38] Setting undo.SD parameter to 1.000000.
INFO [2025-10-22 21:31:48] Setting prune.hclust.h parameter to 0.200000.
INFO [2025-10-22 21:31:48] Found 72 segments with median size of 27.25Mb.
INFO [2025-10-22 21:31:48] Using 114 variants.
INFO [2025-10-22 21:31:48] Mean standard deviation of log-ratios: 0.34 (MAPD: 0.30)
INFO [2025-10-22 21:31:48] 2D-grid search of purity and ploidy...
INFO [2025-10-22 21:31:48] Local optima: 0.65/1.8, 0.38/2.2
INFO [2025-10-22 21:31:48] Testing local optimum 1/2 at purity 0.65 and total ploidy 1.80...
INFO [2025-10-22 21:31:48] Recalibrating log-ratios...
INFO [2025-10-22 21:31:48] Testing local optimum 1/2 at purity 0.65 and total ploidy 1.80...
INFO [2025-10-22 21:31:48] Recalibrating log-ratios...
INFO [2025-10-22 21:31:48] Testing local optimum 1/2 at purity 0.65 and total ploidy 1.80...
INFO [2025-10-22 21:31:49] Recalibrating log-ratios...
INFO [2025-10-22 21:31:49] Testing local optimum 1/2 at purity 0.65 and total ploidy 1.80...
INFO [2025-10-22 21:31:49] Testing local optimum 2/2 at purity 0.38 and total ploidy 2.20...
INFO [2025-10-22 21:31:49] Skipping 1 solutions exceeding max.non.clonal (0.20): 0.65/2.05 (purity/tumor ploidy)
INFO [2025-10-22 21:31:49] Fitting variants with beta model for local optimum 2/2...
INFO [2025-10-22 21:31:49] Fitting variants for purity 0.40, tumor ploidy 2.55 and contamination 0.01.
INFO [2025-10-22 21:31:50] Optimized purity: 0.40
INFO [2025-10-22 21:31:50] Done.
INFO [2025-10-22 21:31:50] ------------------------------------------------------------
FATAL [2025-10-22 21:31:50] This function requires gene-level calls. Please add a column 'Gene'
FATAL [2025-10-22 21:31:50] containing gene symbols to the interval.file.
FATAL [2025-10-22 21:31:50]
FATAL [2025-10-22 21:31:50] This is most likely a user error due to invalid input data or
FATAL [2025-10-22 21:31:50] parameters (PureCN 2.15.4).
INFO [2025-10-22 21:31:51] ------------------------------------------------------------
INFO [2025-10-22 21:31:51] PureCN 2.15.4
INFO [2025-10-22 21:31:51] ------------------------------------------------------------
INFO [2025-10-22 21:31:51] Loading coverage files...
INFO [2025-10-22 21:31:51] Mean target coverages: 112X (tumor) 99X (normal).
WARN [2025-10-22 21:31:51] Allosome coverage missing, cannot determine sex.
WARN [2025-10-22 21:31:51] Allosome coverage missing, cannot determine sex.
INFO [2025-10-22 21:31:51] Removing 228 intervals with missing log.ratio.
INFO [2025-10-22 21:31:51] Removing 22 small (< 5bp) intervals.
INFO [2025-10-22 21:31:51] Removing 19 intervals with low total coverage in normal (< 150.00 reads).
WARN [2025-10-22 21:31:51] No normalDB provided. Provide one for better results.
INFO [2025-10-22 21:31:51] Removing 1724 low count (< 100 total reads) intervals.
INFO [2025-10-22 21:31:51] Removing 6 low coverage (< 15.0000X) intervals.
INFO [2025-10-22 21:31:51] Using 8050 intervals (8050 on-target, 0 off-target).
INFO [2025-10-22 21:31:51] No off-target intervals. If this is hybrid-capture data, consider adding them.
INFO [2025-10-22 21:31:51] No interval.file provided. Cannot check for any GC-biases.
INFO [2025-10-22 21:31:51] Loading VCF...
INFO [2025-10-22 21:31:51] Found 127 variants in VCF file.
INFO [2025-10-22 21:31:51] 127 (100.0%) variants annotated as likely germline (DB INFO flag).
FATAL [2025-10-22 21:31:51] Different chromosome names in coverage and VCF.
FATAL [2025-10-22 21:31:51]
FATAL [2025-10-22 21:31:51] This is most likely a user error due to invalid input data or
FATAL [2025-10-22 21:31:51] parameters (PureCN 2.15.4).
INFO [2025-10-22 21:31:51] ------------------------------------------------------------
INFO [2025-10-22 21:31:51] PureCN 2.15.4
INFO [2025-10-22 21:31:51] ------------------------------------------------------------
INFO [2025-10-22 21:31:51] Loading coverage files...
INFO [2025-10-22 21:31:51] Mean target coverages: 112X (tumor) 99X (normal).
WARN [2025-10-22 21:31:51] Allosome coverage missing, cannot determine sex.
WARN [2025-10-22 21:31:51] Allosome coverage missing, cannot determine sex.
FATAL [2025-10-22 21:31:51] tumor.coverage.file and interval.file do not align.
FATAL [2025-10-22 21:31:51]
FATAL [2025-10-22 21:31:51] This is most likely a user error due to invalid input data or
FATAL [2025-10-22 21:31:51] parameters (PureCN 2.15.4).
INFO [2025-10-22 21:31:51] ------------------------------------------------------------
INFO [2025-10-22 21:31:51] PureCN 2.15.4
INFO [2025-10-22 21:31:51] ------------------------------------------------------------
INFO [2025-10-22 21:31:51] Loading coverage files...
INFO [2025-10-22 21:31:51] Mean target coverages: 112X (tumor) 99X (normal).
WARN [2025-10-22 21:31:52] Allosome coverage missing, cannot determine sex.
WARN [2025-10-22 21:31:52] Allosome coverage missing, cannot determine sex.
INFO [2025-10-22 21:31:52] Removing 228 intervals with missing log.ratio.
INFO [2025-10-22 21:31:52] Removing 15 low/high GC targets.
INFO [2025-10-22 21:31:52] Removing 21 small (< 5bp) intervals.
INFO [2025-10-22 21:31:52] Removing 19 intervals with low total coverage in normal (< 150.00 reads).
WARN [2025-10-22 21:31:52] No normalDB provided. Provide one for better results.
INFO [2025-10-22 21:31:52] Removing 1718 low count (< 100 total reads) intervals.
INFO [2025-10-22 21:31:52] Removing 6 low coverage (< 15.0000X) intervals.
INFO [2025-10-22 21:31:52] Removing 36 low mappability intervals.
INFO [2025-10-22 21:31:52] Using 8006 intervals (8006 on-target, 0 off-target).
INFO [2025-10-22 21:31:52] No off-target intervals. If this is hybrid-capture data, consider adding them.
INFO [2025-10-22 21:31:52] AT/GC dropout: 1.01 (tumor), 1.03 (normal), 0.98 (coverage log-ratio).
INFO [2025-10-22 21:31:52] Loading VCF...
INFO [2025-10-22 21:31:52] Found 127 variants in VCF file.
INFO [2025-10-22 21:31:52] 127 (100.0%) variants annotated as likely germline (DB INFO flag).
INFO [2025-10-22 21:31:52] LIB-02240e4 is tumor in VCF file.
INFO [2025-10-22 21:31:52] No homozygous variants in VCF, provide unfiltered VCF.
INFO [2025-10-22 21:31:52] Removing 1 non heterozygous (in matched normal) germline SNPs.
INFO [2025-10-22 21:31:52] Removing 0 low quality variants with non-offset BQ < 25.
INFO [2025-10-22 21:31:52] Base quality scores range from 29 to 35 (offset by 1)
INFO [2025-10-22 21:31:52] Minimum number of supporting reads ranges from 2 to 5, depending on coverage and BQS.
INFO [2025-10-22 21:31:52] Removing 1 variants with AF < 0.030 or AF >= 1.000 or insufficient supporting reads or depth < 15.
INFO [2025-10-22 21:31:52] Total size of targeted genomic region: 1.51Mb (2.31Mb with 50bp padding).
INFO [2025-10-22 21:31:52] 1.2% of targets contain variants.
INFO [2025-10-22 21:31:52] Removing 11 variants outside intervals.
INFO [2025-10-22 21:31:52] Found SOMATIC annotation in VCF.
INFO [2025-10-22 21:31:52] Setting somatic prior probabilities for somatic variants to 0.999000 or to 0.000100 otherwise.
INFO [2025-10-22 21:31:52] Found SOMATIC annotation in VCF. Setting mapping bias to 0.970.
INFO [2025-10-22 21:31:52] Excluding 0 novel or poor quality variants from segmentation.
INFO [2025-10-22 21:31:52] Sample sex: ?
INFO [2025-10-22 21:31:52] Segmenting data...
INFO [2025-10-22 21:31:52] Loading pre-computed boundaries for DNAcopy...
INFO [2025-10-22 21:31:52] Setting undo.SD parameter to 1.000000.
INFO [2025-10-22 21:31:53] Setting prune.hclust.h parameter to 0.200000.
INFO [2025-10-22 21:31:53] Found 59 segments with median size of 17.67Mb.
INFO [2025-10-22 21:31:53] Using 114 variants.
INFO [2025-10-22 21:31:53] Mean standard deviation of log-ratios: 0.34 (MAPD: 0.30)
INFO [2025-10-22 21:31:53] 2D-grid search of purity and ploidy...
INFO [2025-10-22 21:31:53] Local optima: 0.63/1.9
INFO [2025-10-22 21:31:53] Testing local optimum 1/1 at purity 0.63 and total ploidy 1.90...
INFO [2025-10-22 21:31:53] Fitting variants with beta model for local optimum 1/1...
INFO [2025-10-22 21:31:53] Fitting variants for purity 0.65, tumor ploidy 1.75 and contamination 0.01.
INFO [2025-10-22 21:31:54] Optimized purity: 0.65
INFO [2025-10-22 21:31:54] Done.
INFO [2025-10-22 21:31:54] ------------------------------------------------------------
INFO [2025-10-22 21:31:54] ------------------------------------------------------------
INFO [2025-10-22 21:31:54] PureCN 2.15.4
INFO [2025-10-22 21:31:54] ------------------------------------------------------------
INFO [2025-10-22 21:31:54] Loading coverage files...
INFO [2025-10-22 21:31:54] Mean target coverages: 112X (tumor) 99X (normal).
WARN [2025-10-22 21:31:54] Allosome coverage missing, cannot determine sex.
WARN [2025-10-22 21:31:54] Allosome coverage missing, cannot determine sex.
INFO [2025-10-22 21:31:55] Removing 228 intervals with missing log.ratio.
INFO [2025-10-22 21:31:55] Removing 15 low/high GC targets.
INFO [2025-10-22 21:31:55] Removing 21 small (< 5bp) intervals.
INFO [2025-10-22 21:31:55] Removing 19 intervals with low total coverage in normal (< 150.00 reads).
WARN [2025-10-22 21:31:55] No normalDB provided. Provide one for better results.
INFO [2025-10-22 21:31:55] Removing 1718 low count (< 100 total reads) intervals.
INFO [2025-10-22 21:31:55] Removing 6 low coverage (< 15.0000X) intervals.
INFO [2025-10-22 21:31:55] Removing 36 low mappability intervals.
INFO [2025-10-22 21:31:55] Using 8006 intervals (8006 on-target, 0 off-target).
INFO [2025-10-22 21:31:55] No off-target intervals. If this is hybrid-capture data, consider adding them.
INFO [2025-10-22 21:31:55] AT/GC dropout: 1.01 (tumor), 1.03 (normal), 0.98 (coverage log-ratio).
INFO [2025-10-22 21:31:55] Loading VCF...
INFO [2025-10-22 21:31:55] Found 127 variants in VCF file.
INFO [2025-10-22 21:31:55] 127 (100.0%) variants annotated as likely germline (DB INFO flag).
INFO [2025-10-22 21:31:55] LIB-02240e4 is tumor in VCF file.
INFO [2025-10-22 21:31:55] No homozygous variants in VCF, provide unfiltered VCF.
INFO [2025-10-22 21:31:55] Removing 1 non heterozygous (in matched normal) germline SNPs.
INFO [2025-10-22 21:31:55] Removing 0 low quality variants with non-offset BQ < 25.
INFO [2025-10-22 21:31:55] Base quality scores range from 29 to 35 (offset by 1)
INFO [2025-10-22 21:31:55] Minimum number of supporting reads ranges from 2 to 5, depending on coverage and BQS.
INFO [2025-10-22 21:31:55] Removing 1 variants with AF < 0.030 or AF >= 1.000 or insufficient supporting reads or depth < 15.
INFO [2025-10-22 21:31:55] Total size of targeted genomic region: 1.51Mb (2.31Mb with 50bp padding).
INFO [2025-10-22 21:31:55] 1.2% of targets contain variants.
INFO [2025-10-22 21:31:55] Removing 11 variants outside intervals.
INFO [2025-10-22 21:31:55] Found SOMATIC annotation in VCF.
INFO [2025-10-22 21:31:55] Setting somatic prior probabilities for somatic variants to 0.999000 or to 0.000100 otherwise.
INFO [2025-10-22 21:31:55] Found SOMATIC annotation in VCF. Setting mapping bias to 0.970.
INFO [2025-10-22 21:31:55] Excluding 0 novel or poor quality variants from segmentation.
INFO [2025-10-22 21:31:55] Sample sex: ?
INFO [2025-10-22 21:31:55] Segmenting data...
INFO [2025-10-22 21:31:55] Loading pre-computed boundaries for DNAcopy...
INFO [2025-10-22 21:31:55] Setting undo.SD parameter to 1.000000.
INFO [2025-10-22 21:31:56] Setting prune.hclust.h parameter to 0.200000.
INFO [2025-10-22 21:31:56] Found 59 segments with median size of 17.67Mb.
INFO [2025-10-22 21:31:56] Using 114 variants.
INFO [2025-10-22 21:31:56] Mean standard deviation of log-ratios: 0.34 (MAPD: 0.30)
INFO [2025-10-22 21:31:56] 2D-grid search of purity and ploidy...
INFO [2025-10-22 21:31:56] Local optima: 0.63/1.9
INFO [2025-10-22 21:31:56] Testing local optimum 1/1 at purity 0.63 and total ploidy 1.90...
INFO [2025-10-22 21:31:56] Fitting variants with beta model for local optimum 1/1...
WARN [2025-10-22 21:31:56] Some gene symbols found on multiple chromosomes. Use of approved symbols suggested.
INFO [2025-10-22 21:31:57] Fitting variants for purity 0.65, tumor ploidy 1.75 and contamination 0.01.
INFO [2025-10-22 21:31:57] Optimized purity: 0.65
INFO [2025-10-22 21:31:57] Done.
INFO [2025-10-22 21:31:57] ------------------------------------------------------------
FATAL [2025-10-22 21:31:58] chr1 not valid chromosome name(s). Valid names are:
FATAL [2025-10-22 21:31:58] 1,2,3,4,5,6,7,8,9,10,11,12,13,14,15,16,17,18,19,20,21,22
FATAL [2025-10-22 21:31:58]
FATAL [2025-10-22 21:31:58] This is most likely a user error due to invalid input data or
FATAL [2025-10-22 21:31:58] parameters (PureCN 2.15.4).
INFO [2025-10-22 21:31:58] ------------------------------------------------------------
INFO [2025-10-22 21:31:58] PureCN 2.15.4
INFO [2025-10-22 21:31:58] ------------------------------------------------------------
INFO [2025-10-22 21:31:58] Loading coverage files...
WARN [2025-10-22 21:31:58] Provided sampleid (Sample2) does not match Sample1 found in segmentation.
WARN [2025-10-22 21:31:58] Allosome coverage missing, cannot determine sex.
WARN [2025-10-22 21:31:58] Allosome coverage missing, cannot determine sex.
INFO [2025-10-22 21:31:58] Removing 10 intervals with missing log.ratio.
INFO [2025-10-22 21:31:58] Using 10039 intervals (10039 on-target, 0 off-target).
INFO [2025-10-22 21:31:58] No off-target intervals. If this is hybrid-capture data, consider adding them.
INFO [2025-10-22 21:31:58] Loading VCF...
INFO [2025-10-22 21:31:58] Found 127 variants in VCF file.
INFO [2025-10-22 21:31:58] 127 (100.0%) variants annotated as likely germline (DB INFO flag).
INFO [2025-10-22 21:31:58] LIB-02240e4 is tumor in VCF file.
INFO [2025-10-22 21:31:58] No homozygous variants in VCF, provide unfiltered VCF.
INFO [2025-10-22 21:31:58] Removing 1 non heterozygous (in matched normal) germline SNPs.
INFO [2025-10-22 21:31:58] Removing 0 low quality variants with non-offset BQ < 25.
INFO [2025-10-22 21:31:58] Base quality scores range from 29 to 35 (offset by 1)
INFO [2025-10-22 21:31:58] Minimum number of supporting reads ranges from 2 to 5, depending on coverage and BQS.
INFO [2025-10-22 21:31:58] Removing 1 variants with AF < 0.030 or AF >= 1.000 or insufficient supporting reads or depth < 15.
INFO [2025-10-22 21:31:58] Total size of targeted genomic region: 1.71Mb (2.70Mb with 50bp padding).
INFO [2025-10-22 21:31:58] 1.0% of targets contain variants.
INFO [2025-10-22 21:31:58] Removing 0 variants outside intervals.
INFO [2025-10-22 21:31:58] Found SOMATIC annotation in VCF.
INFO [2025-10-22 21:31:58] Setting somatic prior probabilities for somatic variants to 0.999000 or to 0.000100 otherwise.
INFO [2025-10-22 21:31:58] Found SOMATIC annotation in VCF. Setting mapping bias to 0.976.
INFO [2025-10-22 21:31:58] Excluding 0 novel or poor quality variants from segmentation.
INFO [2025-10-22 21:31:58] Sample sex: ?
INFO [2025-10-22 21:31:58] Segmenting data...
INFO [2025-10-22 21:31:58] Loaded provided segmentation file example_seg.txt (format DNAcopy).
WARN [2025-10-22 21:31:58] Provided sampleid (Sample2) does not match Sample1 found in segmentation.
INFO [2025-10-22 21:31:58] Re-centering provided segment means (offset -0.0033).
INFO [2025-10-22 21:31:58] Loading pre-computed boundaries for DNAcopy...
INFO [2025-10-22 21:31:58] Setting undo.SD parameter to 0.000000.
Setting multi-figure configuration
INFO [2025-10-22 21:31:58] Setting prune.hclust.h parameter to 0.200000.
INFO [2025-10-22 21:31:58] Found 54 segments with median size of 24.88Mb.
INFO [2025-10-22 21:31:58] Using 125 variants.
INFO [2025-10-22 21:31:58] Mean standard deviation of log-ratios: 0.40 (MAPD: 0.00)
INFO [2025-10-22 21:31:58] 2D-grid search of purity and ploidy...
INFO [2025-10-22 21:31:59] Local optima: 0.6/1.9
INFO [2025-10-22 21:31:59] Testing local optimum 1/1 at purity 0.60 and total ploidy 1.90...
INFO [2025-10-22 21:31:59] Fitting variants with beta model for local optimum 1/1...
INFO [2025-10-22 21:31:59] Fitting variants for purity 0.65, tumor ploidy 1.74 and contamination 0.01.
INFO [2025-10-22 21:32:00] Optimized purity: 0.65
INFO [2025-10-22 21:32:00] Done.
INFO [2025-10-22 21:32:00] ------------------------------------------------------------
WARN [2025-10-22 21:32:00] Allosome coverage missing, cannot determine sex.
WARN [2025-10-22 21:32:00] Allosome coverage missing, cannot determine sex.
Setting multi-figure configuration
FATAL [2025-10-22 21:32:03] Segmentation file expected with colnames ID, chrom, loc.start, loc.end,
FATAL [2025-10-22 21:32:03] num.mark, seg.mean
FATAL [2025-10-22 21:32:03]
FATAL [2025-10-22 21:32:03] This is most likely a user error due to invalid input data or
FATAL [2025-10-22 21:32:03] parameters (PureCN 2.15.4).
FATAL [2025-10-22 21:32:03] seg.file contains multiple samples and sampleid missing.
FATAL [2025-10-22 21:32:03]
FATAL [2025-10-22 21:32:03] This is most likely a user error due to invalid input data or
FATAL [2025-10-22 21:32:03] parameters (PureCN 2.15.4).
FATAL [2025-10-22 21:32:03] seg.file contains multiple samples and sampleid does not match any.
FATAL [2025-10-22 21:32:03]
FATAL [2025-10-22 21:32:03] This is most likely a user error due to invalid input data or
FATAL [2025-10-22 21:32:03] parameters (PureCN 2.15.4).
WARN [2025-10-22 21:32:03] Allosome coverage missing, cannot determine sex.
WARN [2025-10-22 21:32:03] Allosome coverage missing, cannot determine sex.
WARN [2025-10-22 21:32:06] Allosome coverage missing, cannot determine sex.
WARN [2025-10-22 21:32:06] Allosome coverage missing, cannot determine sex.
WARN [2025-10-22 21:32:06] Provided sampleid (example_tumor.txt.gz) does not match Sample1 found in segmentation.
WARN [2025-10-22 21:32:07] Allosome coverage missing, cannot determine sex.
WARN [2025-10-22 21:32:07] Allosome coverage missing, cannot determine sex.
WARN [2025-10-22 21:32:07] No normalDB provided. Provide one for better results.
WARN [2025-10-22 21:32:10] Allosome coverage missing, cannot determine sex.
WARN [2025-10-22 21:32:10] Allosome coverage missing, cannot determine sex.
WARN [2025-10-22 21:32:11] Provided sampleid (Sample.1) does not match Sample1 found in segmentation.
Setting multi-figure configuration
WARN [2025-10-22 21:32:14] Allosome coverage missing, cannot determine sex.
WARN [2025-10-22 21:32:14] Allosome coverage missing, cannot determine sex.
WARN [2025-10-22 21:32:14] No normalDB provided. Provide one for better results.
WARN [2025-10-22 21:32:14] Sampleid looks like a normal in VCF, not like a tumor.
WARN [2025-10-22 21:32:17] Allosome coverage missing, cannot determine sex.
WARN [2025-10-22 21:32:17] Allosome coverage missing, cannot determine sex.
FATAL [2025-10-22 21:32:17] normalDB not a valid normalDB object. Use createNormalDatabase to
FATAL [2025-10-22 21:32:17] create one.
FATAL [2025-10-22 21:32:17]
FATAL [2025-10-22 21:32:17] This is most likely a user error due to invalid input data or
FATAL [2025-10-22 21:32:17] parameters (PureCN 2.15.4).
WARN [2025-10-22 21:32:17] You are likely not using the correct baits file!
WARN [2025-10-22 21:32:17] Allosome coverage missing, cannot determine sex.
WARN [2025-10-22 21:32:17] Allosome coverage missing, cannot determine sex.
WARN [2025-10-22 21:32:18] Allosome coverage missing, cannot determine sex.
WARN [2025-10-22 21:32:18] Allosome coverage missing, cannot determine sex.
FATAL [2025-10-22 21:32:18] normalDB appears to be empty.
FATAL [2025-10-22 21:32:18]
FATAL [2025-10-22 21:32:18] This is most likely a user error due to invalid input data or
FATAL [2025-10-22 21:32:18] parameters (PureCN 2.15.4).
WARN [2025-10-22 21:32:19] Allosome coverage missing, cannot determine sex.
WARN [2025-10-22 21:32:19] Allosome coverage missing, cannot determine sex.
WARN [2025-10-22 21:32:19] Intervals in coverage and interval.file have conflicting on/off-target annotation.
WARN [2025-10-22 21:32:23] Allosome coverage missing, cannot determine sex.
WARN [2025-10-22 21:32:23] Allosome coverage missing, cannot determine sex.
FATAL [2025-10-22 21:32:23] Seqlevels missing in provided segmentation: 6
FATAL [2025-10-22 21:32:23]
FATAL [2025-10-22 21:32:23] This is most likely a user error due to invalid input data or
FATAL [2025-10-22 21:32:23] parameters (PureCN 2.15.4).
sh: gatk: command not found
WARN [2025-10-22 21:32:23] Cannot find gatk binary in path.
WARN [2025-10-22 21:32:24] Allosome coverage missing, cannot determine sex.
WARN [2025-10-22 21:32:24] Allosome coverage missing, cannot determine sex.
WARN [2025-10-22 21:32:24] No normalDB provided. Provide one for better results.
FATAL [2025-10-22 21:32:24] segmentationHclust requires an input segmentation.
FATAL [2025-10-22 21:32:24]
FATAL [2025-10-22 21:32:24] This is most likely a user error due to invalid input data or
FATAL [2025-10-22 21:32:24] parameters (PureCN 2.15.4).
WARN [2025-10-22 21:32:24] Allosome coverage missing, cannot determine sex.
WARN [2025-10-22 21:32:24] Allosome coverage missing, cannot determine sex.
WARN [2025-10-22 21:32:24] No normalDB provided. Provide one for better results.
FATAL [2025-10-22 21:32:33] The normal.panel.vcf.file contains only a single sample.
FATAL [2025-10-22 21:32:33]
FATAL [2025-10-22 21:32:33] This is most likely a user error due to invalid input data or
FATAL [2025-10-22 21:32:33] parameters (PureCN 2.15.4).
FATAL [2025-10-22 21:32:33] mapping.bias.file must be a file with *.rds suffix.
FATAL [2025-10-22 21:32:33]
FATAL [2025-10-22 21:32:33] This is most likely a user error due to invalid input data or
FATAL [2025-10-22 21:32:33] parameters (PureCN 2.15.4).
Failed with error: 'there is no package called 'genomicsdb''
FATAL [2025-10-22 21:32:33] min.normals (0) must be >= 1.
FATAL [2025-10-22 21:32:33]
FATAL [2025-10-22 21:32:33] This is most likely a user error due to invalid input data or
FATAL [2025-10-22 21:32:33] parameters (PureCN 2.15.4).
FATAL [2025-10-22 21:32:33] min.normals (10) cannot be larger than min.normals.assign.betafit (3).
FATAL [2025-10-22 21:32:33]
FATAL [2025-10-22 21:32:33] This is most likely a user error due to invalid input data or
FATAL [2025-10-22 21:32:33] parameters (PureCN 2.15.4).
FATAL [2025-10-22 21:32:33] min.normals.assign.betafit (10) cannot be larger than
FATAL [2025-10-22 21:32:33] min.normals.betafit (7).
FATAL [2025-10-22 21:32:33]
FATAL [2025-10-22 21:32:33] This is most likely a user error due to invalid input data or
FATAL [2025-10-22 21:32:33] parameters (PureCN 2.15.4).
FATAL [2025-10-22 21:32:34] min.normals.betafit (20) cannot be larger than
FATAL [2025-10-22 21:32:34] min.normals.position.specific.fit (10).
FATAL [2025-10-22 21:32:34]
FATAL [2025-10-22 21:32:34] This is most likely a user error due to invalid input data or
FATAL [2025-10-22 21:32:34] parameters (PureCN 2.15.4).
FATAL [2025-10-22 21:32:34] min.betafit.rho not within expected range or format.
FATAL [2025-10-22 21:32:34]
FATAL [2025-10-22 21:32:34] This is most likely a user error due to invalid input data or
FATAL [2025-10-22 21:32:34] parameters (PureCN 2.15.4).
FATAL [2025-10-22 21:32:34] max.betafit.rho not within expected range or format.
FATAL [2025-10-22 21:32:34]
FATAL [2025-10-22 21:32:34] This is most likely a user error due to invalid input data or
FATAL [2025-10-22 21:32:34] parameters (PureCN 2.15.4).
FATAL [2025-10-22 21:32:34] min.betafit.rho (0.9) cannot be larger than max.betafit.rho (0.2).
FATAL [2025-10-22 21:32:34]
FATAL [2025-10-22 21:32:34] This is most likely a user error due to invalid input data or
FATAL [2025-10-22 21:32:34] parameters (PureCN 2.15.4).
[ FAIL 0 | WARN 12 | SKIP 2 | PASS 405 ]
══ Skipped tests (2) ═══════════════════════════════════════════════════════════
• gatk binary > 4.1.7.0 required (1): 'test_segmentation.R:25:4'
• genomicsdb required (1): 'test_setMappingBiasVcf.R:45:5'
[ FAIL 0 | WARN 12 | SKIP 2 | PASS 405 ]
>
> proc.time()
user system elapsed
150.167 5.616 145.189
PureCN.Rcheck/PureCN-Ex.timings
| name | user | system | elapsed | |
| adjustLogRatio | 0.848 | 0.014 | 0.865 | |
| annotateTargets | 5.496 | 0.227 | 5.881 | |
| bootstrapResults | 0.218 | 0.021 | 0.274 | |
| calculateBamCoverageByInterval | 0.077 | 0.002 | 0.093 | |
| calculateLogRatio | 0.341 | 0.019 | 0.390 | |
| calculateMappingBiasGatk4 | 0 | 0 | 0 | |
| calculateMappingBiasVcf | 0.665 | 0.025 | 0.732 | |
| calculatePowerDetectSomatic | 0.487 | 0.012 | 0.500 | |
| calculateTangentNormal | 1.174 | 0.021 | 1.195 | |
| callAlterations | 0.055 | 0.002 | 0.058 | |
| callAlterationsFromSegmentation | 0.582 | 0.013 | 0.594 | |
| callAmplificationsInLowPurity | 13.989 | 0.238 | 14.297 | |
| callCIN | 0.084 | 0.002 | 0.087 | |
| callLOH | 0.073 | 0.002 | 0.075 | |
| callMutationBurden | 0.579 | 0.015 | 0.595 | |
| centromeres | 0.000 | 0.001 | 0.002 | |
| correctCoverageBias | 0.580 | 0.016 | 0.596 | |
| createCurationFile | 0.151 | 0.005 | 0.156 | |
| createNormalDatabase | 0.848 | 0.016 | 0.865 | |
| filterIntervals | 7.055 | 0.203 | 7.274 | |
| filterVcfBasic | 0.211 | 0.004 | 0.216 | |
| filterVcfMuTect | 0.230 | 0.007 | 0.237 | |
| filterVcfMuTect2 | 0.208 | 0.004 | 0.212 | |
| findFocal | 3.690 | 0.025 | 3.725 | |
| findHighQualitySNPs | 0.558 | 0.006 | 0.564 | |
| getSexFromCoverage | 0.098 | 0.006 | 0.104 | |
| getSexFromVcf | 0.097 | 0.003 | 0.101 | |
| plotAbs | 0.088 | 0.004 | 0.096 | |
| poolCoverage | 0.224 | 0.010 | 0.235 | |
| predictSomatic | 0.163 | 0.002 | 0.166 | |
| preprocessIntervals | 0.222 | 0.003 | 0.230 | |
| processMultipleSamples | 0.900 | 0.014 | 0.916 | |
| readAllelicCountsFile | 0.187 | 0.001 | 0.188 | |
| readCoverageFile | 0.112 | 0.004 | 0.115 | |
| readCurationFile | 0.088 | 0.002 | 0.090 | |
| readIntervalFile | 0.060 | 0.002 | 0.063 | |
| readLogRatioFile | 0.010 | 0.001 | 0.010 | |
| readSegmentationFile | 0.002 | 0.000 | 0.003 | |
| runAbsoluteCN | 5.750 | 0.103 | 5.860 | |
| segmentationCBS | 2.831 | 0.022 | 2.864 | |
| segmentationGATK4 | 0.001 | 0.001 | 0.001 | |
| segmentationHclust | 5.248 | 0.144 | 5.415 | |
| segmentationPSCBS | 12.987 | 0.133 | 13.146 | |
| setMappingBiasVcf | 0.105 | 0.002 | 0.107 | |
| setPriorVcf | 0.120 | 0.003 | 0.122 | |