Back to Multiple platform build/check report for BioC 3.22:   simplified   long
ABCDEFGHIJKLM[N]OPQRSTUVWXYZ

This page was generated on 2025-10-14 12:06 -0400 (Tue, 14 Oct 2025).

HostnameOSArch (*)R versionInstalled pkgs
nebbiolo2Linux (Ubuntu 24.04.3 LTS)x86_644.5.1 Patched (2025-08-23 r88802) -- "Great Square Root" 4864
lconwaymacOS 12.7.1 Montereyx86_644.5.1 Patched (2025-09-10 r88807) -- "Great Square Root" 4652
kjohnson3macOS 13.7.7 Venturaarm644.5.1 Patched (2025-09-10 r88807) -- "Great Square Root" 4597
taishanLinux (openEuler 24.03 LTS)aarch644.5.0 (2025-04-11) -- "How About a Twenty-Six" 4610
Click on any hostname to see more info about the system (e.g. compilers)      (*) as reported by 'uname -p', except on Windows and Mac OS X

Package 1465/2346HostnameOS / ArchINSTALLBUILDCHECKBUILD BIN
notameViz 0.99.5  (landing page)
Vilhelm Suksi
Snapshot Date: 2025-10-13 13:45 -0400 (Mon, 13 Oct 2025)
git_url: https://git.bioconductor.org/packages/notameViz
git_branch: devel
git_last_commit: 2a2d418
git_last_commit_date: 2025-10-03 05:08:08 -0400 (Fri, 03 Oct 2025)
nebbiolo2Linux (Ubuntu 24.04.3 LTS) / x86_64  OK    OK    OK  UNNEEDED, same version is already published
lconwaymacOS 12.7.1 Monterey / x86_64  OK    OK    OK    OK  UNNEEDED, same version is already published
kjohnson3macOS 13.7.7 Ventura / arm64  OK    OK    OK    OK  UNNEEDED, same version is already published
taishanLinux (openEuler 24.03 LTS) / aarch64  OK    OK    OK  


CHECK results for notameViz on kjohnson3

To the developers/maintainers of the notameViz package:
- Allow up to 24 hours (and sometimes 48 hours) for your latest push to git@git.bioconductor.org:packages/notameViz.git to reflect on this report. See Troubleshooting Build Report for more information.
- Use the following Renviron settings to reproduce errors and warnings.
- If 'R CMD check' started to fail recently on the Linux builder(s) over a missing dependency, add the missing dependency to 'Suggests:' in your DESCRIPTION file. See Renviron.bioc for more information.

raw results


Summary

Package: notameViz
Version: 0.99.5
Command: /Library/Frameworks/R.framework/Resources/bin/R CMD check --install=check:notameViz.install-out.txt --library=/Library/Frameworks/R.framework/Resources/library --no-vignettes --timings notameViz_0.99.5.tar.gz
StartedAt: 2025-10-13 20:48:09 -0400 (Mon, 13 Oct 2025)
EndedAt: 2025-10-13 20:49:56 -0400 (Mon, 13 Oct 2025)
EllapsedTime: 107.4 seconds
RetCode: 0
Status:   OK  
CheckDir: notameViz.Rcheck
Warnings: 0

Command output

##############################################################################
##############################################################################
###
### Running command:
###
###   /Library/Frameworks/R.framework/Resources/bin/R CMD check --install=check:notameViz.install-out.txt --library=/Library/Frameworks/R.framework/Resources/library --no-vignettes --timings notameViz_0.99.5.tar.gz
###
##############################################################################
##############################################################################


* using log directory ‘/Users/biocbuild/bbs-3.22-bioc/meat/notameViz.Rcheck’
* using R version 4.5.1 Patched (2025-09-10 r88807)
* using platform: aarch64-apple-darwin20
* R was compiled by
    Apple clang version 16.0.0 (clang-1600.0.26.6)
    GNU Fortran (GCC) 14.2.0
* running under: macOS Ventura 13.7.7
* using session charset: UTF-8
* using option ‘--no-vignettes’
* checking for file ‘notameViz/DESCRIPTION’ ... OK
* checking extension type ... Package
* this is package ‘notameViz’ version ‘0.99.5’
* package encoding: UTF-8
* checking package namespace information ... OK
* checking package dependencies ... OK
* checking if this is a source package ... OK
* checking if there is a namespace ... OK
* checking for hidden files and directories ... OK
* checking for portable file names ... OK
* checking for sufficient/correct file permissions ... OK
* checking whether package ‘notameViz’ can be installed ... OK
* checking installed package size ... OK
* checking package directory ... OK
* checking ‘build’ directory ... OK
* checking DESCRIPTION meta-information ... NOTE
License stub is invalid DCF.
* checking top-level files ... OK
* checking for left-over files ... OK
* checking index information ... OK
* checking package subdirectories ... OK
* checking code files for non-ASCII characters ... OK
* checking R files for syntax errors ... OK
* checking whether the package can be loaded ... OK
* checking whether the package can be loaded with stated dependencies ... OK
* checking whether the package can be unloaded cleanly ... OK
* checking whether the namespace can be loaded with stated dependencies ... OK
* checking whether the namespace can be unloaded cleanly ... OK
* checking dependencies in R code ... OK
* checking S3 generic/method consistency ... OK
* checking replacement functions ... OK
* checking foreign function calls ... OK
* checking R code for possible problems ... OK
* checking Rd files ... OK
* checking Rd metadata ... OK
* checking Rd cross-references ... NOTE
Found the following Rd file(s) with Rd \link{} targets missing package
anchors:
  save_dc_plots.Rd: correct_drift
Please provide package anchors for all Rd \link{} targets not in the
package itself and the base packages.
* checking for missing documentation entries ... OK
* checking for code/documentation mismatches ... OK
* checking Rd \usage sections ... OK
* checking Rd contents ... OK
* checking for unstated dependencies in examples ... OK
* checking files in ‘vignettes’ ... OK
* checking examples ... OK
Examples with CPU (user + system) or elapsed time > 5s
              user system elapsed
save_QC_plots 3.84  1.405   3.894
* checking for unstated dependencies in ‘tests’ ... OK
* checking tests ...
  Running ‘testthat.R’
 OK
* checking for unstated dependencies in vignettes ... OK
* checking package vignettes ... OK
* checking running R code from vignettes ... SKIPPED
* checking re-building of vignette outputs ... SKIPPED
* checking PDF version of manual ... OK
* DONE

Status: 2 NOTEs
See
  ‘/Users/biocbuild/bbs-3.22-bioc/meat/notameViz.Rcheck/00check.log’
for details.


Installation output

notameViz.Rcheck/00install.out

##############################################################################
##############################################################################
###
### Running command:
###
###   /Library/Frameworks/R.framework/Resources/bin/R CMD INSTALL notameViz
###
##############################################################################
##############################################################################


* installing to library ‘/Library/Frameworks/R.framework/Versions/4.5-arm64/Resources/library’
* installing *source* package ‘notameViz’ ...
** this is package ‘notameViz’ version ‘0.99.5’
** using staged installation
** R
** inst
** byte-compile and prepare package for lazy loading
** help
*** installing help indices
** building package indices
** installing vignettes
** testing if installed package can be loaded from temporary location
** testing if installed package can be loaded from final location
** testing if installed package keeps a record of temporary installation path
* DONE (notameViz)

Tests output

notameViz.Rcheck/tests/testthat.Rout


R version 4.5.1 Patched (2025-09-10 r88807) -- "Great Square Root"
Copyright (C) 2025 The R Foundation for Statistical Computing
Platform: aarch64-apple-darwin20

R is free software and comes with ABSOLUTELY NO WARRANTY.
You are welcome to redistribute it under certain conditions.
Type 'license()' or 'licence()' for distribution details.

R is a collaborative project with many contributors.
Type 'contributors()' for more information and
'citation()' on how to cite R or R packages in publications.

Type 'demo()' for some demos, 'help()' for on-line help, or
'help.start()' for an HTML browser interface to help.
Type 'q()' to quit R.

> library(testthat)
> library(notameViz)
Loading required package: ggplot2
Loading required package: SummarizedExperiment
Loading required package: MatrixGenerics
Loading required package: matrixStats

Attaching package: 'MatrixGenerics'

The following objects are masked from 'package:matrixStats':

    colAlls, colAnyNAs, colAnys, colAvgsPerRowSet, colCollapse,
    colCounts, colCummaxs, colCummins, colCumprods, colCumsums,
    colDiffs, colIQRDiffs, colIQRs, colLogSumExps, colMadDiffs,
    colMads, colMaxs, colMeans2, colMedians, colMins, colOrderStats,
    colProds, colQuantiles, colRanges, colRanks, colSdDiffs, colSds,
    colSums2, colTabulates, colVarDiffs, colVars, colWeightedMads,
    colWeightedMeans, colWeightedMedians, colWeightedSds,
    colWeightedVars, rowAlls, rowAnyNAs, rowAnys, rowAvgsPerColSet,
    rowCollapse, rowCounts, rowCummaxs, rowCummins, rowCumprods,
    rowCumsums, rowDiffs, rowIQRDiffs, rowIQRs, rowLogSumExps,
    rowMadDiffs, rowMads, rowMaxs, rowMeans2, rowMedians, rowMins,
    rowOrderStats, rowProds, rowQuantiles, rowRanges, rowRanks,
    rowSdDiffs, rowSds, rowSums2, rowTabulates, rowVarDiffs, rowVars,
    rowWeightedMads, rowWeightedMeans, rowWeightedMedians,
    rowWeightedSds, rowWeightedVars

Loading required package: GenomicRanges
Loading required package: stats4
Loading required package: BiocGenerics
Loading required package: generics

Attaching package: 'generics'

The following objects are masked from 'package:base':

    as.difftime, as.factor, as.ordered, intersect, is.element, setdiff,
    setequal, union


Attaching package: 'BiocGenerics'

The following objects are masked from 'package:stats':

    IQR, mad, sd, var, xtabs

The following objects are masked from 'package:base':

    Filter, Find, Map, Position, Reduce, anyDuplicated, aperm, append,
    as.data.frame, basename, cbind, colnames, dirname, do.call,
    duplicated, eval, evalq, get, grep, grepl, is.unsorted, lapply,
    mapply, match, mget, order, paste, pmax, pmax.int, pmin, pmin.int,
    rank, rbind, rownames, sapply, saveRDS, table, tapply, unique,
    unsplit, which.max, which.min

Loading required package: S4Vectors

Attaching package: 'S4Vectors'

The following object is masked from 'package:utils':

    findMatches

The following objects are masked from 'package:base':

    I, expand.grid, unname

Loading required package: IRanges
Loading required package: Seqinfo
Loading required package: Biobase
Welcome to Bioconductor

    Vignettes contain introductory material; view with
    'browseVignettes()'. To cite Bioconductor, see
    'citation("Biobase")', and for packages 'citation("pkgname")'.


Attaching package: 'Biobase'

The following object is masked from 'package:MatrixGenerics':

    rowMedians

The following objects are masked from 'package:matrixStats':

    anyMissing, rowMedians

> 
> test_check("notameViz")
Running tests in parallel requires the 3rd edition
INFO [2025-10-13 20:49:44] Saved to: /var/folders/r0/l4fjk6cj5xj0j3brt4bplpl40000gt/T//Rtmprz82xb\test\recursive/filef49b12f7fe2f.pdf
INFO [2025-10-13 20:49:44] Saved to: /var/folders/r0/l4fjk6cj5xj0j3brt4bplpl40000gt/T//Rtmprz82xb/filef49b22881b5e.pdf
INFO [2025-10-13 20:49:44] Saved to: /var/folders/r0/l4fjk6cj5xj0j3brt4bplpl40000gt/T//Rtmprz82xb/filef49b40e96991.emf
INFO [2025-10-13 20:49:44] Saved to: /var/folders/r0/l4fjk6cj5xj0j3brt4bplpl40000gt/T//Rtmprz82xb/filef49b607b1c72.svg
INFO [2025-10-13 20:49:44] Saved to: /var/folders/r0/l4fjk6cj5xj0j3brt4bplpl40000gt/T//Rtmprz82xb/filef49b5ddc7c43.png
INFO [2025-10-13 20:49:44] Saved to: /var/folders/r0/l4fjk6cj5xj0j3brt4bplpl40000gt/T//Rtmprz82xb/filef49b6e3365f6.tiff
2025-10-13 20:49:44.725 R[62619:454984816] XType: Using static font registry.
INFO [2025-10-13 20:49:44] Saved to: /var/folders/r0/l4fjk6cj5xj0j3brt4bplpl40000gt/T//Rtmprz82xb\test\/HILIC_neg_259_9623a4_4322.emf
INFO [2025-10-13 20:49:44] Saved to: /var/folders/r0/l4fjk6cj5xj0j3brt4bplpl40000gt/T//Rtmprz82xb\test\/HILIC_neg_108_1065a2_6121.emf
INFO [2025-10-13 20:49:45] Saved to: /var/folders/r0/l4fjk6cj5xj0j3brt4bplpl40000gt/T//Rtmprz82xb\test\/HILIC_neg_158_23a1_4128.emf
INFO [2025-10-13 20:49:45] Saved to: /var/folders/r0/l4fjk6cj5xj0j3brt4bplpl40000gt/T//Rtmprz82xb\test\/HILIC_neg_251_0056a0_6161.emf
INFO [2025-10-13 20:49:45] Saved to: /var/folders/r0/l4fjk6cj5xj0j3brt4bplpl40000gt/T//Rtmprz82xb\test\/HILIC_neg_401_52a4_211.emf
INFO [2025-10-13 20:49:45] Saved line plots with mean line to: /var/folders/r0/l4fjk6cj5xj0j3brt4bplpl40000gt/T//Rtmprz82xb\test\
INFO [2025-10-13 20:49:45] Saved to: /var/folders/r0/l4fjk6cj5xj0j3brt4bplpl40000gt/T//Rtmprz82xb\test\/Glucose.emf
INFO [2025-10-13 20:49:45] Saved to: /var/folders/r0/l4fjk6cj5xj0j3brt4bplpl40000gt/T//Rtmprz82xb\test\/Threoline.emf
INFO [2025-10-13 20:49:45] Saved to: /var/folders/r0/l4fjk6cj5xj0j3brt4bplpl40000gt/T//Rtmprz82xb\test\/5-AVAB.emf
INFO [2025-10-13 20:49:45] Saved to: /var/folders/r0/l4fjk6cj5xj0j3brt4bplpl40000gt/T//Rtmprz82xb\test\/1_2 acid.emf
INFO [2025-10-13 20:49:45] Saved to: /var/folders/r0/l4fjk6cj5xj0j3brt4bplpl40000gt/T//Rtmprz82xb\test\/20_0 carbon chain.emf
INFO [2025-10-13 20:49:45] Saved line plots with mean line to: /var/folders/r0/l4fjk6cj5xj0j3brt4bplpl40000gt/T//Rtmprz82xb\test\
INFO [2025-10-13 20:49:45] Saved to: /var/folders/r0/l4fjk6cj5xj0j3brt4bplpl40000gt/T//Rtmprz82xb\test\/HILIC_neg_259_9623a4_4322.emf
INFO [2025-10-13 20:49:45] Saved to: /var/folders/r0/l4fjk6cj5xj0j3brt4bplpl40000gt/T//Rtmprz82xb\test\/HILIC_neg_108_1065a2_6121.emf
INFO [2025-10-13 20:49:45] Saved to: /var/folders/r0/l4fjk6cj5xj0j3brt4bplpl40000gt/T//Rtmprz82xb\test\/HILIC_neg_158_23a1_4128.emf
INFO [2025-10-13 20:49:46] Saved to: /var/folders/r0/l4fjk6cj5xj0j3brt4bplpl40000gt/T//Rtmprz82xb\test\/HILIC_neg_251_0056a0_6161.emf
INFO [2025-10-13 20:49:46] Saved to: /var/folders/r0/l4fjk6cj5xj0j3brt4bplpl40000gt/T//Rtmprz82xb\test\/HILIC_neg_401_52a4_211.emf
INFO [2025-10-13 20:49:46] Saved group boxplots to: /var/folders/r0/l4fjk6cj5xj0j3brt4bplpl40000gt/T//Rtmprz82xb\test\
INFO [2025-10-13 20:49:46] Saved to: /var/folders/r0/l4fjk6cj5xj0j3brt4bplpl40000gt/T//Rtmprz82xb\test\/HILIC_neg_259_9623a4_4322.emf
INFO [2025-10-13 20:49:46] Saved to: /var/folders/r0/l4fjk6cj5xj0j3brt4bplpl40000gt/T//Rtmprz82xb\test\/HILIC_neg_108_1065a2_6121.emf
INFO [2025-10-13 20:49:46] Saved to: /var/folders/r0/l4fjk6cj5xj0j3brt4bplpl40000gt/T//Rtmprz82xb\test\/HILIC_neg_158_23a1_4128.emf
INFO [2025-10-13 20:49:46] Saved to: /var/folders/r0/l4fjk6cj5xj0j3brt4bplpl40000gt/T//Rtmprz82xb\test\/HILIC_neg_251_0056a0_6161.emf
INFO [2025-10-13 20:49:46] Saved to: /var/folders/r0/l4fjk6cj5xj0j3brt4bplpl40000gt/T//Rtmprz82xb\test\/HILIC_neg_401_52a4_211.emf
INFO [2025-10-13 20:49:46] Saved group boxplots to: /var/folders/r0/l4fjk6cj5xj0j3brt4bplpl40000gt/T//Rtmprz82xb\test\
INFO [2025-10-13 20:49:46] Saved to: /var/folders/r0/l4fjk6cj5xj0j3brt4bplpl40000gt/T//Rtmprz82xb\test\/HILIC_neg_259_9623a4_4322.emf
INFO [2025-10-13 20:49:47] Saved to: /var/folders/r0/l4fjk6cj5xj0j3brt4bplpl40000gt/T//Rtmprz82xb\test\/HILIC_neg_108_1065a2_6121.emf
INFO [2025-10-13 20:49:47] Saved to: /var/folders/r0/l4fjk6cj5xj0j3brt4bplpl40000gt/T//Rtmprz82xb\test\/HILIC_neg_158_23a1_4128.emf
INFO [2025-10-13 20:49:47] Saved to: /var/folders/r0/l4fjk6cj5xj0j3brt4bplpl40000gt/T//Rtmprz82xb\test\/HILIC_neg_251_0056a0_6161.emf
INFO [2025-10-13 20:49:47] Saved to: /var/folders/r0/l4fjk6cj5xj0j3brt4bplpl40000gt/T//Rtmprz82xb\test\/HILIC_neg_401_52a4_211.emf
INFO [2025-10-13 20:49:47] Saved beeswarm plots to: /var/folders/r0/l4fjk6cj5xj0j3brt4bplpl40000gt/T//Rtmprz82xb\test\
INFO [2025-10-13 20:49:47] Saved to: /var/folders/r0/l4fjk6cj5xj0j3brt4bplpl40000gt/T//Rtmprz82xb\test\/Glucose.emf
INFO [2025-10-13 20:49:47] Saved to: /var/folders/r0/l4fjk6cj5xj0j3brt4bplpl40000gt/T//Rtmprz82xb\test\/Threoline.emf
INFO [2025-10-13 20:49:47] Saved to: /var/folders/r0/l4fjk6cj5xj0j3brt4bplpl40000gt/T//Rtmprz82xb\test\/5-AVAB.emf
INFO [2025-10-13 20:49:47] Saved to: /var/folders/r0/l4fjk6cj5xj0j3brt4bplpl40000gt/T//Rtmprz82xb\test\/1_2 acid.emf
INFO [2025-10-13 20:49:47] Saved to: /var/folders/r0/l4fjk6cj5xj0j3brt4bplpl40000gt/T//Rtmprz82xb\test\/20_0 carbon chain.emf
INFO [2025-10-13 20:49:47] Saved beeswarm plots to: /var/folders/r0/l4fjk6cj5xj0j3brt4bplpl40000gt/T//Rtmprz82xb\test\
INFO [2025-10-13 20:49:47] Saved to: /var/folders/r0/l4fjk6cj5xj0j3brt4bplpl40000gt/T//Rtmprz82xb\test\/HILIC_neg_259_9623a4_4322.emf
INFO [2025-10-13 20:49:47] Saved to: /var/folders/r0/l4fjk6cj5xj0j3brt4bplpl40000gt/T//Rtmprz82xb\test\/HILIC_neg_108_1065a2_6121.emf
INFO [2025-10-13 20:49:47] Saved to: /var/folders/r0/l4fjk6cj5xj0j3brt4bplpl40000gt/T//Rtmprz82xb\test\/HILIC_neg_158_23a1_4128.emf
INFO [2025-10-13 20:49:47] Saved to: /var/folders/r0/l4fjk6cj5xj0j3brt4bplpl40000gt/T//Rtmprz82xb\test\/HILIC_neg_251_0056a0_6161.emf
INFO [2025-10-13 20:49:47] Saved to: /var/folders/r0/l4fjk6cj5xj0j3brt4bplpl40000gt/T//Rtmprz82xb\test\/HILIC_neg_401_52a4_211.emf
INFO [2025-10-13 20:49:47] Saved scatter plots to: /var/folders/r0/l4fjk6cj5xj0j3brt4bplpl40000gt/T//Rtmprz82xb\test\
INFO [2025-10-13 20:49:48] Saved to: /var/folders/r0/l4fjk6cj5xj0j3brt4bplpl40000gt/T//Rtmprz82xb\test\/HILIC_neg_259_9623a4_4322.emf
INFO [2025-10-13 20:49:48] Saved to: /var/folders/r0/l4fjk6cj5xj0j3brt4bplpl40000gt/T//Rtmprz82xb\test\/HILIC_neg_108_1065a2_6121.emf
INFO [2025-10-13 20:49:48] Saved to: /var/folders/r0/l4fjk6cj5xj0j3brt4bplpl40000gt/T//Rtmprz82xb\test\/HILIC_neg_158_23a1_4128.emf
INFO [2025-10-13 20:49:48] Saved to: /var/folders/r0/l4fjk6cj5xj0j3brt4bplpl40000gt/T//Rtmprz82xb\test\/HILIC_neg_251_0056a0_6161.emf
INFO [2025-10-13 20:49:48] Saved to: /var/folders/r0/l4fjk6cj5xj0j3brt4bplpl40000gt/T//Rtmprz82xb\test\/HILIC_neg_401_52a4_211.emf
INFO [2025-10-13 20:49:48] Saved scatter plots to: /var/folders/r0/l4fjk6cj5xj0j3brt4bplpl40000gt/T//Rtmprz82xb\test\
INFO [2025-10-13 20:49:48] Saved to: /var/folders/r0/l4fjk6cj5xj0j3brt4bplpl40000gt/T//Rtmprz82xb\test\/HILIC_neg_259_9623a4_4322.emf
INFO [2025-10-13 20:49:48] Saved to: /var/folders/r0/l4fjk6cj5xj0j3brt4bplpl40000gt/T//Rtmprz82xb\test\/HILIC_neg_108_1065a2_6121.emf
INFO [2025-10-13 20:49:48] Saved to: /var/folders/r0/l4fjk6cj5xj0j3brt4bplpl40000gt/T//Rtmprz82xb\test\/HILIC_neg_158_23a1_4128.emf
INFO [2025-10-13 20:49:49] Saved to: /var/folders/r0/l4fjk6cj5xj0j3brt4bplpl40000gt/T//Rtmprz82xb\test\/HILIC_neg_251_0056a0_6161.emf
INFO [2025-10-13 20:49:49] Saved to: /var/folders/r0/l4fjk6cj5xj0j3brt4bplpl40000gt/T//Rtmprz82xb\test\/HILIC_neg_401_52a4_211.emf
INFO [2025-10-13 20:49:49] Saved line plots with mean line to: /var/folders/r0/l4fjk6cj5xj0j3brt4bplpl40000gt/T//Rtmprz82xb\test\
INFO [2025-10-13 20:49:49] Saved to: /var/folders/r0/l4fjk6cj5xj0j3brt4bplpl40000gt/T//Rtmprz82xb\test\/HILIC_neg_259_9623a4_4322.emf
INFO [2025-10-13 20:49:49] Saved to: /var/folders/r0/l4fjk6cj5xj0j3brt4bplpl40000gt/T//Rtmprz82xb\test\/HILIC_neg_108_1065a2_6121.emf
INFO [2025-10-13 20:49:49] Saved to: /var/folders/r0/l4fjk6cj5xj0j3brt4bplpl40000gt/T//Rtmprz82xb\test\/HILIC_neg_158_23a1_4128.emf
INFO [2025-10-13 20:49:49] Saved to: /var/folders/r0/l4fjk6cj5xj0j3brt4bplpl40000gt/T//Rtmprz82xb\test\/HILIC_neg_251_0056a0_6161.emf
INFO [2025-10-13 20:49:50] Saved to: /var/folders/r0/l4fjk6cj5xj0j3brt4bplpl40000gt/T//Rtmprz82xb\test\/HILIC_neg_401_52a4_211.emf
INFO [2025-10-13 20:49:50] Saved line plots with mean line to: /var/folders/r0/l4fjk6cj5xj0j3brt4bplpl40000gt/T//Rtmprz82xb\test\
INFO [2025-10-13 20:49:50] 
Saved batch plots to: /var/folders/r0/l4fjk6cj5xj0j3brt4bplpl40000gt/T//Rtmprz82xb\test\batch_plots.pdf
INFO [2025-10-13 20:49:50] Identified m/z column Average_Mz and retention time column Average_Rt_min
INFO [2025-10-13 20:49:50] Identified m/z column Average_Mz and retention time column Average_Rt_min
INFO [2025-10-13 20:49:50] Identified m/z column Average_Mz and retention time column Average_Rt_min
INFO [2025-10-13 20:49:51] 
92% of features flagged for low quality
INFO [2025-10-13 20:49:51] Identified m/z column Average_Mz and retention time column Average_Rt_min
INFO [2025-10-13 20:49:51] Identified m/z column Average_Mz and retention time column Average_Rt_min
[ FAIL 0 | WARN 2 | SKIP 0 | PASS 26 ]

[ FAIL 0 | WARN 2 | SKIP 0 | PASS 26 ]
> 
> proc.time()
   user  system elapsed 
 10.536   0.444  10.959 

Example timings

notameViz.Rcheck/notameViz-Ex.timings

nameusersystemelapsed
manhattan_plot2.1750.4361.958
mz_rt_plot1.2260.5300.902
plot_dendrogram0.1740.0160.199
plot_dist_density0.7550.7070.852
plot_effect_heatmap1.8650.6831.294
plot_injection_lm2.1001.4091.433
plot_p_histogram0.6700.4890.492
plot_pca0.1240.0070.139
plot_pca_arrows0.2630.0050.274
plot_pca_hexbin0.1280.0060.133
plot_pca_loadings0.1020.0020.105
plot_quality0.5220.1630.575
plot_sample_boxplots0.3410.0060.346
plot_sample_heatmap0.2280.0070.234
plot_tsne0.1510.0070.159
plot_tsne_arrows0.2700.0030.278
plot_tsne_hexbin0.1720.0070.208
save_QC_plots3.8401.4053.894
save_batch_plots3.1540.0783.242
save_beeswarm_plots1.5620.0381.614
save_dc_plots0.9670.7651.121
save_group_boxplots1.9950.0252.022
save_group_lineplots3.4420.0463.586
save_plot0.1980.0050.221
save_scatter_plots0.8820.0080.891
save_subject_line_plots0.8570.0070.881
visualize_clusters0.9230.7351.127
volcano_plot0.6050.4870.475