This page was generated on 2021-12-15 01:37:08 -0500 (Wed, 15 Dec 2021).
|
| Hostname | OS | Arch (*) | R version | Installed pkgs |
|---|---|---|---|---|
| nebbiolo2 | Linux (Ubuntu 20.04.3 LTS) | x86_64 | R Under development (unstable) (2021-11-16 r81199) -- "Unsuffered Consequences" | 1344 |
| Click on any hostname to see more info about the system (e.g. compilers) (*) as reported by 'uname -p', except on Windows and Mac OS X | ||||
A | |||||||||
| QUICK STATS | OS / Arch | INSTALL | BUILD | CHECK | |||||||||||||||||||||||||||||||
| nebbiolo2 | Linux (Ubuntu 20.04.3 LTS) / x86_64 |
|
|
| |||||||||||||||||||||||||||||||
|
| ||||||||||||||||||||||||||||||||||
| Package | Maintainer | INSTALL | BUILD | CHECK | |||||||||||||||||||||||||||||||
| 1/405 | adductData 1.11.0 (landing page) | Josie Hayes | OK | OK | OK | ||||||||||||||||||||||||||||||
| 2/405 | affycompData 1.33.0 (landing page) | Harris Jaffee | OK | OK | OK | ||||||||||||||||||||||||||||||
| 3/405 | affydata 1.43.0 (landing page) | Harris Jaffee | OK | OK | WARNINGS | ||||||||||||||||||||||||||||||
| 4/405 | Affyhgu133A2Expr 1.31.0 (landing page) | Zhicheng Ji | OK | OK | OK | ||||||||||||||||||||||||||||||
| 5/405 | Affyhgu133aExpr 1.33.0 (landing page) | Zhicheng Ji | OK | OK | OK | ||||||||||||||||||||||||||||||
| 6/405 | Affyhgu133Plus2Expr 1.29.0 (landing page) | Zhicheng Ji | OK | OK | OK | ||||||||||||||||||||||||||||||
| 7/405 | AffymetrixDataTestFiles 0.33.0 (landing page) | Henrik Bengtsson | OK | OK | OK | ||||||||||||||||||||||||||||||
| 8/405 | Affymoe4302Expr 1.33.0 (landing page) | Zhicheng Ji | OK | OK | OK | ||||||||||||||||||||||||||||||
| 9/405 | airway 1.15.1 (landing page) | Michael Love | OK | OK | WARNINGS | ||||||||||||||||||||||||||||||
| 10/405 | ALL 1.37.0 (landing page) | Robert Gentleman | OK | OK | OK | ||||||||||||||||||||||||||||||
| 11/405 | ALLMLL 1.35.0 (landing page) | B. M. Bolstad | OK | OK | OK | ||||||||||||||||||||||||||||||
| 12/405 | alpineData 1.21.0 (landing page) | Michael Love | OK | OK | OK | ||||||||||||||||||||||||||||||
| 13/405 | AmpAffyExample 1.35.0 (landing page) | Rafael A. Irizarry | OK | OK | WARNINGS | ||||||||||||||||||||||||||||||
| 14/405 | AneuFinderData 1.23.0 (landing page) | Aaron Taudt | OK | OK | WARNINGS | ||||||||||||||||||||||||||||||
| 15/405 | antiProfilesData 1.31.0 (landing page) | Hector Corrada Bravo | OK | OK | OK | ||||||||||||||||||||||||||||||
| 16/405 | aracne.networks 1.21.0 (landing page) | Federico M. Giorgi | OK | OK | WARNINGS | ||||||||||||||||||||||||||||||
| 17/405 | ARRmData 1.31.0 (landing page) | Jean-Philippe Fortin | OK | OK | OK | ||||||||||||||||||||||||||||||
| 18/405 | AshkenazimSonChr21 1.25.0 (landing page) | Who to complain to | OK | OK | OK | ||||||||||||||||||||||||||||||
| 19/405 | ASICSdata 1.15.0 (landing page) | Gaƫlle Lefort | OK | OK | OK | ||||||||||||||||||||||||||||||
| 20/405 | AssessORFData 1.13.0 (landing page) | Deepank Korandla | OK | OK | OK | ||||||||||||||||||||||||||||||
|
| ||||||||||||||||||||||||||||||||||
| Package | Maintainer | INSTALL | BUILD | CHECK | |||||||||||||||||||||||||||||||
| 21/405 | bcellViper 1.31.0 (landing page) | Mariano Javier Alvarez | OK | OK | OK | ||||||||||||||||||||||||||||||
| 22/405 | beadarrayExampleData 1.33.0 (landing page) | Mark Dunning | OK | OK | OK | ||||||||||||||||||||||||||||||
| 23/405 | BeadArrayUseCases 1.33.0 (landing page) | Mike Smith | OK | OK | OK | ||||||||||||||||||||||||||||||
| 24/405 | BeadSorted.Saliva.EPIC 1.3.0 (landing page) | Jonah Fisher | OK | OK | OK | ||||||||||||||||||||||||||||||
| 25/405 | benchmarkfdrData2019 1.9.0 (landing page) | Stephanie Hicks | OK | OK | OK | ||||||||||||||||||||||||||||||
| 26/405 | beta7 1.33.0 (landing page) | Jean Yang | OK | OK | WARNINGS | ||||||||||||||||||||||||||||||
| 27/405 | BioImageDbs 1.3.1 (landing page) | Satoshi Kume | OK | OK | OK | ||||||||||||||||||||||||||||||
| 28/405 | biotmleData 1.19.1 (landing page) | Nima Hejazi | OK | OK | WARNINGS | ||||||||||||||||||||||||||||||
| 29/405 | biscuiteerData 1.9.0 (landing page) | "Jacob Morrison" | OK | OK | OK | ||||||||||||||||||||||||||||||
| 30/405 | bladderbatch 1.33.0 (landing page) | Jeffrey T. Leek | OK | OK | WARNINGS | ||||||||||||||||||||||||||||||
| 31/405 | blimaTestingData 1.15.0 (landing page) | Vojtech Kulvait | OK | OK | OK | ||||||||||||||||||||||||||||||
| 32/405 | BloodCancerMultiOmics2017 1.15.1 (landing page) | Malgorzata Oles | OK | ERROR | skipped | ||||||||||||||||||||||||||||||
| 33/405 | bodymapRat 1.11.0 (landing page) | Stephanie Hicks | OK | OK | OK | ||||||||||||||||||||||||||||||
| 34/405 | breakpointRdata 1.13.0 (landing page) | David Porubsky | OK | OK | OK | ||||||||||||||||||||||||||||||
| 35/405 | breastCancerMAINZ 1.33.0 (landing page) | Markus Schroeder | OK | OK | WARNINGS | ||||||||||||||||||||||||||||||
| 36/405 | breastCancerNKI 1.33.0 (landing page) | Markus Schroeder | OK | OK | WARNINGS | ||||||||||||||||||||||||||||||
| 37/405 | breastCancerTRANSBIG 1.33.0 (landing page) | Markus Schroeder | OK | OK | WARNINGS | ||||||||||||||||||||||||||||||
| 38/405 | breastCancerUNT 1.33.0 (landing page) | Markus Schroeder | OK | OK | WARNINGS | ||||||||||||||||||||||||||||||
| 39/405 | breastCancerUPP 1.33.0 (landing page) | Markus Schroeder | OK | OK | WARNINGS | ||||||||||||||||||||||||||||||
| 40/405 | breastCancerVDX 1.33.0 (landing page) | Markus Schroeder | OK | OK | WARNINGS | ||||||||||||||||||||||||||||||
| 41/405 | brgedata 1.17.0 (landing page) | Dolors Pelegri-Siso | OK | ERROR | skipped | ||||||||||||||||||||||||||||||
| 42/405 | bronchialIL13 1.33.0 (landing page) | Vince Carey | OK | OK | OK | ||||||||||||||||||||||||||||||
| 43/405 | bsseqData 0.33.1 (landing page) | Kasper Daniel Hansen | OK | OK | WARNINGS | ||||||||||||||||||||||||||||||
|
| ||||||||||||||||||||||||||||||||||
| Package | Maintainer | INSTALL | BUILD | CHECK | |||||||||||||||||||||||||||||||
| 44/405 | cancerdata 1.33.0 (landing page) | Daniel Kosztyla | OK | OK | OK | ||||||||||||||||||||||||||||||
| 45/405 | CardinalWorkflows 1.27.0 (landing page) | Kylie A. Bemis | OK | OK | OK | ||||||||||||||||||||||||||||||
| 46/405 | ccdata 1.21.0 (landing page) | Alex Pickering | OK | OK | WARNINGS | ||||||||||||||||||||||||||||||
| 47/405 | CCl4 1.33.0 (landing page) | Audrey Kauffmann | OK | OK | WARNINGS | ||||||||||||||||||||||||||||||
| 48/405 | ccTutorial 1.33.0 (landing page) | Joern Toedling | OK | OK | OK | ||||||||||||||||||||||||||||||
| 49/405 | celarefData 1.13.0 (landing page) | Sarah Williams | OK | OK | OK | ||||||||||||||||||||||||||||||
| 50/405 | celldex 1.5.0 (landing page) | Aaron Lun | OK | OK | WARNINGS | ||||||||||||||||||||||||||||||
| 51/405 | CellMapperData 1.21.0 (landing page) | Brad Nelms | OK | OK | OK | ||||||||||||||||||||||||||||||
| 52/405 | ChAMPdata 2.27.1 (landing page) | Yuan Tian | OK | OK | OK | ||||||||||||||||||||||||||||||
| 53/405 | ChIC.data 1.15.0 (landing page) | Carmen Maria Livi | OK | OK | OK | ||||||||||||||||||||||||||||||
| 54/405 | ChimpHumanBrainData 1.33.0 (landing page) | Sean Davis | OK | OK | OK | ||||||||||||||||||||||||||||||
| 55/405 | chipenrich.data 2.19.1 (landing page) | Raymond G. Cavalcante | OK | OK | WARNINGS | ||||||||||||||||||||||||||||||
| 56/405 | ChIPexoQualExample 1.19.0 (landing page) | Rene Welch | OK | OK | OK | ||||||||||||||||||||||||||||||
| 57/405 | chipseqDBData 1.11.0 (landing page) | Aaron Lun | OK | OK | OK | ||||||||||||||||||||||||||||||
| 58/405 | ChIPXpressData 1.33.0 (landing page) | George Wu | OK | OK | WARNINGS | ||||||||||||||||||||||||||||||
| 59/405 | chromstaRData 1.21.0 (landing page) | Aaron Taudt | OK | OK | WARNINGS | ||||||||||||||||||||||||||||||
| 60/405 | CLL 1.35.0 (landing page) | Robert Gentleman | OK | OK | OK | ||||||||||||||||||||||||||||||
| 61/405 | CLLmethylation 1.15.0 (landing page) | Malgorzata Oles | OK | OK | OK | ||||||||||||||||||||||||||||||
| 62/405 | CluMSIDdata 1.11.0 (landing page) | Tobias Depke | OK | OK | OK | ||||||||||||||||||||||||||||||
| 63/405 | clustifyrdatahub 1.5.0 (landing page) | Rui Fu | OK | OK | OK | ||||||||||||||||||||||||||||||
| 64/405 | cMap2data 1.31.0 (landing page) | J. Saez-Rodriguez | OK | OK | WARNINGS | ||||||||||||||||||||||||||||||
| 65/405 | cnvGSAdata 1.31.0 (landing page) | Joseph Lugo | OK | OK | WARNINGS | ||||||||||||||||||||||||||||||
| 66/405 | COHCAPanno 1.31.0 (landing page) | Charles Warden | OK | OK | OK | ||||||||||||||||||||||||||||||
| 67/405 | colonCA 1.37.0 (landing page) | W Sylvia Merk | OK | OK | WARNINGS | ||||||||||||||||||||||||||||||
| 68/405 | CONFESSdata 1.23.0 (landing page) | Diana LOW | OK | OK | OK | ||||||||||||||||||||||||||||||
| 69/405 | ConnectivityMap 1.31.0 (landing page) | Paul Shannon | OK | OK | OK | ||||||||||||||||||||||||||||||
| 70/405 | COPDSexualDimorphism.data 1.31.0 (landing page) | J Fah Sathirapongsasuti | OK | OK | WARNINGS | ||||||||||||||||||||||||||||||
| 71/405 | CopyhelpeR 1.27.1 (landing page) | Oscar Krijgsman | OK | OK | OK | ||||||||||||||||||||||||||||||
| 72/405 | CopyNeutralIMA 1.13.0 (landing page) | Xavier Pastor Hostench | OK | ERROR | skipped | ||||||||||||||||||||||||||||||
| 73/405 | COSMIC.67 1.31.1 (landing page) | Julian Gehring | OK | OK | OK | ||||||||||||||||||||||||||||||
| 74/405 | CRCL18 1.15.0 (landing page) | Claudio Isella | OK | OK | OK | ||||||||||||||||||||||||||||||
| 75/405 | curatedAdipoArray 1.7.0 (landing page) | Mahmoud Ahmed | OK | OK | OK | ||||||||||||||||||||||||||||||
| 76/405 | curatedAdipoChIP 1.11.0 (landing page) | Mahmoud Ahmed | OK | OK | OK | ||||||||||||||||||||||||||||||
| 77/405 | curatedAdipoRNA 1.11.1 (landing page) | Mahmoud Ahmed | OK | OK | WARNINGS | ||||||||||||||||||||||||||||||
| 78/405 | curatedBladderData 1.31.0 (landing page) | Markus Riester | OK | OK | OK | ||||||||||||||||||||||||||||||
| 79/405 | curatedBreastData 2.23.0 (landing page) | Katie Planey | OK | OK | OK | ||||||||||||||||||||||||||||||
| 80/405 | curatedCRCData 2.27.0 (landing page) | Princy Parsana | OK | OK | OK | ||||||||||||||||||||||||||||||
| 81/405 | curatedMetagenomicData 3.3.2 (landing page) | Lucas schiffer | OK | OK | OK | ||||||||||||||||||||||||||||||
| 82/405 | curatedOvarianData 1.33.0 (landing page) | Levi Waldron | OK | OK | OK | ||||||||||||||||||||||||||||||
| 83/405 | curatedTBData 1.1.0 (landing page) | Xutao Wang | OK | OK | OK | ||||||||||||||||||||||||||||||
| 84/405 | curatedTCGAData 1.17.0 (landing page) | Marcel Ramos | OK | OK | OK | ||||||||||||||||||||||||||||||
|
| ||||||||||||||||||||||||||||||||||
| Package | Maintainer | INSTALL | BUILD | CHECK | |||||||||||||||||||||||||||||||
| 85/405 | DAPARdata 1.25.0 (landing page) | Samuel Wieczorek | OK | OK | ERROR | ||||||||||||||||||||||||||||||
| 86/405 | davidTiling 1.35.0 (landing page) | Wolfgang Huber | OK | OK | WARNINGS | ||||||||||||||||||||||||||||||
| 87/405 | depmap 1.9.1 (landing page) | Laurent Gatto | OK | OK | OK | ||||||||||||||||||||||||||||||
| 88/405 | derfinderData 2.13.1 (landing page) | Leonardo Collado-Torres | OK | OK | OK | ||||||||||||||||||||||||||||||
| 89/405 | DeSousa2013 1.31.0 (landing page) | Xin Wang | OK | OK | OK | ||||||||||||||||||||||||||||||
| 90/405 | DExMAdata 1.3.0 (landing page) | Juan Antonio Villatoro-GarcĆa | OK | OK | OK | ||||||||||||||||||||||||||||||
| 91/405 | diffloopdata 1.23.0 (landing page) | Caleb Lareau | OK | OK | OK | ||||||||||||||||||||||||||||||
| 92/405 | diggitdata 1.27.0 (landing page) | Mariano Javier Alvarez | OK | OK | OK | ||||||||||||||||||||||||||||||
| 93/405 | DLBCL 1.35.0 (landing page) | Marcus Dittrich | OK | OK | WARNINGS | ||||||||||||||||||||||||||||||
| 94/405 | DmelSGI 1.27.0 (landing page) | Mike Smith | OK | OK | OK | ||||||||||||||||||||||||||||||
| 95/405 | DMRcatedata 2.13.0 (landing page) | Tim Peters | OK | OK | OK | ||||||||||||||||||||||||||||||
| 96/405 | DonaPLLP2013 1.33.0 (landing page) | Joseph D. Barry | OK | OK | OK | ||||||||||||||||||||||||||||||
| 97/405 | dorothea 1.7.0 (landing page) | Daniel Dimitrov | OK | OK | OK | ||||||||||||||||||||||||||||||
| 98/405 | DREAM4 1.31.0 (landing page) | Paul Shannon | OK | ERROR | skipped | ||||||||||||||||||||||||||||||
| 99/405 | dressCheck 0.33.0 (landing page) | Vincent Carey | OK | OK | OK | ||||||||||||||||||||||||||||||
| 100/405 | DropletTestFiles 1.5.0 (landing page) | Aaron Lun | OK | OK | OK | ||||||||||||||||||||||||||||||
| 101/405 | DrugVsDiseasedata 1.31.0 (landing page) | J. Saez-Rodriguez | OK | OK | OK | ||||||||||||||||||||||||||||||
| 102/405 | DuoClustering2018 1.13.0 (landing page) | Angelo Duò | OK | OK | OK | ||||||||||||||||||||||||||||||
| 103/405 | DvDdata 1.31.0 (landing page) | J. Saez-Rodriguez | OK | OK | WARNINGS | ||||||||||||||||||||||||||||||
| 104/405 | dyebiasexamples 1.35.0 (landing page) | Philip Lijnzaad | OK | OK | WARNINGS | ||||||||||||||||||||||||||||||
|
| ||||||||||||||||||||||||||||||||||
| Package | Maintainer | INSTALL | BUILD | CHECK | |||||||||||||||||||||||||||||||
| 105/405 | easierData 1.1.0 (landing page) | Oscar Lapuente-Santana | OK | OK | OK | ||||||||||||||||||||||||||||||
| 106/405 | EatonEtAlChIPseq 0.33.0 (landing page) | Patrick Aboyoun | OK | OK | WARNINGS | ||||||||||||||||||||||||||||||
| 107/405 | ecoliLeucine 1.35.0 (landing page) | Laurent Gautier | OK | OK | WARNINGS | ||||||||||||||||||||||||||||||
| 108/405 | EGSEAdata 1.23.0 (landing page) | Monther Alhamdoosh | OK | OK | OK | ||||||||||||||||||||||||||||||
| 109/405 | ELMER.data 2.19.1 (landing page) | Tiago Chedraoui Silva | OK | OK | OK | ||||||||||||||||||||||||||||||
| 110/405 | emtdata 1.3.0 (landing page) | Malvika D. Kharbanda | OK | OK | OK | ||||||||||||||||||||||||||||||
| 111/405 | estrogen 1.41.0 (landing page) | Wolfgang Huber | OK | OK | OK | ||||||||||||||||||||||||||||||
| 112/405 | etec16s 1.23.0 (landing page) | Joseph N. Paulson | OK | OK | OK | ||||||||||||||||||||||||||||||
| 113/405 | ewceData 1.3.0 (landing page) | Alan Murphy | OK | OK | OK | ||||||||||||||||||||||||||||||
|
| ||||||||||||||||||||||||||||||||||
| Package | Maintainer | INSTALL | BUILD | CHECK | |||||||||||||||||||||||||||||||
| 114/405 | faahKO 1.35.0 (landing page) | Steffen Neumann | OK | OK | OK | ||||||||||||||||||||||||||||||
| 115/405 | fabiaData 1.33.0 (landing page) | Sepp Hochreiter | OK | OK | OK | ||||||||||||||||||||||||||||||
| 116/405 | FANTOM3and4CAGE 1.31.0 (landing page) | Vanja Haberle | OK | OK | OK | ||||||||||||||||||||||||||||||
| 117/405 | ffpeExampleData 1.33.0 (landing page) | Levi Waldron | OK | OK | OK | ||||||||||||||||||||||||||||||
| 118/405 | fibroEset 1.37.0 (landing page) | Sylvia Merk | OK | OK | WARNINGS | ||||||||||||||||||||||||||||||
| 119/405 | FieldEffectCrc 1.5.0 (landing page) | Christopher Dampier | OK | OK | OK | ||||||||||||||||||||||||||||||
| 120/405 | FIs 1.23.0 (landing page) | Herbert Braselmann | OK | OK | OK | ||||||||||||||||||||||||||||||
| 121/405 | fission 1.15.0 (landing page) | Michael Love | OK | OK | OK | ||||||||||||||||||||||||||||||
| 122/405 | Fletcher2013a 1.31.0 (landing page) | Mauro Castro | OK | OK | OK | ||||||||||||||||||||||||||||||
| 123/405 | Fletcher2013b 1.31.0 (landing page) | Mauro Castro | OK | OK | OK | ||||||||||||||||||||||||||||||
| 124/405 | flowPloidyData 1.21.0 (landing page) | Tyler Smith | OK | OK | OK | ||||||||||||||||||||||||||||||
| 125/405 | FlowSorted.Blood.450k 1.33.1 (landing page) | Andrew E Jaffe | OK | OK | WARNINGS | ||||||||||||||||||||||||||||||
| 126/405 | FlowSorted.Blood.EPIC 1.99.0 (landing page) | Lucas A. Salas | OK | ERROR | skipped | ||||||||||||||||||||||||||||||
| 127/405 | FlowSorted.CordBlood.450k 1.23.1 (landing page) | Shan V. Andrews | OK | OK | WARNINGS | ||||||||||||||||||||||||||||||
| 128/405 | FlowSorted.CordBloodCombined.450k 1.11.1 (landing page) | Lucas A. Salas | OK | ERROR | skipped | ||||||||||||||||||||||||||||||
| 129/405 | FlowSorted.CordBloodNorway.450k 1.21.1 (landing page) | kristina gervin | OK | OK | WARNINGS | ||||||||||||||||||||||||||||||
| 130/405 | FlowSorted.DLPFC.450k 1.31.1 (landing page) | Andrew E Jaffe | OK | OK | WARNINGS | ||||||||||||||||||||||||||||||
| 131/405 | flowWorkspaceData 3.7.0 (landing page) | Mike Jiang | OK | OK | OK | ||||||||||||||||||||||||||||||
| 132/405 | frmaExampleData 1.31.0 (landing page) | Matthew N. McCall | OK | OK | WARNINGS | ||||||||||||||||||||||||||||||
| 133/405 | furrowSeg 1.23.0 (landing page) | Joseph Barry | OK | OK | WARNINGS | ||||||||||||||||||||||||||||||
|
| ||||||||||||||||||||||||||||||||||
| Package | Maintainer | INSTALL | BUILD | CHECK | |||||||||||||||||||||||||||||||
| 134/405 | gageData 2.33.0 (landing page) | Weijun Luo | OK | OK | OK | ||||||||||||||||||||||||||||||
| 135/405 | gaschYHS 1.33.0 (landing page) | Vince Carey | OK | OK | OK | ||||||||||||||||||||||||||||||
| 136/405 | gatingMLData 2.35.0 (landing page) | J. Spidlen | OK | OK | OK | ||||||||||||||||||||||||||||||
| 137/405 | gcspikelite 1.33.0 (landing page) | Mark Robinson | OK | OK | WARNINGS | ||||||||||||||||||||||||||||||
| 138/405 | geneLenDataBase 1.31.0 (landing page) | Matthew Young | OK | OK | WARNINGS | ||||||||||||||||||||||||||||||
| 139/405 | genomationData 1.27.0 (landing page) | Vedran Franke | OK | OK | OK | ||||||||||||||||||||||||||||||
| 140/405 | GenomicDistributionsData 1.3.0 (landing page) | Kristyna Kupkova | OK | OK | OK | ||||||||||||||||||||||||||||||
| 141/405 | GeuvadisTranscriptExpr 1.23.1 (landing page) | Malgorzata Nowicka | OK | OK | OK | ||||||||||||||||||||||||||||||
| 142/405 | GIGSEAdata 1.13.0 (landing page) | Shijia Zhu | OK | OK | WARNINGS | ||||||||||||||||||||||||||||||
| 143/405 | golubEsets 1.37.0 (landing page) | Vince Carey | OK | OK | OK | ||||||||||||||||||||||||||||||
| 144/405 | gpaExample 1.7.0 (landing page) | Dongjun Chung | OK | OK | OK | ||||||||||||||||||||||||||||||
| 145/405 | grndata 1.27.0 (landing page) | Pau Bellot | OK | OK | WARNINGS | ||||||||||||||||||||||||||||||
| 146/405 | GSBenchMark 1.15.0 (landing page) | Bahman Afsari | OK | OK | OK | ||||||||||||||||||||||||||||||
| 147/405 | GSE103322 1.1.0 (landing page) | Mariano Alvarez | OK | OK | OK | ||||||||||||||||||||||||||||||
| 148/405 | GSE13015 1.3.0 (landing page) | Darawan Rinchai | OK | OK | OK | ||||||||||||||||||||||||||||||
| 149/405 | GSE159526 1.1.0 (landing page) | Victor Yuan | OK | OK | OK | ||||||||||||||||||||||||||||||
| 150/405 | GSE62944 1.23.0 (landing page) | Bioconductor Package Maintainer | OK | OK | OK | ||||||||||||||||||||||||||||||
| 151/405 | GSVAdata 1.31.0 (landing page) | Robert Castelo | OK | OK | OK | ||||||||||||||||||||||||||||||
| 152/405 | GWASdata 1.33.0 (landing page) | Stephanie Gogarten | OK | OK | OK | ||||||||||||||||||||||||||||||
|
| ||||||||||||||||||||||||||||||||||
| Package | Maintainer | INSTALL | BUILD | CHECK | |||||||||||||||||||||||||||||||
| 153/405 | h5vcData 2.15.0 (landing page) | Paul Theodor Pyl | OK | OK | OK | ||||||||||||||||||||||||||||||
| 154/405 | hapmap100khind 1.37.0 (landing page) | Benilton Carvalho | OK | OK | OK | ||||||||||||||||||||||||||||||
| 155/405 | hapmap100kxba 1.37.0 (landing page) | Benilton Carvalho | OK | OK | OK | ||||||||||||||||||||||||||||||
| 156/405 | hapmap500knsp 1.37.0 (landing page) | Benilton Carvalho | OK | OK | OK | ||||||||||||||||||||||||||||||
| 157/405 | hapmap500ksty 1.37.0 (landing page) | Benilton Carvalho | OK | OK | OK | ||||||||||||||||||||||||||||||
| 158/405 | hapmapsnp5 1.37.0 (landing page) | Benilton Carvalho | OK | OK | OK | ||||||||||||||||||||||||||||||
| 159/405 | hapmapsnp6 1.37.0 (landing page) | Benilton Carvalho | OK | OK | OK | ||||||||||||||||||||||||||||||
| 160/405 | harbChIP 1.33.0 (landing page) | VJ Carey | OK | OK | OK | ||||||||||||||||||||||||||||||
| 161/405 | HarmanData 1.23.0 (landing page) | Jason Ross | OK | OK | WARNINGS | ||||||||||||||||||||||||||||||
| 162/405 | HarmonizedTCGAData 1.17.0 (landing page) | Tianle Ma | OK | OK | OK | ||||||||||||||||||||||||||||||
| 163/405 | HCAData 1.11.0 (landing page) | Federico Marini | OK | OK | OK | ||||||||||||||||||||||||||||||
| 164/405 | HD2013SGI 1.35.0 (landing page) | Mike Smith | OK | OK | OK | ||||||||||||||||||||||||||||||
| 165/405 | HDCytoData 1.15.0 (landing page) | Lukas M. Weber | OK | OK | OK | ||||||||||||||||||||||||||||||
| 166/405 | healthyControlsPresenceChecker 0.99.18 (landing page) | Davide Chicco | OK | OK | OK | ||||||||||||||||||||||||||||||
| 167/405 | healthyFlowData 1.33.0 (landing page) | Ariful Azad | OK | OK | OK | ||||||||||||||||||||||||||||||
| 168/405 | HEEBOdata 1.33.0 (landing page) | Agnes Paquet | OK | OK | WARNINGS | ||||||||||||||||||||||||||||||
| 169/405 | HelloRangesData 1.21.0 (landing page) | Michael Lawrence | OK | OK | OK | ||||||||||||||||||||||||||||||
| 170/405 | hgu133abarcodevecs 1.33.0 (landing page) | Matthew N. McCall | OK | OK | OK | ||||||||||||||||||||||||||||||
| 171/405 | hgu133plus2barcodevecs 1.33.0 (landing page) | Matthew N. McCall | OK | OK | OK | ||||||||||||||||||||||||||||||
| 172/405 | hgu133plus2CellScore 1.15.0 (landing page) | Nancy Mah | OK | OK | WARNINGS | ||||||||||||||||||||||||||||||
| 173/405 | hgu2beta7 1.35.0 (landing page) | Bioconductor Package Maintainer | OK | OK | WARNINGS | ||||||||||||||||||||||||||||||
| 174/405 | HiCDataHumanIMR90 1.15.1 (landing page) | Nicolas Servant | OK | ERROR | skipped | ||||||||||||||||||||||||||||||
| 175/405 | HiCDataLymphoblast 1.31.0 (landing page) | Borbala Mifsud | OK | OK | OK | ||||||||||||||||||||||||||||||
| 176/405 | HighlyReplicatedRNASeq 1.7.0 (landing page) | Constantin Ahlmann-Eltze | OK | OK | OK | ||||||||||||||||||||||||||||||
| 177/405 | Hiiragi2013 1.31.0 (landing page) | Andrzej Oles | OK | OK | OK | ||||||||||||||||||||||||||||||
| 178/405 | HIVcDNAvantWout03 1.35.0 (landing page) | Chris Fraley | OK | OK | WARNINGS | ||||||||||||||||||||||||||||||
| 179/405 | HMP16SData 1.15.0 (landing page) | Lucas schiffer | OK | OK | OK | ||||||||||||||||||||||||||||||
| 180/405 | HMP2Data 1.9.0 (landing page) | John Stansfield | OK | OK | OK | ||||||||||||||||||||||||||||||
| 181/405 | HSMMSingleCell 1.15.0 (landing page) | Cole Trapnell | OK | OK | WARNINGS | ||||||||||||||||||||||||||||||
| 182/405 | HumanAffyData 1.21.0 (landing page) | Brad Nelms | OK | OK | OK | ||||||||||||||||||||||||||||||
| 183/405 | humanStemCell 0.35.0 (landing page) | R. Gentleman | OK | OK | WARNINGS | ||||||||||||||||||||||||||||||
|
| ||||||||||||||||||||||||||||||||||
| Package | Maintainer | INSTALL | BUILD | CHECK | |||||||||||||||||||||||||||||||
| 184/405 | IHWpaper 1.23.0 (landing page) | Nikos Ignatiadis | OK | OK | OK | ||||||||||||||||||||||||||||||
| 185/405 | Illumina450ProbeVariants.db 1.31.0 (landing page) | Tiffany Morris | OK | OK | OK | ||||||||||||||||||||||||||||||
| 186/405 | IlluminaDataTestFiles 1.33.0 (landing page) | Kasper Daniel Hansen | OK | OK | OK | ||||||||||||||||||||||||||||||
| 187/405 | imcdatasets 1.3.0 (landing page) | Nicolas Damond | OK | OK | OK | ||||||||||||||||||||||||||||||
| 188/405 | ITALICSData 2.33.0 (landing page) | Guillem Rigaill | OK | OK | WARNINGS | ||||||||||||||||||||||||||||||
| 189/405 | Iyer517 1.37.0 (landing page) | Vince Carey | OK | OK | OK | ||||||||||||||||||||||||||||||
|
| ||||||||||||||||||||||||||||||||||
| Package | Maintainer | INSTALL | BUILD | CHECK | |||||||||||||||||||||||||||||||
| 190/405 | JASPAR2014 1.31.0 (landing page) | Ge Tan | OK | OK | WARNINGS | ||||||||||||||||||||||||||||||
| 191/405 | JASPAR2016 1.23.0 (landing page) | Ge Tan | OK | OK | OK | ||||||||||||||||||||||||||||||
|
| ||||||||||||||||||||||||||||||||||
| Package | Maintainer | INSTALL | BUILD | CHECK | |||||||||||||||||||||||||||||||
| 192/405 | KEGGandMetacoreDzPathwaysGEO 1.15.0 (landing page) | Gaurav Bhatti | OK | OK | OK | ||||||||||||||||||||||||||||||
| 193/405 | KEGGdzPathwaysGEO 1.33.0 (landing page) | Gaurav Bhatti | OK | OK | OK | ||||||||||||||||||||||||||||||
| 194/405 | kidpack 1.37.0 (landing page) | Wolfgang Huber | OK | OK | WARNINGS | ||||||||||||||||||||||||||||||
| 195/405 | KOdata 1.21.0 (landing page) | Shana White | OK | OK | WARNINGS | ||||||||||||||||||||||||||||||
|
| ||||||||||||||||||||||||||||||||||
| Package | Maintainer | INSTALL | BUILD | CHECK | |||||||||||||||||||||||||||||||
| 196/405 | leeBamViews 1.31.0 (landing page) | VJ Carey | OK | ERROR | skipped | ||||||||||||||||||||||||||||||
| 197/405 | leukemiasEset 1.31.0 (landing page) | Sara Aibar | OK | OK | OK | ||||||||||||||||||||||||||||||
| 198/405 | LiebermanAidenHiC2009 0.33.0 (landing page) | Felix Klein | OK | OK | WARNINGS | ||||||||||||||||||||||||||||||
| 199/405 | Kamal Kishore | OK | OK | WARNINGS | |||||||||||||||||||||||||||||||
| 200/405 | LRcellTypeMarkers 1.3.0 (landing page) | Wenjing Ma | OK | OK | OK | ||||||||||||||||||||||||||||||
| 201/405 | lumiBarnes 1.35.0 (landing page) | Pan Du | OK | OK | WARNINGS | ||||||||||||||||||||||||||||||
| 202/405 | LungCancerACvsSCCGEO 1.31.0 (landing page) | Adi Laurentiu Tarca | OK | OK | OK | ||||||||||||||||||||||||||||||
| 203/405 | LungCancerLines 0.33.0 (landing page) | Cory Barr | OK | OK | OK | ||||||||||||||||||||||||||||||
| 204/405 | lungExpression 0.33.0 (landing page) | Robert Scharpf | OK | OK | OK | ||||||||||||||||||||||||||||||
| 205/405 | lydata 1.21.0 (landing page) | Alex Pickering | OK | OK | OK | ||||||||||||||||||||||||||||||
|
| ||||||||||||||||||||||||||||||||||
| Package | Maintainer | INSTALL | BUILD | CHECK | |||||||||||||||||||||||||||||||
| 206/405 | M3DExampleData 1.21.0 (landing page) | Tallulah Andrews | OK | OK | WARNINGS | ||||||||||||||||||||||||||||||
| 207/405 | macrophage 1.11.0 (landing page) | Michael Love | OK | OK | OK | ||||||||||||||||||||||||||||||
| 208/405 | MACSdata 1.3.0 (landing page) | Qiang Hu | OK | OK | OK | ||||||||||||||||||||||||||||||
| 209/405 | mammaPrintData 1.31.0 (landing page) | Luigi Marchionni | OK | OK | OK | ||||||||||||||||||||||||||||||
| 210/405 | mAPKLData 1.27.0 (landing page) | Argiris Sakellariou | OK | OK | WARNINGS | ||||||||||||||||||||||||||||||
| 211/405 | maqcExpression4plex 1.39.0 (landing page) | Benilton Carvalho | OK | OK | OK | ||||||||||||||||||||||||||||||
| 212/405 | MAQCsubset 1.33.0 (landing page) | VJ Carey | OK | OK | OK | ||||||||||||||||||||||||||||||
| 213/405 | MAQCsubsetILM 1.33.0 (landing page) | Laurent Gatto | OK | OK | OK | ||||||||||||||||||||||||||||||
| 214/405 | mCSEAdata 1.15.1 (landing page) | Jordi Martorell MarugƔn | OK | OK | WARNINGS | ||||||||||||||||||||||||||||||
| 215/405 | mcsurvdata 1.13.0 (landing page) | Adria Caballe Mestres | OK | OK | OK | ||||||||||||||||||||||||||||||
| 216/405 | MEDIPSData 1.31.1 (landing page) | Lukas Chavez | OK | OK | WARNINGS | ||||||||||||||||||||||||||||||
| 217/405 | MEEBOdata 1.33.0 (landing page) | Agnes Paquet | OK | OK | WARNINGS | ||||||||||||||||||||||||||||||
| 218/405 | MetaGxBreast 1.15.0 (landing page) | Benjamin Haibe-Kains | OK | OK | OK | ||||||||||||||||||||||||||||||
| 219/405 | MetaGxOvarian 1.15.0 (landing page) | Benjamin Haibe-Kains | OK | OK | WARNINGS | ||||||||||||||||||||||||||||||
| 220/405 | MetaGxPancreas 1.15.0 (landing page) | Benjamin Haibe-Kains | OK | OK | OK | ||||||||||||||||||||||||||||||
| 221/405 | metaMSdata 1.31.0 (landing page) | Yann Guitton | OK | OK | OK | ||||||||||||||||||||||||||||||
| 222/405 | MethylAidData 1.27.0 (landing page) | M. van Iterson | OK | OK | OK | ||||||||||||||||||||||||||||||
| 223/405 | methylclockData 1.3.0 (landing page) | Dolors Pelegri-Siso | OK | OK | WARNINGS | ||||||||||||||||||||||||||||||
| 224/405 | MethylSeqData 1.5.0 (landing page) | Peter Hickey | OK | OK | OK | ||||||||||||||||||||||||||||||
| 225/405 | microbiomeDataSets 1.3.0 (landing page) | Leo Lahti | OK | OK | OK | ||||||||||||||||||||||||||||||
| 226/405 | microRNAome 1.17.1 (landing page) | Matthew N. McCall | OK | OK | OK | ||||||||||||||||||||||||||||||
| 227/405 | MIGSAdata 1.19.0 (landing page) | Juan C. Rodriguez | OK | OK | OK | ||||||||||||||||||||||||||||||
| 228/405 | minfiData 0.41.0 (landing page) | Kasper Daniel Hansen | OK | OK | WARNINGS | ||||||||||||||||||||||||||||||
| 229/405 | minfiDataEPIC 1.21.1 (landing page) | Kasper Daniel Hansen | OK | OK | WARNINGS | ||||||||||||||||||||||||||||||
| 230/405 | minionSummaryData 1.25.0 (landing page) | Mike Smith | OK | OK | OK | ||||||||||||||||||||||||||||||
| 231/405 | miRcompData 1.25.0 (landing page) | Matthew N. McCall | OK | OK | OK | ||||||||||||||||||||||||||||||
| 232/405 | miRNATarget 1.33.0 (landing page) | Y-h. Taguchi | OK | OK | OK | ||||||||||||||||||||||||||||||
| 233/405 | MMAPPR2data 1.9.0 (landing page) | Jonathon Hill | OK | OK | OK | ||||||||||||||||||||||||||||||
| 234/405 | MMDiffBamSubset 1.31.0 (landing page) | Gabriele Schweikert | OK | OK | OK | ||||||||||||||||||||||||||||||
| 235/405 | MOFAdata 1.11.0 (landing page) | Britta Velten | OK | OK | OK | ||||||||||||||||||||||||||||||
| 236/405 | mosaicsExample 1.33.0 (landing page) | Dongjun Chung | OK | OK | OK | ||||||||||||||||||||||||||||||
| 237/405 | mouse4302barcodevecs 1.33.0 (landing page) | Matthew N. McCall | OK | OK | OK | ||||||||||||||||||||||||||||||
| 238/405 | MouseGastrulationData 1.9.0 (landing page) | Jonathan Griffiths | OK | OK | OK | ||||||||||||||||||||||||||||||
| 239/405 | MouseThymusAgeing 1.3.0 (landing page) | Mike Morgan | OK | OK | OK | ||||||||||||||||||||||||||||||
| 240/405 | msd16s 1.15.0 (landing page) | Joseph N. Paulson | OK | OK | OK | ||||||||||||||||||||||||||||||
| 241/405 | msdata 0.35.2 (landing page) | Steffen Neumann | OK | OK | OK | ||||||||||||||||||||||||||||||
| 242/405 | msigdb 1.3.0 (landing page) | Dharmesh D. Bhuva | OK | OK | WARNINGS | ||||||||||||||||||||||||||||||
| 243/405 | MSMB 1.13.0 (landing page) | Wolfgang Huber | OK | OK | WARNINGS | ||||||||||||||||||||||||||||||
| 244/405 | msPurityData 1.23.0 (landing page) | Thomas N. Lawson | OK | OK | OK | ||||||||||||||||||||||||||||||
| 245/405 | msqc1 1.23.0 (landing page) | Christian Panse | OK | OK | OK | ||||||||||||||||||||||||||||||
| 246/405 | Meena Choi | OK | ERROR | skipped | |||||||||||||||||||||||||||||||
| 247/405 | mtbls2 1.25.0 (landing page) | Steffen Neumann | OK | OK | WARNINGS | ||||||||||||||||||||||||||||||
| 248/405 | MUGAExampleData 1.15.0 (landing page) | Daniel Gatti | OK | OK | OK | ||||||||||||||||||||||||||||||
| 249/405 | muscData 1.9.0 (landing page) | Helena L. Crowell | OK | OK | ERROR | ||||||||||||||||||||||||||||||
| 250/405 | mvoutData 1.31.0 (landing page) | VJ Carey | OK | OK | OK | ||||||||||||||||||||||||||||||
|
| ||||||||||||||||||||||||||||||||||
| Package | Maintainer | INSTALL | BUILD | CHECK | |||||||||||||||||||||||||||||||
| 251/405 | NanoporeRNASeq 1.5.1 (landing page) | Ying Chen | OK | OK | OK | ||||||||||||||||||||||||||||||
| 252/405 | nanotubes 1.11.0 (landing page) | Malte Thodberg | OK | OK | OK | ||||||||||||||||||||||||||||||
| 253/405 | NCIgraphData 1.31.0 (landing page) | Laurent Jacob | OK | OK | WARNINGS | ||||||||||||||||||||||||||||||
| 254/405 | NestLink 1.11.0 (landing page) | Lennart Opitz | OK | OK | OK | ||||||||||||||||||||||||||||||
| 255/405 | Neve2006 0.33.0 (landing page) | VJ Carey | OK | OK | OK | ||||||||||||||||||||||||||||||
| 256/405 | NGScopyData 1.15.0 (landing page) | Xiaobei Zhao | OK | OK | OK | ||||||||||||||||||||||||||||||
| 257/405 | nullrangesData 1.1.0 (landing page) | Michael Love | OK | OK | OK | ||||||||||||||||||||||||||||||
| 258/405 | NxtIRFdata 1.1.0 (landing page) | Alex Chit Hei Wong | OK | OK | OK | ||||||||||||||||||||||||||||||
|
| ||||||||||||||||||||||||||||||||||
| Package | Maintainer | INSTALL | BUILD | CHECK | |||||||||||||||||||||||||||||||
| 259/405 | ObMiTi 1.3.0 (landing page) | Omar Elashkar | OK | OK | OK | ||||||||||||||||||||||||||||||
| 260/405 | oct4 1.11.0 (landing page) | Michael Love | OK | OK | OK | ||||||||||||||||||||||||||||||
| 261/405 | OMICsPCAdata 1.13.0 (landing page) | Subhadeep Das | OK | OK | WARNINGS | ||||||||||||||||||||||||||||||
| 262/405 | OnassisJavaLibs 1.17.0 (landing page) | Eugenia Galeota | OK | OK | OK | ||||||||||||||||||||||||||||||
| 263/405 | optimalFlowData 1.7.0 (landing page) | Hristo Inouzhe | OK | OK | WARNINGS | ||||||||||||||||||||||||||||||
|
| ||||||||||||||||||||||||||||||||||
| Package | Maintainer | INSTALL | BUILD | CHECK | |||||||||||||||||||||||||||||||
| 264/405 | parathyroidSE 1.33.1 (landing page) | Michael Love | OK | OK | OK | ||||||||||||||||||||||||||||||
| 265/405 | pasilla 1.23.1 (landing page) | Alejandro Reyes | OK | OK | WARNINGS | ||||||||||||||||||||||||||||||
| 266/405 | pasillaBamSubset 0.33.0 (landing page) | Hervé Pagès | OK | OK | OK | ||||||||||||||||||||||||||||||
| 267/405 | PasillaTranscriptExpr 1.23.0 (landing page) | Malgorzata Nowicka | OK | OK | OK | ||||||||||||||||||||||||||||||
| 268/405 | PathNetData 1.31.0 (landing page) | Ludwig Geistlinger | OK | OK | OK | ||||||||||||||||||||||||||||||
| 269/405 | PCHiCdata 1.23.1 (landing page) | Mikhail Spivakov | OK | OK | WARNINGS | ||||||||||||||||||||||||||||||
| 270/405 | pcxnData 2.17.0 (landing page) | Sokratis Kariotis | OK | OK | WARNINGS | ||||||||||||||||||||||||||||||
| 271/405 | pd.atdschip.tiling 0.33.1 (landing page) | Kristof De Beuf | OK | OK | WARNINGS | ||||||||||||||||||||||||||||||
| 272/405 | pepDat 1.15.1 (landing page) | Renan Sauteraud | OK | OK | OK | ||||||||||||||||||||||||||||||
| 273/405 | PepsNMRData 1.13.0 (landing page) | Manon Martin | OK | OK | WARNINGS | ||||||||||||||||||||||||||||||
| 274/405 | PhyloProfileData 1.9.0 (landing page) | Vinh Tran | OK | OK | OK | ||||||||||||||||||||||||||||||
| 275/405 | plasFIA 1.23.0 (landing page) | Alexis Delabriere | OK | OK | OK | ||||||||||||||||||||||||||||||
| 276/405 | plotgardenerData 1.1.0 (landing page) | Nicole Kramer | OK | OK | OK | ||||||||||||||||||||||||||||||
| 277/405 | ppiData 0.33.0 (landing page) | Bioconductor Package Maintainer | OK | OK | WARNINGS | ||||||||||||||||||||||||||||||
| 278/405 | prebsdata 1.31.0 (landing page) | Karolis Uziela | OK | OK | OK | ||||||||||||||||||||||||||||||
| 279/405 | preciseTADhub 1.3.0 (landing page) | Mikhail Dozmorov | OK | OK | OK | ||||||||||||||||||||||||||||||
| 280/405 | PREDAsampledata 0.35.0 (landing page) | Francesco Ferrari | OK | OK | OK | ||||||||||||||||||||||||||||||
| 281/405 | ProData 1.33.0 (landing page) | Xiaochun Li | OK | OK | OK | ||||||||||||||||||||||||||||||
| 282/405 | pRolocdata 1.33.1 (landing page) | Laurent Gatto | OK | OK | OK | ||||||||||||||||||||||||||||||
| 283/405 | prostateCancerCamcap 1.23.0 (landing page) | Mark Dunning | OK | OK | WARNINGS | ||||||||||||||||||||||||||||||
| 284/405 | prostateCancerGrasso 1.23.0 (landing page) | Mark Dunning | OK | OK | WARNINGS | ||||||||||||||||||||||||||||||
| 285/405 | prostateCancerStockholm 1.23.0 (landing page) | Mark Dunning | OK | OK | WARNINGS | ||||||||||||||||||||||||||||||
| 286/405 | prostateCancerTaylor 1.23.0 (landing page) | Mark Dunning | OK | OK | WARNINGS | ||||||||||||||||||||||||||||||
| 287/405 | prostateCancerVarambally 1.23.0 (landing page) | Mark Dunning | OK | OK | WARNINGS | ||||||||||||||||||||||||||||||
| 288/405 | ptairData 1.3.0 (landing page) | camille Roquencourt | OK | OK | OK | ||||||||||||||||||||||||||||||
| 289/405 | PtH2O2lipids 1.21.0 (landing page) | James Collins | OK | OK | WARNINGS | ||||||||||||||||||||||||||||||
| 290/405 | pumadata 2.31.0 (landing page) | Xuejun liu | OK | OK | OK | ||||||||||||||||||||||||||||||
| 291/405 | PWMEnrich.Dmelanogaster.background 4.29.0 (landing page) | Diego Diez | OK | OK | OK | ||||||||||||||||||||||||||||||
| 292/405 | PWMEnrich.Hsapiens.background 4.29.0 (landing page) | Diego Diez | OK | OK | OK | ||||||||||||||||||||||||||||||
| 293/405 | PWMEnrich.Mmusculus.background 4.29.0 (landing page) | Diego Diez | OK | OK | OK | ||||||||||||||||||||||||||||||
| 294/405 | pwrEWAS.data 1.9.0 (landing page) | Stefan Graw | OK | OK | OK | ||||||||||||||||||||||||||||||
|
| ||||||||||||||||||||||||||||||||||
| Package | Maintainer | INSTALL | BUILD | CHECK | |||||||||||||||||||||||||||||||
| 295/405 | QDNAseq.hg19 1.25.0 (landing page) | Daoud Sie | OK | OK | OK | ||||||||||||||||||||||||||||||
| 296/405 | QDNAseq.mm10 1.25.0 (landing page) | Daoud Sie | OK | OK | OK | ||||||||||||||||||||||||||||||
| 297/405 | qPLEXdata 1.13.0 (landing page) | Kamal Kishore Developer | OK | OK | WARNINGS | ||||||||||||||||||||||||||||||
| 298/405 | QUBICdata 1.23.0 (landing page) | Yu Zhang | OK | OK | OK | ||||||||||||||||||||||||||||||
|
| ||||||||||||||||||||||||||||||||||
| Package | Maintainer | INSTALL | BUILD | CHECK | |||||||||||||||||||||||||||||||
| 299/405 | rcellminerData 2.17.0 (landing page) | Augustin Luna | OK | OK | WARNINGS | ||||||||||||||||||||||||||||||
| 300/405 | RcisTarget.hg19.motifDBs.cisbpOnly.500bp 1.15.0 (landing page) | Sara Aibar | OK | OK | OK | ||||||||||||||||||||||||||||||
| 301/405 | ReactomeGSA.data 1.9.0 (landing page) | Johannes Griss | OK | OK | OK | ||||||||||||||||||||||||||||||
| 302/405 | RegParallel 1.13.0 (landing page) | Kevin Blighe | OK | OK | OK | ||||||||||||||||||||||||||||||
| 303/405 | restfulSEData 1.17.1 (landing page) | Bioconductor Package Maintainer | OK | ERROR | skipped | ||||||||||||||||||||||||||||||
| 304/405 | RforProteomics 1.33.0 (landing page) | Laurent Gatto | OK | ERROR | skipped | ||||||||||||||||||||||||||||||
| 305/405 | RGMQLlib 1.15.0 (landing page) | Simone Pallotta | OK | OK | OK | ||||||||||||||||||||||||||||||
| 306/405 | rheumaticConditionWOLLBOLD 1.33.0 (landing page) | Alejandro Quiroz-Zarate | OK | OK | OK | ||||||||||||||||||||||||||||||
| 307/405 | RLHub 1.1.0 (landing page) | Henry Miller | OK | OK | OK | ||||||||||||||||||||||||||||||
| 308/405 | RMassBankData 1.33.0 (landing page) | Michael Stravs, Emma Schymanski | OK | OK | OK | ||||||||||||||||||||||||||||||
| 309/405 | RNAinteractMAPK 1.33.0 (landing page) | Mike Smith | OK | OK | OK | ||||||||||||||||||||||||||||||
| 310/405 | RNAmodR.Data 1.9.0 (landing page) | Felix G.M. Ernst | OK | OK | OK | ||||||||||||||||||||||||||||||
| 311/405 | RNAseqData.HNRNPC.bam.chr14 0.33.0 (landing page) | Hervé Pagès | OK | OK | OK | ||||||||||||||||||||||||||||||
| 312/405 | RNASeqRData 1.13.0 (landing page) | Kuan-Hao Chao | OK | OK | OK | ||||||||||||||||||||||||||||||
| 313/405 | RnaSeqSampleSizeData 1.27.0 (landing page) | Shilin Zhao | OK | OK | OK | ||||||||||||||||||||||||||||||
| 314/405 | RnBeads.hg19 1.27.1 (landing page) | RnBeadsAnnotationCreator | OK | OK | WARNINGS | ||||||||||||||||||||||||||||||
| 315/405 | RnBeads.hg38 1.27.1 (landing page) | RnBeadsAnnotationCreator | OK | OK | OK | ||||||||||||||||||||||||||||||
| 316/405 | RnBeads.mm10 2.3.1 (landing page) | RnBeads Team | OK | OK | OK | ||||||||||||||||||||||||||||||
| 317/405 | RnBeads.mm9 1.27.1 (landing page) | RnBeadsAnnotationCreator | OK | OK | WARNINGS | ||||||||||||||||||||||||||||||
| 318/405 | RnBeads.rn5 1.27.1 (landing page) | RnBeadsAnnotationCreator | OK | OK | OK | ||||||||||||||||||||||||||||||
| 319/405 | RRBSdata 1.15.1 (landing page) | Katja Hebestreit | OK | ERROR | skipped | ||||||||||||||||||||||||||||||
| 320/405 | rRDPData 1.15.0 (landing page) | Michael Hahsler | OK | OK | OK | ||||||||||||||||||||||||||||||
| 321/405 | RTCGA.clinical 20151101.25.0 (landing page) | Marcin Kosinski | OK | OK | WARNINGS | ||||||||||||||||||||||||||||||
| 322/405 | RTCGA.CNV 1.23.0 (landing page) | Marcin Kosinski | OK | OK | WARNINGS | ||||||||||||||||||||||||||||||
| 323/405 | RTCGA.methylation 1.23.0 (landing page) | Marcin Kosinski | OK | OK | WARNINGS | ||||||||||||||||||||||||||||||
| 324/405 | RTCGA.miRNASeq 1.23.0 (landing page) | Marcin Kosinski | OK | OK | WARNINGS | ||||||||||||||||||||||||||||||
| 325/405 | RTCGA.mRNA 1.23.0 (landing page) | Marcin Kosinski | OK | OK | WARNINGS | ||||||||||||||||||||||||||||||
| 326/405 | RTCGA.mutations 20151101.25.0 (landing page) | Marcin Kosinski | OK | OK | WARNINGS | ||||||||||||||||||||||||||||||
| 327/405 | RTCGA.PANCAN12 1.23.0 (landing page) | Marcin Kosinski | OK | OK | OK | ||||||||||||||||||||||||||||||
| 328/405 | RTCGA.rnaseq 20151101.25.0 (landing page) | Marcin Kosinski | OK | OK | WARNINGS | ||||||||||||||||||||||||||||||
| 329/405 | RTCGA.RPPA 1.23.0 (landing page) | Marcin Kosinski | OK | OK | WARNINGS | ||||||||||||||||||||||||||||||
| 330/405 | RUVnormalizeData 1.15.0 (landing page) | Laurent Jacob | OK | OK | OK | ||||||||||||||||||||||||||||||
|
| ||||||||||||||||||||||||||||||||||
| Package | Maintainer | INSTALL | BUILD | CHECK | |||||||||||||||||||||||||||||||
| 331/405 | sampleClassifierData 1.19.1 (landing page) | Khadija El Amrani | OK | OK | OK | ||||||||||||||||||||||||||||||
| 332/405 | SBGNview.data 1.9.1 (landing page) | Weijun Luo | OK | OK | OK | ||||||||||||||||||||||||||||||
| 333/405 | scanMiRData 1.1.0 (landing page) | Fridolin Gross | OK | OK | OK | ||||||||||||||||||||||||||||||
| 334/405 | scATAC.Explorer 1.1.1 (landing page) | Arrian Gibson-Khademi | OK | OK | OK | ||||||||||||||||||||||||||||||
| 335/405 | SCATEData 1.5.1 (landing page) | Wenpin Hou | OK | OK | OK | ||||||||||||||||||||||||||||||
| 336/405 | SCLCBam 1.27.0 (landing page) | Oscar Krijgsman | OK | OK | OK | ||||||||||||||||||||||||||||||
| 337/405 | scpdata 1.3.0 (landing page) | Christophe Vanderaa | OK | OK | ERROR | ||||||||||||||||||||||||||||||
| 338/405 | scRNAseq 2.9.2 (landing page) | Aaron Lun | OK | OK | WARNINGS | ||||||||||||||||||||||||||||||
| 339/405 | scTHI.data 1.7.0 (landing page) | Michele Ceccarelli | OK | OK | OK | ||||||||||||||||||||||||||||||
| 340/405 | seq2pathway.data 1.27.0 (landing page) | Arjun Kinstlick | OK | OK | WARNINGS | ||||||||||||||||||||||||||||||
| 341/405 | seqc 1.29.0 (landing page) | Yang Liao | OK | OK | WARNINGS | ||||||||||||||||||||||||||||||
| 342/405 | seqCNA.annot 1.31.0 (landing page) | David Mosen-Ansorena | OK | OK | OK | ||||||||||||||||||||||||||||||
| 343/405 | serumStimulation 1.31.0 (landing page) | Morten Hansen, | OK | OK | OK | ||||||||||||||||||||||||||||||
| 344/405 | sesameData 1.13.5 (landing page) | Wanding Zhou | OK | OK | OK | ||||||||||||||||||||||||||||||
| 345/405 | seventyGeneData 1.31.0 (landing page) | Luigi Marchionni | OK | OK | OK | ||||||||||||||||||||||||||||||
| 346/405 | shinyMethylData 1.15.0 (landing page) | Jean-Philippe Fortin | OK | OK | WARNINGS | ||||||||||||||||||||||||||||||
| 347/405 | signatureSearchData 1.9.2 (landing page) | Yuzhu Duan | OK | OK | OK | ||||||||||||||||||||||||||||||
| 348/405 | SimBenchData 1.3.0 (landing page) | Yue Cao | OK | OK | OK | ||||||||||||||||||||||||||||||
| 349/405 | simpIntLists 1.31.0 (landing page) | Kircicegi Korkmaz | OK | OK | WARNINGS | ||||||||||||||||||||||||||||||
| 350/405 | Single.mTEC.Transcriptomes 1.23.1 (landing page) | Alejandro Reyes | OK | ERROR | skipped | ||||||||||||||||||||||||||||||
| 351/405 | SingleCellMultiModal 1.7.0 (landing page) | Marcel Ramos | OK | OK | OK | ||||||||||||||||||||||||||||||
| 352/405 | SingleMoleculeFootprintingData 1.3.0 (landing page) | Guido Barzaghi | OK | OK | OK | ||||||||||||||||||||||||||||||
| 353/405 | SNAData 1.41.0 (landing page) | Denise Scholtens | OK | OK | OK | ||||||||||||||||||||||||||||||
| 354/405 | SNAGEEdata 1.31.0 (landing page) | David Venet | OK | OK | OK | ||||||||||||||||||||||||||||||
| 355/405 | SNPhoodData 1.25.0 (landing page) | Christian Arnold | OK | OK | OK | ||||||||||||||||||||||||||||||
| 356/405 | SomatiCAData 1.33.0 (landing page) | Mengjie Chen | OK | OK | WARNINGS | ||||||||||||||||||||||||||||||
| 357/405 | SomaticCancerAlterations 1.31.1 (landing page) | Julian Gehring | OK | OK | OK | ||||||||||||||||||||||||||||||
| 358/405 | spatialDmelxsim 1.1.0 (landing page) | Michael Love | OK | OK | OK | ||||||||||||||||||||||||||||||
| 359/405 | spatialLIBD 1.7.6 (landing page) | Leonardo Collado-Torres | OK | OK | OK | ||||||||||||||||||||||||||||||
| 360/405 | SpikeIn 1.37.0 (landing page) | Rafael A. Irizarry | OK | OK | WARNINGS | ||||||||||||||||||||||||||||||
| 361/405 | SpikeInSubset 1.35.0 (landing page) | Rafael A. Irizarry | OK | OK | WARNINGS | ||||||||||||||||||||||||||||||
| 362/405 | spqnData 1.7.1 (landing page) | Yi Wang | OK | OK | OK | ||||||||||||||||||||||||||||||
| 363/405 | stemHypoxia 1.31.0 (landing page) | Cristobal Fresno | OK | OK | OK | ||||||||||||||||||||||||||||||
| 364/405 | STexampleData 1.3.0 (landing page) | Lukas M. Weber | OK | OK | OK | ||||||||||||||||||||||||||||||
| 365/405 | stjudem 1.35.0 (landing page) | Joern Toedling | OK | OK | OK | ||||||||||||||||||||||||||||||
| 366/405 | SVM2CRMdata 1.27.0 (landing page) | Guidantonio Malagoli Tagliazucchi | OK | OK | WARNINGS | ||||||||||||||||||||||||||||||
| 367/405 | synapterdata 1.33.0 (landing page) | Laurent Gatto | OK | OK | OK | ||||||||||||||||||||||||||||||
| 368/405 | systemPipeRdata 1.23.0 (landing page) | Thomas Girke | OK | OK | OK | ||||||||||||||||||||||||||||||
|
| ||||||||||||||||||||||||||||||||||
| Package | Maintainer | INSTALL | BUILD | CHECK | |||||||||||||||||||||||||||||||
| 369/405 | TabulaMurisData 1.13.0 (landing page) | Charlotte Soneson | OK | OK | OK | ||||||||||||||||||||||||||||||
| 370/405 | TabulaMurisSenisData 1.1.0 (landing page) | Charlotte Soneson | OK | OK | OK | ||||||||||||||||||||||||||||||
| 371/405 | TargetScoreData 1.31.0 (landing page) | Yue Li | OK | OK | OK | ||||||||||||||||||||||||||||||
| 372/405 | TargetSearchData 1.33.0 (landing page) | Alvaro Cuadros-Inostroza | OK | OK | OK | ||||||||||||||||||||||||||||||
| 373/405 | tartare 1.9.0 (landing page) | Christian Panse | OK | OK | OK | ||||||||||||||||||||||||||||||
| 374/405 | TBX20BamSubset 1.31.0 (landing page) | D. Bindreither | OK | OK | OK | ||||||||||||||||||||||||||||||
| 375/405 | TCGAbiolinksGUI.data 1.15.0 (landing page) | Tiago Chedraoui Silva | OK | OK | OK | ||||||||||||||||||||||||||||||
| 376/405 | TCGAcrcmiRNA 1.15.0 (landing page) | Claudio Isella | OK | OK | OK | ||||||||||||||||||||||||||||||
| 377/405 | TCGAcrcmRNA 1.15.0 (landing page) | Claudio Isella | OK | OK | OK | ||||||||||||||||||||||||||||||
| 378/405 | TCGAMethylation450k 1.31.0 (landing page) | Sean Davis | OK | OK | OK | ||||||||||||||||||||||||||||||
| 379/405 | TCGAWorkflowData 1.19.1 (landing page) | Tiago Chedraoui Silva | OK | OK | WARNINGS | ||||||||||||||||||||||||||||||
| 380/405 | TENxBrainData 1.15.0 (landing page) | Bioconductor Package Maintainer | OK | OK | OK | ||||||||||||||||||||||||||||||
| 381/405 | TENxBUSData 1.9.0 (landing page) | Lambda Moses | OK | OK | OK | ||||||||||||||||||||||||||||||
| 382/405 | TENxPBMCData 1.13.0 (landing page) | Stephanie Hicks | OK | OK | OK | ||||||||||||||||||||||||||||||
| 383/405 | TENxVisiumData 1.3.0 (landing page) | Helena L. Crowell | OK | OK | OK | ||||||||||||||||||||||||||||||
| 384/405 | timecoursedata 1.5.0 (landing page) | Nelle Varoquaux | OK | OK | OK | ||||||||||||||||||||||||||||||
| 385/405 | TimerQuant 1.25.0 (landing page) | Joseph Barry | OK | OK | OK | ||||||||||||||||||||||||||||||
| 386/405 | tinesath1cdf 1.33.0 (landing page) | Tine Casneuf | OK | OK | WARNINGS | ||||||||||||||||||||||||||||||
| 387/405 | tinesath1probe 1.33.0 (landing page) | Tine Casneuf | OK | OK | WARNINGS | ||||||||||||||||||||||||||||||
| 388/405 | tissueTreg 1.15.0 (landing page) | Charles Imbusch | OK | OK | OK | ||||||||||||||||||||||||||||||
| 389/405 | TMExplorer 1.5.0 (landing page) | Erik Christensen | OK | OK | OK | ||||||||||||||||||||||||||||||
| 390/405 | tofsimsData 1.23.0 (landing page) | Lorenz Gerber | OK | OK | WARNINGS | ||||||||||||||||||||||||||||||
| 391/405 | topdownrdata 1.17.0 (landing page) | Sebastian Gibb | OK | OK | OK | ||||||||||||||||||||||||||||||
| 392/405 | tuberculosis 1.1.0 (landing page) | Lucas Schiffer | OK | OK | OK | ||||||||||||||||||||||||||||||
| 393/405 | tweeDEseqCountData 1.33.0 (landing page) | Juan R Gonzalez | OK | OK | OK | ||||||||||||||||||||||||||||||
| 394/405 | tximportData 1.23.0 (landing page) | Michael Love | OK | OK | OK | ||||||||||||||||||||||||||||||
|
| ||||||||||||||||||||||||||||||||||
| Package | Maintainer | INSTALL | BUILD | CHECK | |||||||||||||||||||||||||||||||
| 395/405 | VariantToolsData 1.19.1 (landing page) | Michael Lawrence | OK | OK | OK | ||||||||||||||||||||||||||||||
| 396/405 | vulcandata 1.17.0 (landing page) | Federico M. Giorgi | OK | OK | OK | ||||||||||||||||||||||||||||||
|
| ||||||||||||||||||||||||||||||||||
| Package | Maintainer | INSTALL | BUILD | CHECK | |||||||||||||||||||||||||||||||
| 397/405 | WES.1KG.WUGSC 1.27.0 (landing page) | Yuchao Jiang | OK | OK | OK | ||||||||||||||||||||||||||||||
| 398/405 | WGSmapp 1.7.1 (landing page) | Rujin Wang | OK | OK | WARNINGS | ||||||||||||||||||||||||||||||
|
| ||||||||||||||||||||||||||||||||||
| Package | Maintainer | INSTALL | BUILD | CHECK | |||||||||||||||||||||||||||||||
| 399/405 | XhybCasneuf 1.33.0 (landing page) | Tineke Casneuf | OK | OK | WARNINGS | ||||||||||||||||||||||||||||||
|
| ||||||||||||||||||||||||||||||||||
| Package | Maintainer | INSTALL | BUILD | CHECK | |||||||||||||||||||||||||||||||
| 400/405 | yeastCC 1.35.0 (landing page) | Sandrine Dudoit | OK | OK | WARNINGS | ||||||||||||||||||||||||||||||
| 401/405 | yeastExpData 0.41.0 (landing page) | R. Gentleman | OK | OK | WARNINGS | ||||||||||||||||||||||||||||||
| 402/405 | yeastGSData 0.33.0 (landing page) | R. Gentleman | OK | OK | WARNINGS | ||||||||||||||||||||||||||||||
| 403/405 | yeastNagalakshmi 1.31.0 (landing page) | Bioconductor Package Maintainer | OK | OK | OK | ||||||||||||||||||||||||||||||
| 404/405 | yeastRNASeq 0.33.0 (landing page) | J. Bullard | OK | OK | WARNINGS | ||||||||||||||||||||||||||||||
|
| ||||||||||||||||||||||||||||||||||
| Package | Maintainer | INSTALL | BUILD | CHECK | |||||||||||||||||||||||||||||||
| 405/405 | zebrafishRNASeq 1.15.0 (landing page) | Davide Risso | OK | OK | OK | ||||||||||||||||||||||||||||||