| Back to Build/check report for BioC 3.15 experimental data |
|
This page was generated on 2022-02-17 08:36:54 -0500 (Thu, 17 Feb 2022).
| Hostname | OS | Arch (*) | R version | Installed pkgs |
|---|---|---|---|---|
| nebbiolo2 | Linux (Ubuntu 20.04.4 LTS) | x86_64 | R Under development (unstable) (2022-01-05 r81451) -- "Unsuffered Consequences" | 1362 |
| Click on any hostname to see more info about the system (e.g. compilers) (*) as reported by 'uname -p', except on Windows and Mac OS X | ||||
|
To the developers/maintainers of the spatialDmelxsim package: Make sure to use the following settings in order to reproduce any error or warning you see on this page. |
| Package 359/406 | Hostname | OS / Arch | INSTALL | BUILD | CHECK | ||||||||
| spatialDmelxsim 1.1.0 (landing page) Michael Love
| nebbiolo2 | Linux (Ubuntu 20.04.4 LTS) / x86_64 | OK | OK | OK | ||||||||
| Package: spatialDmelxsim |
| Version: 1.1.0 |
| Command: /home/biocbuild/bbs-3.15-data-experiment/R/bin/R CMD INSTALL spatialDmelxsim |
| StartedAt: 2022-02-17 05:06:16 -0500 (Thu, 17 Feb 2022) |
| EndedAt: 2022-02-17 05:06:55 -0500 (Thu, 17 Feb 2022) |
| EllapsedTime: 39.4 seconds |
| RetCode: 0 |
| Status: OK |
############################################################################## ############################################################################## ### ### Running command: ### ### /home/biocbuild/bbs-3.15-data-experiment/R/bin/R CMD INSTALL spatialDmelxsim ### ############################################################################## ############################################################################## * installing to library ‘/home/biocbuild/bbs-3.15-data-experiment/R/library’ * installing *source* package ‘spatialDmelxsim’ ... ** using staged installation ** R ** inst ** byte-compile and prepare package for lazy loading ** help *** installing help indices *** copying figures ** building package indices ** installing vignettes ** testing if installed package can be loaded from temporary location snapshotDate(): 2022-02-15 ** testing if installed package can be loaded from final location snapshotDate(): 2022-02-15 ** testing if installed package keeps a record of temporary installation path * DONE (spatialDmelxsim)